{"text_format":"1","workbook":"xlsx","n_sheets":8,"sheets":["基本項目","入力","印刷用【簡易版】","国民健康保険税軽減早見表H26から","所得計算","軽減について","基礎控除","未就学児"],"not_rendered":{"charts":0,"images":1,"macros":1,"external_links":0,"defined_names":1,"comments":1,"pivot_tables":0},"unopened":[],"bounds":{"document_bytes":16777216,"sheet_cells":100000,"rows_first":2000,"rows_last":500,"rows_between":2000,"halvings":0,"cell_chars":16384,"cell_head_chars":4096},"cells_cut":0,"cells_raw":0,"read":"whole","date_system":"1900"}

{"sheet":"基本項目","index":0,"n_rows":13,"n_cols":16,"rows_kept":13,"cut":false,"hidden":true,"merged":[[1,14,1,15],[1,8,1,10]]}
[]
[null,"年度","今日現在","年金所得\n基準日","年齢基準日",null,"納期","納期限","国保加入の届出月",null,null,"該当",{"$f":"SUM(入力!$CN$153)","v":0},null,"国保加入の届出月"]
[null,8,{"$f":"TODAY()","v":"2026-06-26"},{"$f":"VALUE(\"R\"&基本項目!$B$3&\".1.1\")","v":"2026-01-01"},{"$f":"VALUE(\"R\"&基本項目!$B$3+1&\".4.1\")","v":"2027-04-01"},null,"第１期","2026-07-31",4,5,6,{"$f":"IF($O$3=\"\",\"\",IF(OR($O$3=I3,$O$3=J3,$O$3=K3),\"〇\",\"\"))","v":""},{"$f":"IF(L3=\"〇\",SUM($P$5),\"\")","v":""},null,{"$f":"IF(入力!$CP$8=\"\",\"\",入力!$CP$8)","v":""},"月"]
[null,null,null,null,null,null,"第２期","2026-08-31",7,null,null,{"$f":"IF($O$3=\"\",\"\",IF(L3=\"〇\",\"〇\",IF(OR($O$3=I4,$O$3=J4,$O$3=K4),\"〇\",\"\")))","v":""},{"$f":"IF(L4=\"\",\"\",IF(AND(L4=\"〇\",COUNTIF(L$3:L4,\"〇\")=1),SUM($P$5),SUM($P$6)))","v":""}]
[null,null,null,null,null,null,"第３期","2026-09-30",8,null,null,"",{"$f":"IF(L5=\"\",\"\",IF(AND(L5=\"〇\",COUNTIF(L$3:L5,\"〇\")=1),SUM($P$5),SUM($P$6)))","v":""},null,"当初金額",{"$f":"IF(COUNTIF($L$3:$L$10,\"〇\")=0,\"\",SUM($M$2)-ROUNDDOWN(SUM($M$2)/COUNTIF($L$3:$L$10,\"〇\"),-2)*(COUNTIF($L$3:$L$10,\"〇\")-1))","v":""}]
[null,null,null,null,null,null,"第４期","2026-11-02",9,null,null,"",{"$f":"IF(L6=\"\",\"\",IF(AND(L6=\"〇\",COUNTIF(L$3:L6,\"〇\")=1),SUM($P$5),SUM($P$6)))","v":""},null,"それ以外",{"$f":"IF(COUNTIF($L$3:$L$10,\"〇\")=0,\"\",ROUNDDOWN(SUM($M$2)/COUNTIF($L$3:$L$10,\"〇\"),-2))","v":""}]
[null,null,null,null,null,null,"第５期","2026-11-30",10,null,null,"",{"$f":"IF(L7=\"\",\"\",IF(AND(L7=\"〇\",COUNTIF(L$3:L7,\"〇\")=1),SUM($P$5),SUM($P$6)))","v":""}]
[null,null,null,null,null,null,"第６期","2026-12-25",11,null,null,"",{"$f":"IF($O$3=\"\",\"\",IF(L8=\"\",\"\",IF(AND(L8=\"〇\",COUNTIF(L$3:L8,\"〇\")=1),SUM($P$5),SUM($P$6))))","v":""}]
[null,null,null,null,null,null,"第７期","2027-02-01",12,null,null,"",{"$f":"IF(L9=\"\",\"\",IF(AND(L9=\"〇\",COUNTIF(L$3:L9,\"〇\")=1),SUM($P$5),SUM($P$6)))","v":""}]
[null,null,null,null,null,null,"第８期","2027-03-01",1,null,null,"",{"$f":"IF(L10=\"\",\"\",IF(AND(L10=\"〇\",COUNTIF(L$3:L10,\"〇\")=1),SUM($P$5),SUM($P$6)))","v":""}]
[null,null,null,null,null,null,"随時期１","2027-03-31",2,null,null,{"$f":"IF($O$3=\"\",\"\",IF(OR($O$3=I11,$O$3=J11,$O$3=K11),\"〇\",\"\"))","v":""},{"$f":"IF(L11=\"〇\",SUM($M$2),\"\")","v":""}]
[null,null,null,null,null,null,"随時期２","2027-05-31",3,null,null,{"$f":"IF($O$3=\"\",\"\",IF(OR($O$3=I12,$O$3=J12,$O$3=K12),\"〇\",\"\"))","v":""},{"$f":"IF(L12=\"〇\",SUM($M$2),\"\")","v":""}]
[null,null,null,null,null,null,"注：４月末納期限は減額のみなので，３月に新規加入届出の納期限は５月末となる。"]

{"sheet":"入力","index":1,"n_rows":166,"n_cols":472,"rows_kept":166,"cut":false,"hidden":false,"merged":[[148,114,153,149],[122,52,122,59],[122,60,122,67],[122,68,122,75],[122,76,122,83],[122,84,122,91],[122,92,122,99],[122,100,122,107],[122,108,122,115],[122,116,122,123],[122,124,122,131],[120,20,120,51],[120,52,120,75],[120,76,120,99],[120,100,120,131],[121,28,121,35],[121,36,121,43],[121,44,121,51],[121,52,121,59],[121,60,121,67],[121,68,121,75],[121,76,121,83],[121,84,121,91],[121,92,121,99],[121,100,121,107],[121,108,121,115],[121,116,121,123],[121,124,121,131],[124,52,124,75],[124,76,124,99],[124,100,124,131],[125,20,126,27],[125,28,126,35],[125,36,126,43],[125,44,126,51],[125,52,126,59],[125,60,126,67],[125,68,126,75],[125,76,126,83],[125,84,126,91],[125,92,126,99],[125,100,126,107],[125,108,126,115],[125,116,126,123],[125,124,126,131],[127,124,127,131],[128,124,128,131],[129,124,129,131],[130,124,130,131],[131,124,131,131],[132,124,132,131],[133,124,133,131],[134,124,134,131],[135,124,135,131],[136,124,136,131],[137,124,137,131],[127,132,127,139],[128,132,128,139],[129,132,129,139],[130,132,130,139],[131,132,131,139],[132,132,132,139],[133,132,133,139],[134,132,134,139],[135,132,135,139],[136,132,136,139],[137,132,137,139],[127,108,127,115],[128,108,128,115],[129,108,129,115],[130,108,130,115],[131,108,131,115],[132,108,132,115],[133,108,133,115],[134,108,134,115],[135,108,135,115],[136,108,136,115],[137,108,137,115],[130,116,130,123],[131,116,131,123],[132,116,132,123],[133,116,133,123],[134,116,134,123],[135,116,135,123],[136,116,136,123],[137,116,137,123],[127,116,127,123],[128,116,128,123],[129,116,129,123],[127,92,127,99],[128,92,128,99],[129,92,129,99],[130,92,130,99],[131,92,131,99],[132,92,132,99],[133,92,133,99],[134,92,134,99],[135,92,135,99],[136,92,136,99],[137,92,137,99],[127,100,127,107],[128,100,128,107],[129,100,129,107],[130,100,130,107],[131,100,131,107],[132,100,132,107],[133,100,133,107],[134,100,134,107],[135,100,135,107],[136,100,136,107],[137,100,137,107],[127,76,127,83],[128,76,128,83],[129,76,129,83],[130,76,130,83],[131,76,131,83],[132,76,132,83],[133,76,133,83],[134,76,134,83],[135,76,135,83],[136,76,136,83],[137,76,137,83],[127,84,127,91],[128,84,128,91],[129,84,129,91],[130,84,130,91],[131,84,131,91],[132,84,132,91],[133,84,133,91],[134,84,134,91],[135,84,135,91],[136,84,136,91],[137,84,137,91],[127,60,127,67],[128,60,128,67],[129,60,129,67],[130,60,130,67],[131,60,131,67],[132,60,132,67],[133,60,133,67],[134,60,134,67],[135,60,135,67],[136,60,136,67],[137,60,137,67],[127,68,127,75],[128,68,128,75],[129,68,129,75],[130,68,130,75],[131,68,131,75],[132,68,132,75],[133,68,133,75],[134,68,134,75],[135,68,135,75],[136,68,136,75],[137,68,137,75],[137,36,137,43],[127,44,127,51],[128,44,128,51],[129,44,129,51],[130,44,130,51],[131,44,131,51],[132,44,132,51],[133,44,133,51],[134,44,134,51],[135,44,135,51],[136,44,136,51],[137,44,137,51],[127,52,127,59],[128,52,128,59],[129,52,129,59],[130,52,130,59],[131,52,131,59],[132,52,132,59],[133,52,133,59],[134,52,134,59],[135,52,135,59],[136,52,136,59],[137,52,137,59],[130,20,130,27],[131,20,131,27],[132,20,132,27],[133,20,133,27],[134,20,134,27],[135,20,135,27],[136,20,136,27],[137,20,137,27],[127,28,127,35],[128,28,128,35],[129,28,129,35],[130,28,130,35],[131,28,131,35],[132,28,132,35],[133,28,133,35],[134,28,134,35],[135,28,135,35],[136,28,136,35],[124,132,126,139],[137,3,137,19],[137,28,137,35],[136,1,136,2],[136,3,136,9],[136,10,136,16],[136,17,136,19],[135,1,135,2],[135,3,135,9],[135,10,135,16],[135,17,135,19],[134,1,134,2],[134,3,134,9],[134,10,134,16],[134,17,134,19],[133,1,133,2],[133,3,133,9],[133,10,133,16],[133,17,133,19],[132,1,132,2],[132,3,132,9],[132,10,132,16],[132,17,132,19],[131,1,131,2],[131,3,131,9],[131,10,131,16],[131,17,131,19],[130,1,130,2],[130,3,130,9],[130,10,130,16],[130,17,130,19],[129,1,129,2],[129,3,129,9],[129,10,129,16],[129,17,129,19],[128,1,128,2],[128,3,128,9],[128,10,128,16],[128,17,128,19],[127,1,127,2],[127,3,127,9],[127,10,127,16],[127,17,127,19],[124,3,124,19],[125,3,126,9],[125,10,126,16],[125,17,126,19],[118,1,119,8],[122,20,122,27],[121,20,121,27],[127,20,127,27],[128,20,128,27],[129,20,129,27],[124,20,124,51],[122,28,122,35],[122,36,122,43],[122,44,122,51],[163,87,164,112],[165,87,166,112],[155,70,156,86],[157,70,158,86],[159,70,160,86],[161,70,162,86],[163,70,164,86],[165,70,166,86],[155,15,156,31],[157,15,158,31],[159,15,160,31],[161,15,162,31],[163,15,164,31],[165,15,166,31],[155,32,156,57],[157,32,158,57],[159,32,160,57],[161,32,162,57],[163,32,164,57],[165,32,166,57],[113,190,113,214],[148,69,151,90],[152,69,153,90],[155,87,156,112],[157,87,158,112],[159,87,160,112],[161,87,162,112],[110,104,110,110],[111,104,111,110],[103,133,103,139],[104,133,104,139],[105,133,105,139],[106,133,106,139],[107,133,107,139],[108,133,108,139],[109,133,109,139],[110,133,110,139],[111,133,111,139],[116,104,116,110],[116,133,116,139],[103,76,103,82],[104,76,104,82],[105,76,105,82],[106,76,106,82],[107,76,107,82],[108,76,108,82],[109,76,109,82],[110,76,110,82],[111,76,111,82],[103,104,103,110],[104,104,104,110],[105,104,105,110],[106,104,106,110],[107,104,107,110],[108,104,108,110],[109,104,109,110],[113,3,113,19],[113,20,113,26],[113,27,113,33],[113,34,113,40],[113,41,113,47],[113,48,113,54],[113,55,113,61],[113,69,113,75],[113,76,113,82],[113,83,113,89],[113,90,113,96],[113,97,113,103],[112,48,112,54],[113,156,113,158],[113,159,113,161],[113,162,113,164],[113,165,113,167],[113,168,113,170],[113,171,113,173],[113,174,113,176],[113,177,113,179],[113,180,113,182],[113,183,113,185],[113,186,113,189],[114,62,114,68],[112,1,112,2],[112,3,112,9],[112,10,112,16],[112,17,112,19],[112,111,112,114],[112,140,112,145],[112,119,112,125],[112,126,112,132],[112,133,112,139],[112,150,112,152],[112,153,112,155],[112,156,112,158],[112,159,112,161],[112,162,112,164],[112,165,112,167],[112,168,112,170],[112,20,112,26],[112,27,112,33],[112,34,112,40],[112,41,112,47],[111,140,111,145],[109,140,109,145],[107,140,107,145],[105,140,105,145],[103,115,112,118],[103,140,103,145],[104,140,104,145],[100,3,100,19],[100,20,100,40],[100,41,100,68],[100,69,100,82],[100,83,100,110],[100,111,100,118],[100,119,100,139],[101,3,102,9],[101,10,102,16],[101,17,102,19],[101,111,102,114],[101,115,102,118],[101,119,102,125],[101,126,102,132],[101,133,102,139],[102,76,102,82],[102,104,102,110],[112,55,112,61],[112,62,112,68],[112,69,112,75],[104,126,104,132],[102,20,102,26],[102,27,102,33],[102,34,102,40],[102,41,102,47],[112,190,112,214],[113,62,113,68],[113,104,113,110],[113,133,113,139],[114,104,114,110],[114,133,114,139],[115,104,115,110],[115,133,115,139],[102,62,102,68],[103,62,103,68],[104,62,104,68],[105,62,105,68],[106,62,106,68],[107,62,107,68],[108,62,108,68],[109,62,109,68],[110,62,110,68],[111,62,111,68],[106,140,106,145],[108,140,108,145],[110,140,110,145],[111,186,111,189],[111,190,111,214],[112,76,112,82],[112,83,112,89],[112,90,112,96],[112,97,112,103],[112,104,112,110],[113,119,113,125],[113,126,113,132],[113,150,113,152],[113,153,113,155],[112,171,112,173],[112,174,112,176],[112,177,112,179],[112,180,112,182],[112,183,112,185],[112,186,112,189],[110,183,110,185],[110,186,110,189],[110,190,110,214],[111,1,111,2],[111,3,111,9],[111,10,111,16],[111,17,111,19],[111,20,111,26],[111,27,111,33],[111,34,111,40],[111,41,111,47],[111,48,111,54],[111,55,111,61],[111,69,111,75],[111,83,111,89],[111,90,111,96],[111,97,111,103],[111,111,111,114],[111,119,111,125],[111,126,111,132],[111,150,111,152],[111,153,111,155],[111,156,111,158],[111,159,111,161],[111,162,111,164],[111,165,111,167],[111,168,111,170],[111,171,111,173],[111,174,111,176],[111,177,111,179],[111,180,111,182],[111,183,111,185],[109,180,109,182],[109,183,109,185],[109,186,109,189],[109,190,109,214],[110,1,110,2],[110,3,110,9],[110,10,110,16],[110,17,110,19],[110,20,110,26],[110,27,110,33],[110,34,110,40],[110,41,110,47],[110,48,110,54],[110,55,110,61],[110,69,110,75],[110,83,110,89],[110,90,110,96],[110,97,110,103],[110,111,110,114],[110,119,110,125],[110,126,110,132],[110,150,110,152],[110,153,110,155],[110,156,110,158],[110,159,110,161],[110,162,110,164],[110,165,110,167],[110,168,110,170],[110,171,110,173],[110,174,110,176],[110,177,110,179],[110,180,110,182],[108,177,108,179],[108,180,108,182],[108,183,108,185],[108,186,108,189],[108,190,108,214],[109,1,109,2],[109,3,109,9],[109,10,109,16],[109,17,109,19],[109,20,109,26],[109,27,109,33],[109,34,109,40],[109,41,109,47],[109,48,109,54],[109,55,109,61],[109,69,109,75],[109,83,109,89],[109,90,109,96],[109,97,109,103],[109,111,109,114],[109,119,109,125],[109,126,109,132],[109,150,109,152],[109,153,109,155],[109,156,109,158],[109,159,109,161],[109,162,109,164],[109,165,109,167],[109,168,109,170],[109,171,109,173],[109,174,109,176],[109,177,109,179],[107,174,107,176],[107,177,107,179],[107,180,107,182],[107,183,107,185],[107,186,107,189],[107,190,107,214],[108,1,108,2],[108,3,108,9],[108,10,108,16],[108,17,108,19],[108,20,108,26],[108,27,108,33],[108,34,108,40],[108,41,108,47],[108,48,108,54],[108,55,108,61],[108,69,108,75],[108,83,108,89],[108,90,108,96],[108,97,108,103],[108,111,108,114],[108,119,108,125],[108,126,108,132],[108,150,108,152],[108,153,108,155],[108,156,108,158],[108,159,108,161],[108,162,108,164],[108,165,108,167],[108,168,108,170],[108,171,108,173],[108,174,108,176],[106,171,106,173],[106,174,106,176],[106,177,106,179],[106,180,106,182],[106,183,106,185],[106,186,106,189],[106,190,106,214],[107,1,107,2],[107,3,107,9],[107,10,107,16],[107,17,107,19],[107,20,107,26],[107,27,107,33],[107,34,107,40],[107,41,107,47],[107,48,107,54],[107,55,107,61],[107,69,107,75],[107,83,107,89],[107,90,107,96],[107,97,107,103],[107,111,107,114],[107,119,107,125],[107,126,107,132],[107,150,107,152],[107,153,107,155],[107,156,107,158],[107,159,107,161],[107,162,107,164],[107,165,107,167],[107,168,107,170],[107,171,107,173],[105,168,105,170],[105,171,105,173],[105,174,105,176],[105,177,105,179],[105,180,105,182],[105,183,105,185],[105,186,105,189],[105,190,105,214],[106,1,106,2],[106,3,106,9],[106,10,106,16],[106,17,106,19],[106,20,106,26],[106,27,106,33],[106,34,106,40],[106,41,106,47],[106,48,106,54],[106,55,106,61],[106,69,106,75],[106,83,106,89],[106,90,106,96],[106,97,106,103],[106,111,106,114],[106,119,106,125],[106,126,106,132],[106,150,106,152],[106,153,106,155],[106,156,106,158],[106,159,106,161],[106,162,106,164],[106,165,106,167],[106,168,106,170],[104,165,104,167],[104,168,104,170],[104,171,104,173],[104,174,104,176],[104,177,104,179],[104,180,104,182],[104,183,104,185],[104,186,104,189],[104,190,104,214],[105,1,105,2],[105,3,105,9],[105,10,105,16],[105,17,105,19],[105,20,105,26],[105,27,105,33],[105,34,105,40],[105,41,105,47],[105,48,105,54],[105,55,105,61],[105,69,105,75],[105,83,105,89],[105,90,105,96],[105,97,105,103],[105,111,105,114],[105,119,105,125],[105,126,105,132],[105,150,105,152],[105,153,105,155],[105,156,105,158],[105,159,105,161],[105,162,105,164],[105,165,105,167],[103,162,103,164],[103,165,103,167],[103,168,103,170],[103,171,103,173],[103,174,103,176],[103,177,103,179],[103,180,103,182],[103,183,103,185],[103,186,103,189],[103,190,103,214],[104,1,104,2],[104,3,104,9],[104,10,104,16],[104,17,104,19],[104,20,104,26],[104,27,104,33],[104,34,104,40],[104,41,104,47],[104,48,104,54],[104,55,104,61],[104,69,104,75],[104,83,104,89],[104,90,104,96],[104,97,104,103],[104,111,104,114],[104,119,104,125],[104,150,104,152],[104,153,104,155],[104,156,104,158],[104,159,104,161],[104,162,104,164],[102,159,102,161],[102,162,102,164],[102,165,102,167],[102,168,102,170],[102,171,102,173],[102,174,102,176],[102,177,102,179],[102,180,102,182],[102,183,102,185],[102,186,102,189],[102,190,102,214],[103,150,103,152],[103,153,103,155],[103,156,103,158],[103,159,103,161],[103,1,103,2],[103,3,103,9],[103,10,103,16],[103,17,103,19],[103,20,103,26],[103,27,103,33],[103,34,103,40],[103,41,103,47],[103,48,103,54],[103,55,103,61],[103,69,103,75],[103,83,103,89],[103,90,103,96],[103,97,103,103],[103,111,103,114],[103,119,103,125],[103,126,103,132],[102,48,102,54],[102,55,102,61],[102,69,102,75],[102,83,102,89],[102,90,102,96],[102,97,102,103],[102,150,102,152],[102,153,102,155],[102,156,102,158],[101,41,101,47],[101,48,101,54],[101,55,101,61],[101,62,101,68],[101,69,101,75],[101,76,101,82],[101,83,101,89],[101,90,101,96],[101,97,101,103],[101,104,101,110],[99,69,99,82],[101,20,101,26],[101,27,101,33],[101,34,101,40],[94,1,95,8],[94,10,95,14],[94,15,94,19],[94,20,94,25],[94,26,95,54],[95,15,95,19],[95,20,95,25],[96,10,96,19],[96,20,96,25],[96,26,96,36],[97,10,97,19],[97,20,97,25],[97,26,97,36],[96,37,98,54],[98,10,98,19],[98,20,98,25],[98,26,98,36],[20,297,20,299],[20,300,20,302],[20,303,20,305],[20,306,20,308],[20,309,20,311],[20,312,20,314],[20,315,20,317],[20,318,20,320],[20,321,20,323],[20,324,20,326],[20,327,20,329],[20,330,20,333],[20,334,20,337],[21,294,21,296],[21,297,21,299],[21,300,21,302],[21,303,21,305],[21,306,21,308],[21,309,21,311],[21,312,21,314],[21,315,21,317],[21,318,21,320],[21,321,21,323],[21,324,21,326],[21,327,21,329],[21,330,21,333],[21,334,21,337],[18,294,18,296],[18,297,18,299],[18,300,18,302],[18,303,18,305],[18,306,18,308],[18,309,18,311],[18,312,18,314],[18,315,18,317],[18,318,18,320],[18,321,18,323],[18,324,18,326],[18,327,18,329],[18,330,18,333],[18,334,18,337],[19,294,19,296],[19,297,19,299],[19,300,19,302],[19,303,19,305],[19,306,19,308],[19,309,19,311],[19,312,19,314],[19,315,19,317],[19,318,19,320],[19,321,19,323],[19,324,19,326],[19,327,19,329],[19,330,19,333],[19,334,19,337],[16,294,16,296],[16,297,16,299],[16,300,16,302],[16,303,16,305],[16,306,16,308],[16,309,16,311],[16,312,16,314],[16,315,16,317],[16,318,16,320],[16,321,16,323],[16,324,16,326],[16,327,16,329],[16,330,16,333],[16,334,16,337],[17,294,17,296],[17,297,17,299],[17,300,17,302],[17,303,17,305],[17,306,17,308],[17,309,17,311],[17,312,17,314],[17,315,17,317],[17,318,17,320],[17,321,17,323],[17,324,17,326],[17,327,17,329],[17,330,17,333],[17,334,17,337],[14,294,14,296],[14,297,14,299],[14,300,14,302],[14,303,14,305],[14,306,14,308],[14,309,14,311],[14,312,14,314],[14,315,14,317],[14,318,14,320],[14,321,14,323],[14,324,14,326],[14,327,14,329],[14,330,14,333],[14,334,14,337],[15,294,15,296],[15,297,15,299],[15,300,15,302],[15,303,15,305],[15,306,15,308],[15,309,15,311],[15,312,15,314],[15,315,15,317],[15,318,15,320],[15,321,15,323],[15,324,15,326],[15,327,15,329],[15,330,15,333],[15,334,15,337],[12,294,12,296],[12,297,12,299],[12,300,12,302],[12,303,12,305],[12,306,12,308],[12,309,12,311],[12,312,12,314],[12,315,12,317],[12,318,12,320],[12,321,12,323],[12,324,12,326],[12,327,12,329],[12,330,12,333],[12,334,12,337],[13,294,13,296],[13,297,13,299],[13,300,13,302],[13,303,13,305],[13,306,13,308],[13,309,13,311],[13,312,13,314],[13,315,13,317],[13,318,13,320],[13,321,13,323],[13,324,13,326],[13,327,13,329],[13,330,13,333],[13,334,13,337],[10,294,10,329],[10,330,10,333],[10,334,10,337],[11,294,11,296],[11,297,11,299],[11,300,11,302],[11,303,11,305],[11,306,11,308],[11,309,11,311],[11,312,11,314],[11,315,11,317],[11,318,11,320],[11,321,11,323],[11,324,11,326],[11,327,11,329],[11,330,11,333],[11,334,11,337],[26,186,26,188],[26,150,26,152],[25,189,25,221],[25,186,25,188],[26,153,26,155],[26,156,26,158],[26,159,26,161],[26,162,26,164],[26,165,26,167],[26,168,26,170],[26,171,26,173],[26,174,26,176],[26,177,26,179],[26,180,26,182],[26,183,26,185],[22,183,22,185],[22,180,22,182],[26,189,26,221],[23,162,23,164],[23,165,23,167],[23,168,23,170],[23,171,23,173],[23,174,23,176],[23,177,23,179],[23,180,23,182],[23,183,23,185],[24,186,24,188],[24,150,24,152],[24,153,24,155],[24,156,24,158],[24,159,24,161],[24,162,24,164],[13,183,13,185],[14,183,14,185],[14,177,14,179],[17,168,17,170],[17,171,17,173],[24,189,24,221],[23,189,23,221],[25,150,25,152],[25,153,25,155],[25,156,25,158],[25,159,25,161],[25,162,25,164],[25,165,25,167],[25,168,25,170],[25,171,25,173],[25,174,25,176],[25,177,25,179],[25,180,25,182],[21,153,21,155],[21,156,21,158],[21,159,21,161],[21,162,21,164],[21,165,21,167],[19,168,19,170],[19,171,19,173],[25,183,25,185],[19,186,19,189],[16,186,16,189],[17,186,17,189],[18,186,18,189],[13,208,13,210],[13,211,13,213],[165,3,166,14],[148,3,151,24],[152,3,153,24],[148,25,151,46],[152,25,153,46],[148,47,151,68],[152,47,153,68],[12,141,12,143],[13,141,13,143],[14,141,14,143],[15,141,15,143],[16,141,16,143],[17,141,17,143],[18,141,18,143],[19,141,19,143],[20,141,20,143],[21,141,21,143],[155,3,156,14],[155,58,156,69],[165,58,166,69],[159,3,160,14],[161,3,162,14],[159,58,160,69],[157,3,158,14],[157,58,158,69],[163,3,164,14],[163,58,164,69],[161,58,162,69],[146,3,147,90]],"merged_total":3719,"flags":["merged_cut"]}
[null,{"$f":"\"令和\"&DBCS(基本項目!$B$3)&\"年度　国民健康保険税　簡易計算（概算）\"","v":"令和８年度　国民健康保険税　簡易計算（概算）"}]
[null,null,null,"下の被保険者に入っていない擬主及び特定同一世帯所属者の総所得金額"]
[null,null,null,"下の被保険者に入っていない特定同一世帯所属者の人数",null,null,null,null,null,null,null,null,null,null,null,null,null,null,null,null,null,null,null,null,null,null,null,null,null,null,null,null,null,null,null,null,null,{"$f":"IF(AU2=\"\",\"\",IF(AU3=\"\",\"人数→\",\"\"))","v":""}]
[null,null,null,"世帯の軽減判定所得合計 ＝ 擬主 ＋ 被保険者 ＋ 特定同一世帯所属者",null,null,null,null,null,null,null,null,null,null,null,null,null,null,null,null,null,null,null,null,null,null,null,null,null,null,null,null,null,null,null,null,null,null,null,null,null,null,null,null,null,null,{"$f":"SUM(GE26)","v":0}]
[null,null,null,"軽減判定人数",null,null,null,null,null,null,null,null,null,null,null,{"$f":"IF(SUM($AU$3,$GE$27)=0,0,SUM($AU$3,$GE$27))","v":0},null,null,null,null,null,null,"軽減判定結果　⇒　",null,null,null,null,null,null,null,null,null,null,null,null,null,null,null,null,null,null,null,null,null,null,null,{"$f":"IF(国民健康保険税軽減早見表H26から!$AN$20=\"\",\"\",国民健康保険税軽減早見表H26から!$AN$20)","v":""}]
[]
[null,null,null,"平等割額の軽減特例措置\n　国保被保険者が後期高齢者医療への移行により，残る世帯員が国保単身世帯になった場合，世帯にかかる平等割額を減額する。\n　H24まで：1/2減額(5年間)，H25から：1/2減額(5年間)，6年目から1/4減額(3年間延長)",null,null,null,null,null,null,null,null,null,null,null,null,null,null,null,null,null,null,null,null,null,null,null,null,null,null,null,null,null,null,null,null,null,null,null,null,null,null,null,null,null,null,null,null,null,null,null,null,null,null,null,null,null,null,null,null,null,null,null,null,null,null,null,null,null,null,null,null,null,null,null,null,null,null,null,null,null,null,null,null,null,null,null,null,null,null,null,null,null,"国保加入の届出月",null,null,null,null,null,null,null,null,null,null,null,null,"月割をする場合は右へスクロール",null,null,null,null,null,null,{"$f":"IF(SUM(AY13:BE22)=0,\"\",\"該当あれば\n入力\")","v":""},null,null,null,null,null,null,null,null,null,null,null,null,null,null,"この下の「所得金額調整控除不要？」のエラーで，自分，同一生計配偶者，扶養親族のいずれかが特別障害者，又は２３歳未満の扶養親族がいる。という条件が無い場合は，エラーのままでＯＫ"]
[null,null,null,null,null,null,null,null,null,null,null,null,null,null,null,null,null,null,null,null,null,null,null,null,null,null,null,null,null,null,null,null,null,null,null,null,null,null,null,null,null,null,null,null,null,null,null,null,null,null,null,null,null,null,null,null,null,null,null,null,null,null,null,null,null,null,null,null,null,null,null,null,null,null,null,null,null,null,null,null,null,null,null,null,null,null,null,null,null,null,null,null,null,null,null,null,null,null,null,null,null,"月"]
[null,null,null,null,null,null,null,null,null,null,null,null,null,null,null,null,null,null,null,null,null,null,null,null,null,null,null,null,null,null,null,null,null,null,null,null,null,null,null,null,null,null,null,null,null,null,null,null,null,null,null,null,null,null,null,null,null,null,null,null,null,null,null,null,null,null,null,null,null,null,null,null,null,null,null,null,null,null,null,null,null,null,null,null,null,null,null,null,null,null,null,null,null,"↑期別を表示する場合は加入月を入力すること",null,null,null,null,null,null,null,null,null,null,null,null,null,null,null,null,null,null,null,{"$f":"IF(DJ7=\"\",\"\",\"⇓\")","v":""},null,null,null,null,null,null,null,null,null,null,null,null,null,null,null,null,null,null,null,null,null,null,null,null,null,null,null,null,null,null,null,null,null,null,null,null,"１２カ月すべての場合「○」は入力しなくてＯＫ\n　注：該当月数を指定する場合のみ「○」を入力"]
[null,null,"【被保険者の入力】"]
[null,null,null,"氏　　名",null,null,null,null,null,null,"生年月日",null,null,null,null,null,null,"年齢",null,null,"年齢\n直接\n入力",null,null,"給与収入",null,null,null,null,null,null,"給与所得",null,null,null,null,null,null,"所得\n金額\n調整\n控除",null,null,"非自発的失業",null,null,"非自発的失業\n該当\n30/100所得",null,null,null,null,null,null,"公的年金収入",null,null,null,null,null,null,"公的年金所得",null,null,null,null,null,null,"その他所得",null,null,null,null,null,null,"給与収入の内\n専従者\n給与分収入額",null,null,null,null,null,null,"純繰越\nﾏｲﾅｽ入力",null,null,null,null,null,null,"雑繰越\nﾏｲﾅｽ入力",null,null,null,null,null,null,"分離所得\n特別控除前",null,null,null,null,null,null,"分離所得\n特別控除額\nﾌﾟﾗｽ入力",null,null,null,null,null,null,"国保税\n総所得金額",null,null,null,null,null,null,"年金所得に係る雑所得以外の\n合計所得金額",null,null,null,null,null,null,null,null,null,null,null,null,null,null,null,null,null,null,null,null,null,null,null,null,null,null,null,null,null,null,"給与\nOR\n年金",null,null,null,null,null,"月途中の加入は該当するが，月途中に抜ける場合はその月は非該当",null,null,null,null,null,null,null,null,null,null,null,null,null,null,null,null,null,null,null,null,null,null,null,null,null,null,null,null,null,null,null,null,null,null,null,"該当\n月数",null,null,null,"世帯\n月数",null,null,null,"障害",null,null,null,null,null,null,null,"該当月判定用（介護）",null,null,null,null,null,null,null,null,null,null,null,null,null,null,null,null,null,null,null,null,null,null,null,null,null,null,null,null,null,null,null,null,null,null,null,"介護\n該当",null,null,null,"国保\n該当",null,null,null,null,null,"該当月判定用（後期）",null,null,null,null,null,null,null,null,null,null,null,null,null,null,null,null,null,null,null,null,null,null,null,null,null,null,null,null,null,null,null,null,null,null,null,"後期\n該当",null,null,null,"国保\n該当",null,null,null,null,null,"該当月判定用（子ども）",null,null,null,null,null,null,null,null,null,null,null,null,null,null,null,null,null,null,null,null,null,null,null,null,null,null,null,null,null,null,null,null,null,null,null,"子ども\n該当",null,null,null,"国保\n該当",null,null,null,null,null,"該当月判定用（修正後）介護",null,null,null,null,null,null,null,null,null,null,null,null,null,null,null,null,null,null,null,null,null,null,null,null,null,null,null,null,null,null,null,null,null,null,null,"介護\n該当",null,null,null,"国保\n該当",null,null,null,"障害",null,null,null,null,"該当月判定用（修正後）後期",null,null,null,null,null,null,null,null,null,null,null,null,null,null,null,null,null,null,null,null,null,null,null,null,null,null,null,null,null,null,null,null,null,null,null,"後期\n該当",null,null,null,"国保\n該当",null,null,null,"障害",null,null,null,null,"軽減判定用所得計算"]
[null,null,null,null,null,null,null,null,null,null,null,null,null,null,null,null,null,null,null,null,null,null,null,null,null,null,null,null,null,null,null,null,null,null,null,null,null,null,null,null,null,null,null,null,null,null,null,null,null,null,null,null,null,null,null,null,null,null,null,null,null,null,null,null,null,null,null,null,null,null,null,null,null,null,null,null,null,null,null,null,null,null,null,null,null,null,null,null,null,null,null,null,null,null,null,null,null,null,null,null,null,null,null,null,null,null,null,null,null,null,null,null,null,null,null,null,null,null,null,null,null,null,null,null,null,null,null,null,"↓↓↓↓↓↓",null,null,null,null,null,null,null,null,null,null,null,null,null,null,null,null,null,null,null,null,null,4,null,null,5,null,null,6,null,null,7,null,null,8,null,null,9,null,null,10,null,null,11,null,null,12,null,null,1,null,null,2,null,null,3,null,null,null,null,null,null,null,null,null,null,null,null,null,null,null,null,null,null,4,null,null,5,null,null,6,null,null,7,null,null,8,null,null,9,null,null,10,null,null,11,null,null,12,null,null,1,null,null,2,null,null,3,null,null,"月数計",null,null,null,"月数計",null,null,null,null,null,4,null,null,5,null,null,6,null,null,7,null,null,8,null,null,9,null,null,10,null,null,11,null,null,12,null,null,1,null,null,2,null,null,3,null,null,"月数計",null,null,null,"月数計",null,null,null,null,null,4,null,null,5,null,null,6,null,null,7,null,null,8,null,null,9,null,null,10,null,null,11,null,null,12,null,null,1,null,null,2,null,null,3,null,null,"月数計",null,null,null,"月数計",null,null,null,null,null,4,null,null,5,null,null,6,null,null,7,null,null,8,null,null,9,null,null,10,null,null,11,null,null,12,null,null,1,null,null,2,null,null,3,null,null,"月数計",null,null,null,"月数計",null,null,null,null,null,null,null,null,4,null,null,5,null,null,6,null,null,7,null,null,8,null,null,9,null,null,10,null,null,11,null,null,12,null,null,1,null,null,2,null,null,3,null,null,"月数計",null,null,null,"月数計",null,null,null,null,null,null,null,null,4,null,null,5,null,null,6,null,null,7,null,null,8,null,null,9,null,null,10,null,null,11,null,null,12,null,null,1,null,null,2,null,null,3]
[null,1,null,null,null,null,null,null,null,null,null,null,null,null,null,null,null,{"$f":"IF(AND($U13=\"\",$K13=\"\"),\"\",IF($U13=\"\",所得計算!$I6,$U13))","v":""},null,null,null,null,null,null,null,null,null,null,null,null,{"$f":"IF(所得計算!AI$4=\"\",\"\",所得計算!AI$4)","v":""},null,null,null,null,null,null,null,null,null,null,null,null,{"$f":"IF($AE13=\"\",\"\",IF($AO13=1,ROUNDDOWN(SUM($AE13)*0.3,0),\"\"))","v":""},null,null,null,null,null,null,null,null,null,null,null,null,null,{"$f":"IF(所得計算!AI$23=\"\",\"\",所得計算!AI$23)","v":""},null,null,null,null,null,null,null,null,null,null,null,null,null,null,null,null,null,null,null,null,null,null,null,null,null,null,null,null,null,null,null,null,null,null,null,null,null,null,null,null,null,null,null,null,null,null,null,null,{"$f":"IF(R13=\"\",\"\",IF(AO13=1,SUM(AR13,BF13,BM13,CA13,CO13)-SUM(CV13),SUM(AE13,BF13,BM13,CA13,CO13)-SUM(CV13)))","v":""},null,null,null,null,null,null,null,null,null,null,null,null,null,{"$f":"IF(AND(D13<>\"\",K13=\"\",U13=\"\"),\"生年月日又は年齢\",IF(AND(D13=\"\",OR(K13<>\"\",U13<>\"\")),\"氏名は必要\",\"\"))","v":""},null,null,null,null,null,null,null,{"$f":"IF(OR(AND(SUM($AL13)=1,SUM($X13)<=8500000),AND(SUM($AL13)=1,SUM($X13)>8500000,SUM($BF13)>0)),\"所得金額調整控除１？\",IF(OR(AND(SUM($AL13)=2,OR(SUM(所得計算!$BE$5:$BE$15)=0,SUM($BF13)=0)),AND(SUM($AL13)=2,OR(SUM($X13)>8500000,SUM($BF13)=0))),\"所得金額調整控除２？\",IF(AND(SUM($AL13)=3,OR(SUM($X13)<=8500000,SUM($BF13)=0)),\"所得金額調整控除３？\",IF(AND($AL13=\"\",OR(SUM($X13)>8500000,AND(SUM(所得計算!$BE$5:$BE$15)>0,SUM($BF13)>0))),\"所得金額調整控除サイン不要？\",\"\"))))","v":""},null,null,null,null,null,null,null,null,null,null,null,null,{"$f":"IF(SUM(DC13,CH13,CV13)=0,0,SUM(DC13,CH13,CV13)-SUM(所得計算!$AT$4)-SUM(所得計算!$AI$36))","v":0},null,null,{"$f":"IF(OR(SUM(AE13)>0,SUM(BF13)>0),1,\"\")","v":""},null,null,null,1,null,null,null,null,null,null,null,null,null,null,null,null,null,null,null,null,null,null,null,null,null,null,null,null,null,null,null,null,null,null,null,null,null,null,null,null,null,{"$f":"IF(D13=\"\",\"\",IF(COUNTIF(EU13:GD13,\"○\")=0,12,COUNTIF(EU13:GD13,\"○\")))","v":""},null,null,null,{"$f":"IF(SUM(GE13:GH22)=0,\"\",IF(MAX(GE13:GH22)>=12,12,SUM(EU23:GD23)))","v":""},null,null,null,null,null,null,{"$f":"IF($GM13=\"\",\"\",IF(HLOOKUP($GM13,$GU$12:$ID$22,2,FALSE)>=65,\"\",\"65未到達\"))","v":""},null,null,null,null,{"$f":"IF($R13=\"\",\"\",IF($U13=\"\",IF(EOMONTH(VALUE(\"R\"&基本項目!$B$3&\".\"&EU$12&\".1\"),0)<$K13,\"\",DATEDIF($K13-1,EOMONTH(VALUE(\"R\"&基本項目!$B$3&\".\"&EU$12&\".1\")-1,1),\"Y\")),$U13))","v":""},null,null,{"$f":"IF($R13=\"\",\"\",IF($U13=\"\",IF(EOMONTH(VALUE(\"R\"&基本項目!$B$3&\".\"&EX$12&\".1\"),0)<$K13,\"\",DATEDIF($K13-1,EOMONTH(VALUE(\"R\"&基本項目!$B$3&\".\"&EX$12&\".1\")-1,1),\"Y\")),$U13))","v":""},null,null,{"$f":"IF($R13=\"\",\"\",IF($U13=\"\",IF(EOMONTH(VALUE(\"R\"&基本項目!$B$3&\".\"&FA$12&\".1\"),0)<$K13,\"\",DATEDIF($K13-1,EOMONTH(VALUE(\"R\"&基本項目!$B$3&\".\"&FA$12&\".1\")-1,1),\"Y\")),$U13))","v":""},null,null,{"$f":"IF($R13=\"\",\"\",IF($U13=\"\",IF(EOMONTH(VALUE(\"R\"&基本項目!$B$3&\".\"&FD$12&\".1\"),0)<$K13,\"\",DATEDIF($K13-1,EOMONTH(VALUE(\"R\"&基本項目!$B$3&\".\"&FD$12&\".1\")-1,1),\"Y\")),$U13))","v":""},null,null,{"$f":"IF($R13=\"\",\"\",IF($U13=\"\",IF(EOMONTH(VALUE(\"R\"&基本項目!$B$3&\".\"&FG$12&\".1\"),0)<$K13,\"\",DATEDIF($K13-1,EOMONTH(VALUE(\"R\"&基本項目!$B$3&\".\"&FG$12&\".1\")-1,1),\"Y\")),$U13))","v":""},null,null,{"$f":"IF($R13=\"\",\"\",IF($U13=\"\",IF(EOMONTH(VALUE(\"R\"&基本項目!$B$3&\".\"&FJ$12&\".1\"),0)<$K13,\"\",DATEDIF($K13-1,EOMONTH(VALUE(\"R\"&基本項目!$B$3&\".\"&FJ$12&\".1\")-1,1),\"Y\")),$U13))","v":""},null,null,{"$f":"IF($R13=\"\",\"\",IF($U13=\"\",IF(EOMONTH(VALUE(\"R\"&基本項目!$B$3&\".\"&FM$12&\".1\"),0)<$K13,\"\",DATEDIF($K13-1,EOMONTH(VALUE(\"R\"&基本項目!$B$3&\".\"&FM$12&\".1\")-1,1),\"Y\")),$U13))","v":""},null,null,{"$f":"IF($R13=\"\",\"\",IF($U13=\"\",IF(EOMONTH(VALUE(\"R\"&基本項目!$B$3&\".\"&FP$12&\".1\"),0)<$K13,\"\",DATEDIF($K13-1,EOMONTH(VALUE(\"R\"&基本項目!$B$3&\".\"&FP$12&\".1\")-1,1),\"Y\")),$U13))","v":""},null,null,{"$f":"IF($R13=\"\",\"\",IF($U13=\"\",IF(EOMONTH(VALUE(\"R\"&基本項目!$B$3&\".\"&FS$12&\".1\"),0)<$K13,\"\",DATEDIF($K13-1,EOMONTH(VALUE(\"R\"&基本項目!$B$3&\".\"&FS$12&\".1\")-1,1),\"Y\")),$U13))","v":""},null,null,{"$f":"IF($R13=\"\",\"\",IF($U13=\"\",IF(EOMONTH(VALUE(\"R\"&基本項目!$B$3+1&\".\"&FV$12&\".1\"),0)<$K13,\"\",DATEDIF($K13-1,EOMONTH(VALUE(\"R\"&基本項目!$B$3+1&\".\"&FV$12&\".1\")-1,1),\"Y\")),$U13))","v":""},null,null,{"$f":"IF($R13=\"\",\"\",IF($U13=\"\",IF(EOMONTH(VALUE(\"R\"&基本項目!$B$3+1&\".\"&FY$12&\".1\"),0)<$K13,\"\",DATEDIF($K13-1,EOMONTH(VALUE(\"R\"&基本項目!$B$3+1&\".\"&FY$12&\".1\")-1,1),\"Y\")),$U13))","v":""},null,null,{"$f":"IF($R13=\"\",\"\",IF($U13=\"\",IF(EOMONTH(VALUE(\"R\"&基本項目!$B$3+1&\".\"&GB$12&\".1\"),0)<$K13,\"\",DATEDIF($K13-1,EOMONTH(VALUE(\"R\"&基本項目!$B$3+1&\".\"&GB$12&\".1\")-1,1),\"Y\")),$U13))","v":""},null,null,{"$f":"IF($R13=\"\",\"\",SUMPRODUCT(($GU13:$ID13<65)*($GU13:$ID13>=40)))","v":""},null,null,null,{"$f":"IF($R13=\"\",\"\",COUNTIF($GU13:$ID13,\"<75\"))","v":""},null,null,null,null,null,{"$f":"IF($R13=\"\",\"\",IF($U13=\"\",IF(EOMONTH(VALUE(\"R\"&基本項目!$B$3&\".\"&EU$12&\".1\"),0)<$K13,\"\",DATEDIF($K13,EOMONTH(VALUE(\"R\"&基本項目!$B$3&\".\"&EU$12&\".1\")-1,1),\"Y\")),$U13))","v":""},null,null,{"$f":"IF($R13=\"\",\"\",IF($U13=\"\",IF(EOMONTH(VALUE(\"R\"&基本項目!$B$3&\".\"&EX$12&\".1\"),0)<$K13,\"\",DATEDIF($K13,EOMONTH(VALUE(\"R\"&基本項目!$B$3&\".\"&EX$12&\".1\")-1,1),\"Y\")),$U13))","v":""},null,null,{"$f":"IF($R13=\"\",\"\",IF($U13=\"\",IF(EOMONTH(VALUE(\"R\"&基本項目!$B$3&\".\"&FA$12&\".1\"),0)<$K13,\"\",DATEDIF($K13,EOMONTH(VALUE(\"R\"&基本項目!$B$3&\".\"&FA$12&\".1\")-1,1),\"Y\")),$U13))","v":""},null,null,{"$f":"IF($R13=\"\",\"\",IF($U13=\"\",IF(EOMONTH(VALUE(\"R\"&基本項目!$B$3&\".\"&FD$12&\".1\"),0)<$K13,\"\",DATEDIF($K13,EOMONTH(VALUE(\"R\"&基本項目!$B$3&\".\"&FD$12&\".1\")-1,1),\"Y\")),$U13))","v":""},null,null,{"$f":"IF($R13=\"\",\"\",IF($U13=\"\",IF(EOMONTH(VALUE(\"R\"&基本項目!$B$3&\".\"&FG$12&\".1\"),0)<$K13,\"\",DATEDIF($K13,EOMONTH(VALUE(\"R\"&基本項目!$B$3&\".\"&FG$12&\".1\")-1,1),\"Y\")),$U13))","v":""},null,null,{"$f":"IF($R13=\"\",\"\",IF($U13=\"\",IF(EOMONTH(VALUE(\"R\"&基本項目!$B$3&\".\"&FJ$12&\".1\"),0)<$K13,\"\",DATEDIF($K13,EOMONTH(VALUE(\"R\"&基本項目!$B$3&\".\"&FJ$12&\".1\")-1,1),\"Y\")),$U13))","v":""},null,null,{"$f":"IF($R13=\"\",\"\",IF($U13=\"\",IF(EOMONTH(VALUE(\"R\"&基本項目!$B$3&\".\"&FM$12&\".1\"),0)<$K13,\"\",DATEDIF($K13,EOMONTH(VALUE(\"R\"&基本項目!$B$3&\".\"&FM$12&\".1\")-1,1),\"Y\")),$U13))","v":""},null,null,{"$f":"IF($R13=\"\",\"\",IF($U13=\"\",IF(EOMONTH(VALUE(\"R\"&基本項目!$B$3&\".\"&FP$12&\".1\"),0)<$K13,\"\",DATEDIF($K13,EOMONTH(VALUE(\"R\"&基本項目!$B$3&\".\"&FP$12&\".1\")-1,1),\"Y\")),$U13))","v":""},null,null,{"$f":"IF($R13=\"\",\"\",IF($U13=\"\",IF(EOMONTH(VALUE(\"R\"&基本項目!$B$3&\".\"&FS$12&\".1\"),0)<$K13,\"\",DATEDIF($K13,EOMONTH(VALUE(\"R\"&基本項目!$B$3&\".\"&FS$12&\".1\")-1,1),\"Y\")),$U13))","v":""},null,null,{"$f":"IF($R13=\"\",\"\",IF($U13=\"\",IF(EOMONTH(VALUE(\"R\"&基本項目!$B$3+1&\".\"&FV$12&\".1\"),0)<$K13,\"\",DATEDIF($K13,EOMONTH(VALUE(\"R\"&基本項目!$B$3+1&\".\"&FV$12&\".1\")-1,1),\"Y\")),$U13))","v":""},null,null,{"$f":"IF($R13=\"\",\"\",IF($U13=\"\",IF(EOMONTH(VALUE(\"R\"&基本項目!$B$3+1&\".\"&FY$12&\".1\"),0)<$K13,\"\",DATEDIF($K13,EOMONTH(VALUE(\"R\"&基本項目!$B$3+1&\".\"&FY$12&\".1\")-1,1),\"Y\")),$U13))","v":""},null,null,{"$f":"IF($R13=\"\",\"\",IF($U13=\"\",IF(EOMONTH(VALUE(\"R\"&基本項目!$B$3+1&\".\"&GB$12&\".1\"),0)<$K13,\"\",DATEDIF($K13,EOMONTH(VALUE(\"R\"&基本項目!$B$3+1&\".\"&GB$12&\".1\")-1,1),\"Y\")),$U13))","v":""},null,null,{"$f":"IF($R13=\"\",\"\",COUNTIF($IO13:$JX13,\">=75\"))","v":""},null,null,null,{"$f":"IF($R13=\"\",\"\",COUNTIF($IO13:$JX13,\"<75\"))","v":""},null,null,null,null,null,{"$f":"IF($R13=\"\",\"\",IF($U13=\"\",IF(EOMONTH(VALUE(\"R\"&基本項目!$B$3&\".\"&EU$12&\".1\"),0)<$K13,\"\",DATEDIF($K13,EOMONTH(VALUE(\"R\"&基本項目!$B$3&\".\"&EU$12&\".1\")-1,1),\"Y\")),$U13))","v":""},null,null,{"$f":"IF($R13=\"\",\"\",IF($U13=\"\",IF(EOMONTH(VALUE(\"R\"&基本項目!$B$3&\".\"&EX$12&\".1\"),0)<$K13,\"\",DATEDIF($K13,EOMONTH(VALUE(\"R\"&基本項目!$B$3&\".\"&EX$12&\".1\")-1,1),\"Y\")),$U13))","v":""},null,null,{"$f":"IF($R13=\"\",\"\",IF($U13=\"\",IF(EOMONTH(VALUE(\"R\"&基本項目!$B$3&\".\"&FA$12&\".1\"),0)<$K13,\"\",DATEDIF($K13,EOMONTH(VALUE(\"R\"&基本項目!$B$3&\".\"&FA$12&\".1\")-1,1),\"Y\")),$U13))","v":""},null,null,{"$f":"IF($R13=\"\",\"\",IF($U13=\"\",IF(EOMONTH(VALUE(\"R\"&基本項目!$B$3&\".\"&FD$12&\".1\"),0)<$K13,\"\",DATEDIF($K13,EOMONTH(VALUE(\"R\"&基本項目!$B$3&\".\"&FD$12&\".1\")-1,1),\"Y\")),$U13))","v":""},null,null,{"$f":"IF($R13=\"\",\"\",IF($U13=\"\",IF(EOMONTH(VALUE(\"R\"&基本項目!$B$3&\".\"&FG$12&\".1\"),0)<$K13,\"\",DATEDIF($K13,EOMONTH(VALUE(\"R\"&基本項目!$B$3&\".\"&FG$12&\".1\")-1,1),\"Y\")),$U13))","v":""},null,null,{"$f":"IF($R13=\"\",\"\",IF($U13=\"\",IF(EOMONTH(VALUE(\"R\"&基本項目!$B$3&\".\"&FJ$12&\".1\"),0)<$K13,\"\",DATEDIF($K13,EOMONTH(VALUE(\"R\"&基本項目!$B$3&\".\"&FJ$12&\".1\")-1,1),\"Y\")),$U13))","v":""},null,null,{"$f":"IF($R13=\"\",\"\",IF($U13=\"\",IF(EOMONTH(VALUE(\"R\"&基本項目!$B$3&\".\"&FM$12&\".1\"),0)<$K13,\"\",DATEDIF($K13,EOMONTH(VALUE(\"R\"&基本項目!$B$3&\".\"&FM$12&\".1\")-1,1),\"Y\")),$U13))","v":""},null,null,{"$f":"IF($R13=\"\",\"\",IF($U13=\"\",IF(EOMONTH(VALUE(\"R\"&基本項目!$B$3&\".\"&FP$12&\".1\"),0)<$K13,\"\",DATEDIF($K13,EOMONTH(VALUE(\"R\"&基本項目!$B$3&\".\"&FP$12&\".1\")-1,1),\"Y\")),$U13))","v":""},null,null,{"$f":"IF($R13=\"\",\"\",IF($U13=\"\",IF(EOMONTH(VALUE(\"R\"&基本項目!$B$3&\".\"&FS$12&\".1\"),0)<$K13,\"\",DATEDIF($K13,EOMONTH(VALUE(\"R\"&基本項目!$B$3&\".\"&FS$12&\".1\")-1,1),\"Y\")),$U13))","v":""},null,null,{"$f":"IF($R13=\"\",\"\",IF($U13=\"\",IF(EOMONTH(VALUE(\"R\"&基本項目!$B$3+1&\".\"&FV$12&\".1\"),0)<$K13,\"\",DATEDIF($K13,EOMONTH(VALUE(\"R\"&基本項目!$B$3+1&\".\"&FV$12&\".1\")-1,1),\"Y\")),$U13))","v":""},null,null,{"$f":"IF($R13=\"\",\"\",IF($U13=\"\",IF(EOMONTH(VALUE(\"R\"&基本項目!$B$3+1&\".\"&FY$12&\".1\"),0)<$K13,\"\",DATEDIF($K13,EOMONTH(VALUE(\"R\"&基本項目!$B$3+1&\".\"&FY$12&\".1\")-1,1),\"Y\")),$U13))","v":""},null,null,{"$f":"IF($R13=\"\",\"\",IF($U13=\"\",IF(EOMONTH(VALUE(\"R\"&基本項目!$B$3+1&\".\"&GB$12&\".1\"),0)<$K13,\"\",DATEDIF($K13,EOMONTH(VALUE(\"R\"&基本項目!$B$3+1&\".\"&GB$12&\".1\")-1,1),\"Y\")),$U13))","v":""},null,null,{"$f":"IF($R13=\"\",\"\",COUNTIF($KI13:$LR13,\"<=18\"))","v":""},null,null,null,{"$f":"IF($R13=\"\",\"\",COUNTIF($KI13:$LR13,\"<75\"))","v":""},null,null,null,null,null,{"$f":"IF(SUM($GE13)=12,GU13,IF(SUM($GE13)=0,\"\",IF(EU13=\"\",\"\",GU13)))","v":""},null,null,{"$f":"IF(SUM($GE13)=12,GX13,IF(SUM($GE13)=0,\"\",IF(EX13=\"\",\"\",GX13)))","v":""},null,null,{"$f":"IF(SUM($GE13)=12,HA13,IF(SUM($GE13)=0,\"\",IF(FA13=\"\",\"\",HA13)))","v":""},null,null,{"$f":"IF(SUM($GE13)=12,HD13,IF(SUM($GE13)=0,\"\",IF(FD13=\"\",\"\",HD13)))","v":""},null,null,{"$f":"IF(SUM($GE13)=12,HG13,IF(SUM($GE13)=0,\"\",IF(FG13=\"\",\"\",HG13)))","v":""},null,null,{"$f":"IF(SUM($GE13)=12,HJ13,IF(SUM($GE13)=0,\"\",IF(FJ13=\"\",\"\",HJ13)))","v":""},null,null,{"$f":"IF(SUM($GE13)=12,HM13,IF(SUM($GE13)=0,\"\",IF(FM13=\"\",\"\",HM13)))","v":""},null,null,{"$f":"IF(SUM($GE13)=12,HP13,IF(SUM($GE13)=0,\"\",IF(FP13=\"\",\"\",HP13)))","v":""},null,null,{"$f":"IF(SUM($GE13)=12,HS13,IF(SUM($GE13)=0,\"\",IF(FS13=\"\",\"\",HS13)))","v":""},null,null,{"$f":"IF(SUM($GE13)=12,HV13,IF(SUM($GE13)=0,\"\",IF(FV13=\"\",\"\",HV13)))","v":""},null,null,{"$f":"IF(SUM($GE13)=12,HY13,IF(SUM($GE13)=0,\"\",IF(FY13=\"\",\"\",HY13)))","v":""},null,null,{"$f":"IF(SUM($GE13)=12,IB13,IF(SUM($GE13)=0,\"\",IF(GB13=\"\",\"\",IB13)))","v":""},null,null,{"$f":"IF($R13=\"\",\"\",SUMPRODUCT(($MC13:$NL13<65)*($MC13:$NL13>=40)))","v":""},null,null,null,{"$f":"IF($R13=\"\",\"\",COUNTIF($MC13:$NL13,\"<75\"))","v":""},null,null,null,{"$f":"IF(GM13=\"\",\"\",IF(AND(GM13>=1,GM13<=3),GM13+12,GM13))","v":""},null,null,null,null,{"$f":"IF(SUM($GE13)=12,IO13,IF(SUM($GE13)=0,\"\",IF(EU13=\"\",\"\",IO13)))","v":""},null,null,{"$f":"IF(SUM($GE13)=12,IR13,IF(SUM($GE13)=0,\"\",IF(EX13=\"\",\"\",IR13)))","v":""},null,null,{"$f":"IF(SUM($GE13)=12,IU13,IF(SUM($GE13)=0,\"\",IF(FA13=\"\",\"\",IU13)))","v":""},null,null,{"$f":"IF(SUM($GE13)=12,IX13,IF(SUM($GE13)=0,\"\",IF(FD13=\"\",\"\",IX13)))","v":""},null,null,{"$f":"IF(SUM($GE13)=12,JA13,IF(SUM($GE13)=0,\"\",IF(FG13=\"\",\"\",JA13)))","v":""},null,null,{"$f":"IF(SUM($GE13)=12,JD13,IF(SUM($GE13)=0,\"\",IF(FJ13=\"\",\"\",JD13)))","v":""},null,null,{"$f":"IF(SUM($GE13)=12,JG13,IF(SUM($GE13)=0,\"\",IF(FM13=\"\",\"\",JG13)))","v":""},null,null,{"$f":"IF(SUM($GE13)=12,JJ13,IF(SUM($GE13)=0,\"\",IF(FP13=\"\",\"\",JJ13)))","v":""},null,null,{"$f":"IF(SUM($GE13)=12,JM13,IF(SUM($GE13)=0,\"\",IF(FS13=\"\",\"\",JM13)))","v":""},null,null,{"$f":"IF(SUM($GE13)=12,JP13,IF(SUM($GE13)=0,\"\",IF(FV13=\"\",\"\",JP13)))","v":""},null,null,{"$f":"IF(SUM($GE13)=12,JS13,IF(SUM($GE13)=0,\"\",IF(FY13=\"\",\"\",JS13)))","v":""},null,null,{"$f":"IF(SUM($GE13)=12,JV13,IF(SUM($GE13)=0,\"\",IF(GB13=\"\",\"\",JV13)))","v":""},null,null,{"$f":"IF($R13=\"\",\"\",COUNTIF($NZ13:$PI13,\">=75\"))","v":""},null,null,null,{"$f":"IF($R13=\"\",\"\",COUNTIF($NZ13:$PI13,\"<75\"))","v":""},null,null,null,{"$f":"IF(GM13=\"\",\"\",IF(AND(GM13>=1,GM13<=3),GM13+12,GM13))","v":""},null,null,null,{"$f":"IF(SUM($GE13)=12,SUM($EL13),\"\")","v":""},{"$f":"IF(OR(GE13=12,EU13=\"○\"),SUM($EL13),\"\")","v":""},null,null,{"$f":"IF(EX13=\"○\",SUM($EL13),\"\")","v":""},null,null,{"$f":"IF(FA13=\"○\",SUM($EL13),\"\")","v":""},null,null,{"$f":"IF(FD13=\"○\",SUM($EL13),\"\")","v":""},null,null,{"$f":"IF(FG13=\"○\",SUM($EL13),\"\")","v":""},null,null,{"$f":"IF(FJ13=\"○\",SUM($EL13),\"\")","v":""},null,null,{"$f":"IF(FM13=\"○\",SUM($EL13),\"\")","v":""},null,null,{"$f":"IF(FP13=\"○\",SUM($EL13),\"\")","v":""},null,null,{"$f":"IF(FS13=\"○\",SUM($EL13),\"\")","v":""},null,null,{"$f":"IF(FV13=\"○\",SUM($EL13),\"\")","v":""},null,null,{"$f":"IF(FY13=\"○\",SUM($EL13),\"\")","v":""},null,null,{"$f":"IF(GB13=\"○\",SUM($EL13),\"\")","v":""}]
[null,2,null,null,null,null,null,null,null,null,null,null,null,null,null,null,null,{"$f":"IF(AND($U14=\"\",$K14=\"\"),\"\",IF($U14=\"\",所得計算!$I7,$U14))","v":""},null,null,null,null,null,null,null,null,null,null,null,null,{"$f":"IF(所得計算!AJ$4=\"\",\"\",所得計算!AJ$4)","v":""},null,null,null,null,null,null,null,null,null,null,null,null,"",null,null,null,null,null,null,null,null,null,null,null,null,null,{"$f":"IF(所得計算!AJ$23=\"\",\"\",所得計算!AJ$23)","v":""},null,null,null,null,null,null,null,null,null,null,null,null,null,null,null,null,null,null,null,null,null,null,null,null,null,null,null,null,null,null,null,null,null,null,null,null,null,null,null,null,null,null,null,null,null,null,null,null,"",null,null,null,null,null,null,null,null,null,null,null,null,null,"",null,null,null,null,null,null,null,{"$f":"IF(OR(AND(SUM($AL14)=1,SUM($X14)<=8500000),AND(SUM($AL14)=1,SUM($X14)>8500000,SUM($BF14)>0)),\"所得金額調整控除１？\",IF(OR(AND(SUM($AL14)=2,OR(SUM(所得計算!$BF$5:$BF$15)=0,SUM($BF14)=0)),AND(SUM($AL14)=2,OR(SUM($X14)>8500000,SUM($BF14)=0))),\"所得金額調整控除２？\",IF(AND(SUM($AL14)=3,OR(SUM($X14)<=8500000,SUM($BF14)=0)),\"所得金額調整控除３？\",IF(AND($AL14=\"\",OR(SUM($X14)>8500000,AND(SUM(所得計算!$BF$5:$BF$15)>0,SUM($BF14)>0))),\"所得金額調整控除サイン不要？\",\"\"))))","v":""},null,null,null,null,null,null,null,null,null,null,null,null,{"$f":"IF(SUM(DC14,CH14,CV14)=0,0,SUM(DC14,CH14,CV14)-SUM(所得計算!$AU$4)-SUM(所得計算!$AJ$36))","v":0},null,null,{"$f":"IF(OR(SUM(AE14)>0,SUM(BF14)>0),1,\"\")","v":""},null,null,null,2,null,null,null,null,null,null,null,null,null,null,null,null,null,null,null,null,null,null,null,null,null,null,null,null,null,null,null,null,null,null,null,null,null,null,null,null,null,"",null,null,null,null,null,null,null,null,null,null,{"$f":"IF($GM14=\"\",\"\",IF(HLOOKUP($GM14,$GU$12:$ID$22,3,FALSE)>=65,\"\",\"65未到達\"))","v":""},null,null,null,null,{"$f":"IF($R14=\"\",\"\",IF($U14=\"\",IF(EOMONTH(VALUE(\"R\"&基本項目!$B$3&\".\"&EU$12&\".1\"),0)<$K14,\"\",DATEDIF($K14-1,EOMONTH(VALUE(\"R\"&基本項目!$B$3&\".\"&EU$12&\".1\")-1,1),\"Y\")),$U14))","v":""},null,null,{"$f":"IF($R14=\"\",\"\",IF($U14=\"\",IF(EOMONTH(VALUE(\"R\"&基本項目!$B$3&\".\"&EX$12&\".1\"),0)<$K14,\"\",DATEDIF($K14-1,EOMONTH(VALUE(\"R\"&基本項目!$B$3&\".\"&EX$12&\".1\")-1,1),\"Y\")),$U14))","v":""},null,null,{"$f":"IF($R14=\"\",\"\",IF($U14=\"\",IF(EOMONTH(VALUE(\"R\"&基本項目!$B$3&\".\"&FA$12&\".1\"),0)<$K14,\"\",DATEDIF($K14-1,EOMONTH(VALUE(\"R\"&基本項目!$B$3&\".\"&FA$12&\".1\")-1,1),\"Y\")),$U14))","v":""},null,null,{"$f":"IF($R14=\"\",\"\",IF($U14=\"\",IF(EOMONTH(VALUE(\"R\"&基本項目!$B$3&\".\"&FD$12&\".1\"),0)<$K14,\"\",DATEDIF($K14-1,EOMONTH(VALUE(\"R\"&基本項目!$B$3&\".\"&FD$12&\".1\")-1,1),\"Y\")),$U14))","v":""},null,null,{"$f":"IF($R14=\"\",\"\",IF($U14=\"\",IF(EOMONTH(VALUE(\"R\"&基本項目!$B$3&\".\"&FG$12&\".1\"),0)<$K14,\"\",DATEDIF($K14-1,EOMONTH(VALUE(\"R\"&基本項目!$B$3&\".\"&FG$12&\".1\")-1,1),\"Y\")),$U14))","v":""},null,null,{"$f":"IF($R14=\"\",\"\",IF($U14=\"\",IF(EOMONTH(VALUE(\"R\"&基本項目!$B$3&\".\"&FJ$12&\".1\"),0)<$K14,\"\",DATEDIF($K14-1,EOMONTH(VALUE(\"R\"&基本項目!$B$3&\".\"&FJ$12&\".1\")-1,1),\"Y\")),$U14))","v":""},null,null,{"$f":"IF($R14=\"\",\"\",IF($U14=\"\",IF(EOMONTH(VALUE(\"R\"&基本項目!$B$3&\".\"&FM$12&\".1\"),0)<$K14,\"\",DATEDIF($K14-1,EOMONTH(VALUE(\"R\"&基本項目!$B$3&\".\"&FM$12&\".1\")-1,1),\"Y\")),$U14))","v":""},null,null,{"$f":"IF($R14=\"\",\"\",IF($U14=\"\",IF(EOMONTH(VALUE(\"R\"&基本項目!$B$3&\".\"&FP$12&\".1\"),0)<$K14,\"\",DATEDIF($K14-1,EOMONTH(VALUE(\"R\"&基本項目!$B$3&\".\"&FP$12&\".1\")-1,1),\"Y\")),$U14))","v":""},null,null,{"$f":"IF($R14=\"\",\"\",IF($U14=\"\",IF(EOMONTH(VALUE(\"R\"&基本項目!$B$3&\".\"&FS$12&\".1\"),0)<$K14,\"\",DATEDIF($K14-1,EOMONTH(VALUE(\"R\"&基本項目!$B$3&\".\"&FS$12&\".1\")-1,1),\"Y\")),$U14))","v":""},null,null,{"$f":"IF($R14=\"\",\"\",IF($U14=\"\",IF(EOMONTH(VALUE(\"R\"&基本項目!$B$3+1&\".\"&FV$12&\".1\"),0)<$K14,\"\",DATEDIF($K14-1,EOMONTH(VALUE(\"R\"&基本項目!$B$3+1&\".\"&FV$12&\".1\")-1,1),\"Y\")),$U14))","v":""},null,null,{"$f":"IF($R14=\"\",\"\",IF($U14=\"\",IF(EOMONTH(VALUE(\"R\"&基本項目!$B$3+1&\".\"&FY$12&\".1\"),0)<$K14,\"\",DATEDIF($K14-1,EOMONTH(VALUE(\"R\"&基本項目!$B$3+1&\".\"&FY$12&\".1\")-1,1),\"Y\")),$U14))","v":""},null,null,{"$f":"IF($R14=\"\",\"\",IF($U14=\"\",IF(EOMONTH(VALUE(\"R\"&基本項目!$B$3+1&\".\"&GB$12&\".1\"),0)<$K14,\"\",DATEDIF($K14-1,EOMONTH(VALUE(\"R\"&基本項目!$B$3+1&\".\"&GB$12&\".1\")-1,1),\"Y\")),$U14))","v":""},null,null,"",null,null,null,"",null,null,null,null,null,{"$f":"IF($R14=\"\",\"\",IF($U14=\"\",IF(EOMONTH(VALUE(\"R\"&基本項目!$B$3&\".\"&EU$12&\".1\"),0)<$K14,\"\",DATEDIF($K14,EOMONTH(VALUE(\"R\"&基本項目!$B$3&\".\"&EU$12&\".1\")-1,1),\"Y\")),$U14))","v":""},null,null,{"$f":"IF($R14=\"\",\"\",IF($U14=\"\",IF(EOMONTH(VALUE(\"R\"&基本項目!$B$3&\".\"&EX$12&\".1\"),0)<$K14,\"\",DATEDIF($K14,EOMONTH(VALUE(\"R\"&基本項目!$B$3&\".\"&EX$12&\".1\")-1,1),\"Y\")),$U14))","v":""},null,null,{"$f":"IF($R14=\"\",\"\",IF($U14=\"\",IF(EOMONTH(VALUE(\"R\"&基本項目!$B$3&\".\"&FA$12&\".1\"),0)<$K14,\"\",DATEDIF($K14,EOMONTH(VALUE(\"R\"&基本項目!$B$3&\".\"&FA$12&\".1\")-1,1),\"Y\")),$U14))","v":""},null,null,{"$f":"IF($R14=\"\",\"\",IF($U14=\"\",IF(EOMONTH(VALUE(\"R\"&基本項目!$B$3&\".\"&FD$12&\".1\"),0)<$K14,\"\",DATEDIF($K14,EOMONTH(VALUE(\"R\"&基本項目!$B$3&\".\"&FD$12&\".1\")-1,1),\"Y\")),$U14))","v":""},null,null,{"$f":"IF($R14=\"\",\"\",IF($U14=\"\",IF(EOMONTH(VALUE(\"R\"&基本項目!$B$3&\".\"&FG$12&\".1\"),0)<$K14,\"\",DATEDIF($K14,EOMONTH(VALUE(\"R\"&基本項目!$B$3&\".\"&FG$12&\".1\")-1,1),\"Y\")),$U14))","v":""},null,null,{"$f":"IF($R14=\"\",\"\",IF($U14=\"\",IF(EOMONTH(VALUE(\"R\"&基本項目!$B$3&\".\"&FJ$12&\".1\"),0)<$K14,\"\",DATEDIF($K14,EOMONTH(VALUE(\"R\"&基本項目!$B$3&\".\"&FJ$12&\".1\")-1,1),\"Y\")),$U14))","v":""},null,null,{"$f":"IF($R14=\"\",\"\",IF($U14=\"\",IF(EOMONTH(VALUE(\"R\"&基本項目!$B$3&\".\"&FM$12&\".1\"),0)<$K14,\"\",DATEDIF($K14,EOMONTH(VALUE(\"R\"&基本項目!$B$3&\".\"&FM$12&\".1\")-1,1),\"Y\")),$U14))","v":""},null,null,{"$f":"IF($R14=\"\",\"\",IF($U14=\"\",IF(EOMONTH(VALUE(\"R\"&基本項目!$B$3&\".\"&FP$12&\".1\"),0)<$K14,\"\",DATEDIF($K14,EOMONTH(VALUE(\"R\"&基本項目!$B$3&\".\"&FP$12&\".1\")-1,1),\"Y\")),$U14))","v":""},null,null,{"$f":"IF($R14=\"\",\"\",IF($U14=\"\",IF(EOMONTH(VALUE(\"R\"&基本項目!$B$3&\".\"&FS$12&\".1\"),0)<$K14,\"\",DATEDIF($K14,EOMONTH(VALUE(\"R\"&基本項目!$B$3&\".\"&FS$12&\".1\")-1,1),\"Y\")),$U14))","v":""},null,null,{"$f":"IF($R14=\"\",\"\",IF($U14=\"\",IF(EOMONTH(VALUE(\"R\"&基本項目!$B$3+1&\".\"&FV$12&\".1\"),0)<$K14,\"\",DATEDIF($K14,EOMONTH(VALUE(\"R\"&基本項目!$B$3+1&\".\"&FV$12&\".1\")-1,1),\"Y\")),$U14))","v":""},null,null,{"$f":"IF($R14=\"\",\"\",IF($U14=\"\",IF(EOMONTH(VALUE(\"R\"&基本項目!$B$3+1&\".\"&FY$12&\".1\"),0)<$K14,\"\",DATEDIF($K14,EOMONTH(VALUE(\"R\"&基本項目!$B$3+1&\".\"&FY$12&\".1\")-1,1),\"Y\")),$U14))","v":""},null,null,{"$f":"IF($R14=\"\",\"\",IF($U14=\"\",IF(EOMONTH(VALUE(\"R\"&基本項目!$B$3+1&\".\"&GB$12&\".1\"),0)<$K14,\"\",DATEDIF($K14,EOMONTH(VALUE(\"R\"&基本項目!$B$3+1&\".\"&GB$12&\".1\")-1,1),\"Y\")),$U14))","v":""},null,null,"",null,null,null,"",null,null,null,null,null,{"$f":"IF($R14=\"\",\"\",IF($U14=\"\",IF(EOMONTH(VALUE(\"R\"&基本項目!$B$3&\".\"&EU$12&\".1\"),0)<$K14,\"\",DATEDIF($K14,EOMONTH(VALUE(\"R\"&基本項目!$B$3&\".\"&EU$12&\".1\")-1,1),\"Y\")),$U14))","v":""},null,null,{"$f":"IF($R14=\"\",\"\",IF($U14=\"\",IF(EOMONTH(VALUE(\"R\"&基本項目!$B$3&\".\"&EX$12&\".1\"),0)<$K14,\"\",DATEDIF($K14,EOMONTH(VALUE(\"R\"&基本項目!$B$3&\".\"&EX$12&\".1\")-1,1),\"Y\")),$U14))","v":""},null,null,{"$f":"IF($R14=\"\",\"\",IF($U14=\"\",IF(EOMONTH(VALUE(\"R\"&基本項目!$B$3&\".\"&FA$12&\".1\"),0)<$K14,\"\",DATEDIF($K14,EOMONTH(VALUE(\"R\"&基本項目!$B$3&\".\"&FA$12&\".1\")-1,1),\"Y\")),$U14))","v":""},null,null,{"$f":"IF($R14=\"\",\"\",IF($U14=\"\",IF(EOMONTH(VALUE(\"R\"&基本項目!$B$3&\".\"&FD$12&\".1\"),0)<$K14,\"\",DATEDIF($K14,EOMONTH(VALUE(\"R\"&基本項目!$B$3&\".\"&FD$12&\".1\")-1,1),\"Y\")),$U14))","v":""},null,null,{"$f":"IF($R14=\"\",\"\",IF($U14=\"\",IF(EOMONTH(VALUE(\"R\"&基本項目!$B$3&\".\"&FG$12&\".1\"),0)<$K14,\"\",DATEDIF($K14,EOMONTH(VALUE(\"R\"&基本項目!$B$3&\".\"&FG$12&\".1\")-1,1),\"Y\")),$U14))","v":""},null,null,{"$f":"IF($R14=\"\",\"\",IF($U14=\"\",IF(EOMONTH(VALUE(\"R\"&基本項目!$B$3&\".\"&FJ$12&\".1\"),0)<$K14,\"\",DATEDIF($K14,EOMONTH(VALUE(\"R\"&基本項目!$B$3&\".\"&FJ$12&\".1\")-1,1),\"Y\")),$U14))","v":""},null,null,{"$f":"IF($R14=\"\",\"\",IF($U14=\"\",IF(EOMONTH(VALUE(\"R\"&基本項目!$B$3&\".\"&FM$12&\".1\"),0)<$K14,\"\",DATEDIF($K14,EOMONTH(VALUE(\"R\"&基本項目!$B$3&\".\"&FM$12&\".1\")-1,1),\"Y\")),$U14))","v":""},null,null,{"$f":"IF($R14=\"\",\"\",IF($U14=\"\",IF(EOMONTH(VALUE(\"R\"&基本項目!$B$3&\".\"&FP$12&\".1\"),0)<$K14,\"\",DATEDIF($K14,EOMONTH(VALUE(\"R\"&基本項目!$B$3&\".\"&FP$12&\".1\")-1,1),\"Y\")),$U14))","v":""},null,null,{"$f":"IF($R14=\"\",\"\",IF($U14=\"\",IF(EOMONTH(VALUE(\"R\"&基本項目!$B$3&\".\"&FS$12&\".1\"),0)<$K14,\"\",DATEDIF($K14,EOMONTH(VALUE(\"R\"&基本項目!$B$3&\".\"&FS$12&\".1\")-1,1),\"Y\")),$U14))","v":""},null,null,{"$f":"IF($R14=\"\",\"\",IF($U14=\"\",IF(EOMONTH(VALUE(\"R\"&基本項目!$B$3+1&\".\"&FV$12&\".1\"),0)<$K14,\"\",DATEDIF($K14,EOMONTH(VALUE(\"R\"&基本項目!$B$3+1&\".\"&FV$12&\".1\")-1,1),\"Y\")),$U14))","v":""},null,null,{"$f":"IF($R14=\"\",\"\",IF($U14=\"\",IF(EOMONTH(VALUE(\"R\"&基本項目!$B$3+1&\".\"&FY$12&\".1\"),0)<$K14,\"\",DATEDIF($K14,EOMONTH(VALUE(\"R\"&基本項目!$B$3+1&\".\"&FY$12&\".1\")-1,1),\"Y\")),$U14))","v":""},null,null,{"$f":"IF($R14=\"\",\"\",IF($U14=\"\",IF(EOMONTH(VALUE(\"R\"&基本項目!$B$3+1&\".\"&GB$12&\".1\"),0)<$K14,\"\",DATEDIF($K14,EOMONTH(VALUE(\"R\"&基本項目!$B$3+1&\".\"&GB$12&\".1\")-1,1),\"Y\")),$U14))","v":""},null,null,{"$f":"IF($R14=\"\",\"\",COUNTIF($KI14:$LR14,\"<=18\"))","v":""},null,null,null,{"$f":"IF($R14=\"\",\"\",COUNTIF($KI14:$LR14,\"<75\"))","v":""},null,null,null,null,null,"",null,null,"",null,null,"",null,null,"",null,null,"",null,null,"",null,null,"",null,null,"",null,null,"",null,null,"",null,null,"",null,null,"",null,null,"",null,null,null,"",null,null,null,"",null,null,null,null,"",null,null,"",null,null,"",null,null,"",null,null,"",null,null,"",null,null,"",null,null,"",null,null,"",null,null,"",null,null,"",null,null,"",null,null,"",null,null,null,"",null,null,null,"",null,null,null,null,{"$f":"IF(OR(GE14=12,EU14=\"○\"),SUM($EL14),\"\")","v":""},null,null,{"$f":"IF(EX14=\"○\",SUM($EL14),\"\")","v":""},null,null,"",null,null,"",null,null,"",null,null,"",null,null,"",null,null,"",null,null,"",null,null,"",null,null,"",null,null,""]
[null,3,null,null,null,null,null,null,null,null,null,null,null,null,null,null,null,{"$f":"IF(AND($U15=\"\",$K15=\"\"),\"\",IF($U15=\"\",所得計算!$I8,$U15))","v":""},null,null,null,null,null,null,null,null,null,null,null,null,{"$f":"IF(所得計算!AK$4=\"\",\"\",所得計算!AK$4)","v":""},null,null,null,null,null,null,null,null,null,null,null,null,"",null,null,null,null,null,null,null,null,null,null,null,null,null,{"$f":"IF(所得計算!AK$23=\"\",\"\",所得計算!AK$23)","v":""},null,null,null,null,null,null,null,null,null,null,null,null,null,null,null,null,null,null,null,null,null,null,null,null,null,null,null,null,null,null,null,null,null,null,null,null,null,null,null,null,null,null,null,null,null,null,null,null,"",null,null,null,null,null,null,null,null,null,null,null,null,null,"",null,null,null,null,null,null,null,{"$f":"IF(OR(AND(SUM($AL15)=1,SUM($X15)<=8500000),AND(SUM($AL15)=1,SUM($X15)>8500000,SUM($BF15)>0)),\"所得金額調整控除１？\",IF(OR(AND(SUM($AL15)=2,OR(SUM(所得計算!$BG$5:$BG$15)=0,SUM($BF15)=0)),AND(SUM($AL15)=2,OR(SUM($X15)>8500000,SUM($BF15)=0))),\"所得金額調整控除２？\",IF(AND(SUM($AL15)=3,OR(SUM($X15)<=8500000,SUM($BF15)=0)),\"所得金額調整控除３？\",IF(AND($AL15=\"\",OR(SUM($X15)>8500000,AND(SUM(所得計算!$BG$5:$BG$15)>0,SUM($BF15)>0))),\"所得金額調整控除サイン不要？\",\"\"))))","v":""},null,null,null,null,null,null,null,null,null,null,null,null,{"$f":"IF(SUM(DC15,CH15,CV15)=0,0,SUM(DC15,CH15,CV15)-SUM(所得計算!$AV$4)-SUM(所得計算!$AK$36))","v":0},null,null,"",null,null,null,3,null,null,null,null,null,null,null,null,null,null,null,null,null,null,null,null,null,null,null,null,null,null,null,null,null,null,null,null,null,null,null,null,null,null,null,null,null,"",null,null,null,null,null,null,null,null,null,null,{"$f":"IF($GM15=\"\",\"\",IF(HLOOKUP($GM15,$GU$12:$ID$22,4,FALSE)>=65,\"\",\"65未到達\"))","v":""},null,null,null,null,{"$f":"IF($R15=\"\",\"\",IF($U15=\"\",IF(EOMONTH(VALUE(\"R\"&基本項目!$B$3&\".\"&EU$12&\".1\"),0)<$K15,\"\",DATEDIF($K15-1,EOMONTH(VALUE(\"R\"&基本項目!$B$3&\".\"&EU$12&\".1\")-1,1),\"Y\")),$U15))","v":""},null,null,{"$f":"IF($R15=\"\",\"\",IF($U15=\"\",IF(EOMONTH(VALUE(\"R\"&基本項目!$B$3&\".\"&EX$12&\".1\"),0)<$K15,\"\",DATEDIF($K15-1,EOMONTH(VALUE(\"R\"&基本項目!$B$3&\".\"&EX$12&\".1\")-1,1),\"Y\")),$U15))","v":""},null,null,{"$f":"IF($R15=\"\",\"\",IF($U15=\"\",IF(EOMONTH(VALUE(\"R\"&基本項目!$B$3&\".\"&FA$12&\".1\"),0)<$K15,\"\",DATEDIF($K15-1,EOMONTH(VALUE(\"R\"&基本項目!$B$3&\".\"&FA$12&\".1\")-1,1),\"Y\")),$U15))","v":""},null,null,{"$f":"IF($R15=\"\",\"\",IF($U15=\"\",IF(EOMONTH(VALUE(\"R\"&基本項目!$B$3&\".\"&FD$12&\".1\"),0)<$K15,\"\",DATEDIF($K15-1,EOMONTH(VALUE(\"R\"&基本項目!$B$3&\".\"&FD$12&\".1\")-1,1),\"Y\")),$U15))","v":""},null,null,{"$f":"IF($R15=\"\",\"\",IF($U15=\"\",IF(EOMONTH(VALUE(\"R\"&基本項目!$B$3&\".\"&FG$12&\".1\"),0)<$K15,\"\",DATEDIF($K15-1,EOMONTH(VALUE(\"R\"&基本項目!$B$3&\".\"&FG$12&\".1\")-1,1),\"Y\")),$U15))","v":""},null,null,{"$f":"IF($R15=\"\",\"\",IF($U15=\"\",IF(EOMONTH(VALUE(\"R\"&基本項目!$B$3&\".\"&FJ$12&\".1\"),0)<$K15,\"\",DATEDIF($K15-1,EOMONTH(VALUE(\"R\"&基本項目!$B$3&\".\"&FJ$12&\".1\")-1,1),\"Y\")),$U15))","v":""},null,null,{"$f":"IF($R15=\"\",\"\",IF($U15=\"\",IF(EOMONTH(VALUE(\"R\"&基本項目!$B$3&\".\"&FM$12&\".1\"),0)<$K15,\"\",DATEDIF($K15-1,EOMONTH(VALUE(\"R\"&基本項目!$B$3&\".\"&FM$12&\".1\")-1,1),\"Y\")),$U15))","v":""},null,null,{"$f":"IF($R15=\"\",\"\",IF($U15=\"\",IF(EOMONTH(VALUE(\"R\"&基本項目!$B$3&\".\"&FP$12&\".1\"),0)<$K15,\"\",DATEDIF($K15-1,EOMONTH(VALUE(\"R\"&基本項目!$B$3&\".\"&FP$12&\".1\")-1,1),\"Y\")),$U15))","v":""},null,null,{"$f":"IF($R15=\"\",\"\",IF($U15=\"\",IF(EOMONTH(VALUE(\"R\"&基本項目!$B$3&\".\"&FS$12&\".1\"),0)<$K15,\"\",DATEDIF($K15-1,EOMONTH(VALUE(\"R\"&基本項目!$B$3&\".\"&FS$12&\".1\")-1,1),\"Y\")),$U15))","v":""},null,null,{"$f":"IF($R15=\"\",\"\",IF($U15=\"\",IF(EOMONTH(VALUE(\"R\"&基本項目!$B$3+1&\".\"&FV$12&\".1\"),0)<$K15,\"\",DATEDIF($K15-1,EOMONTH(VALUE(\"R\"&基本項目!$B$3+1&\".\"&FV$12&\".1\")-1,1),\"Y\")),$U15))","v":""},null,null,{"$f":"IF($R15=\"\",\"\",IF($U15=\"\",IF(EOMONTH(VALUE(\"R\"&基本項目!$B$3+1&\".\"&FY$12&\".1\"),0)<$K15,\"\",DATEDIF($K15-1,EOMONTH(VALUE(\"R\"&基本項目!$B$3+1&\".\"&FY$12&\".1\")-1,1),\"Y\")),$U15))","v":""},null,null,{"$f":"IF($R15=\"\",\"\",IF($U15=\"\",IF(EOMONTH(VALUE(\"R\"&基本項目!$B$3+1&\".\"&GB$12&\".1\"),0)<$K15,\"\",DATEDIF($K15-1,EOMONTH(VALUE(\"R\"&基本項目!$B$3+1&\".\"&GB$12&\".1\")-1,1),\"Y\")),$U15))","v":""},null,null,"",null,null,null,"",null,null,null,null,null,{"$f":"IF($R15=\"\",\"\",IF($U15=\"\",IF(EOMONTH(VALUE(\"R\"&基本項目!$B$3&\".\"&EU$12&\".1\"),0)<$K15,\"\",DATEDIF($K15,EOMONTH(VALUE(\"R\"&基本項目!$B$3&\".\"&EU$12&\".1\")-1,1),\"Y\")),$U15))","v":""},null,null,{"$f":"IF($R15=\"\",\"\",IF($U15=\"\",IF(EOMONTH(VALUE(\"R\"&基本項目!$B$3&\".\"&EX$12&\".1\"),0)<$K15,\"\",DATEDIF($K15,EOMONTH(VALUE(\"R\"&基本項目!$B$3&\".\"&EX$12&\".1\")-1,1),\"Y\")),$U15))","v":""},null,null,{"$f":"IF($R15=\"\",\"\",IF($U15=\"\",IF(EOMONTH(VALUE(\"R\"&基本項目!$B$3&\".\"&FA$12&\".1\"),0)<$K15,\"\",DATEDIF($K15,EOMONTH(VALUE(\"R\"&基本項目!$B$3&\".\"&FA$12&\".1\")-1,1),\"Y\")),$U15))","v":""},null,null,{"$f":"IF($R15=\"\",\"\",IF($U15=\"\",IF(EOMONTH(VALUE(\"R\"&基本項目!$B$3&\".\"&FD$12&\".1\"),0)<$K15,\"\",DATEDIF($K15,EOMONTH(VALUE(\"R\"&基本項目!$B$3&\".\"&FD$12&\".1\")-1,1),\"Y\")),$U15))","v":""},null,null,{"$f":"IF($R15=\"\",\"\",IF($U15=\"\",IF(EOMONTH(VALUE(\"R\"&基本項目!$B$3&\".\"&FG$12&\".1\"),0)<$K15,\"\",DATEDIF($K15,EOMONTH(VALUE(\"R\"&基本項目!$B$3&\".\"&FG$12&\".1\")-1,1),\"Y\")),$U15))","v":""},null,null,{"$f":"IF($R15=\"\",\"\",IF($U15=\"\",IF(EOMONTH(VALUE(\"R\"&基本項目!$B$3&\".\"&FJ$12&\".1\"),0)<$K15,\"\",DATEDIF($K15,EOMONTH(VALUE(\"R\"&基本項目!$B$3&\".\"&FJ$12&\".1\")-1,1),\"Y\")),$U15))","v":""},null,null,{"$f":"IF($R15=\"\",\"\",IF($U15=\"\",IF(EOMONTH(VALUE(\"R\"&基本項目!$B$3&\".\"&FM$12&\".1\"),0)<$K15,\"\",DATEDIF($K15,EOMONTH(VALUE(\"R\"&基本項目!$B$3&\".\"&FM$12&\".1\")-1,1),\"Y\")),$U15))","v":""},null,null,{"$f":"IF($R15=\"\",\"\",IF($U15=\"\",IF(EOMONTH(VALUE(\"R\"&基本項目!$B$3&\".\"&FP$12&\".1\"),0)<$K15,\"\",DATEDIF($K15,EOMONTH(VALUE(\"R\"&基本項目!$B$3&\".\"&FP$12&\".1\")-1,1),\"Y\")),$U15))","v":""},null,null,{"$f":"IF($R15=\"\",\"\",IF($U15=\"\",IF(EOMONTH(VALUE(\"R\"&基本項目!$B$3&\".\"&FS$12&\".1\"),0)<$K15,\"\",DATEDIF($K15,EOMONTH(VALUE(\"R\"&基本項目!$B$3&\".\"&FS$12&\".1\")-1,1),\"Y\")),$U15))","v":""},null,null,{"$f":"IF($R15=\"\",\"\",IF($U15=\"\",IF(EOMONTH(VALUE(\"R\"&基本項目!$B$3+1&\".\"&FV$12&\".1\"),0)<$K15,\"\",DATEDIF($K15,EOMONTH(VALUE(\"R\"&基本項目!$B$3+1&\".\"&FV$12&\".1\")-1,1),\"Y\")),$U15))","v":""},null,null,{"$f":"IF($R15=\"\",\"\",IF($U15=\"\",IF(EOMONTH(VALUE(\"R\"&基本項目!$B$3+1&\".\"&FY$12&\".1\"),0)<$K15,\"\",DATEDIF($K15,EOMONTH(VALUE(\"R\"&基本項目!$B$3+1&\".\"&FY$12&\".1\")-1,1),\"Y\")),$U15))","v":""},null,null,{"$f":"IF($R15=\"\",\"\",IF($U15=\"\",IF(EOMONTH(VALUE(\"R\"&基本項目!$B$3+1&\".\"&GB$12&\".1\"),0)<$K15,\"\",DATEDIF($K15,EOMONTH(VALUE(\"R\"&基本項目!$B$3+1&\".\"&GB$12&\".1\")-1,1),\"Y\")),$U15))","v":""},null,null,"",null,null,null,"",null,null,null,null,null,{"$f":"IF($R15=\"\",\"\",IF($U15=\"\",IF(EOMONTH(VALUE(\"R\"&基本項目!$B$3&\".\"&EU$12&\".1\"),0)<$K15,\"\",DATEDIF($K15,EOMONTH(VALUE(\"R\"&基本項目!$B$3&\".\"&EU$12&\".1\")-1,1),\"Y\")),$U15))","v":""},null,null,{"$f":"IF($R15=\"\",\"\",IF($U15=\"\",IF(EOMONTH(VALUE(\"R\"&基本項目!$B$3&\".\"&EX$12&\".1\"),0)<$K15,\"\",DATEDIF($K15,EOMONTH(VALUE(\"R\"&基本項目!$B$3&\".\"&EX$12&\".1\")-1,1),\"Y\")),$U15))","v":""},null,null,{"$f":"IF($R15=\"\",\"\",IF($U15=\"\",IF(EOMONTH(VALUE(\"R\"&基本項目!$B$3&\".\"&FA$12&\".1\"),0)<$K15,\"\",DATEDIF($K15,EOMONTH(VALUE(\"R\"&基本項目!$B$3&\".\"&FA$12&\".1\")-1,1),\"Y\")),$U15))","v":""},null,null,{"$f":"IF($R15=\"\",\"\",IF($U15=\"\",IF(EOMONTH(VALUE(\"R\"&基本項目!$B$3&\".\"&FD$12&\".1\"),0)<$K15,\"\",DATEDIF($K15,EOMONTH(VALUE(\"R\"&基本項目!$B$3&\".\"&FD$12&\".1\")-1,1),\"Y\")),$U15))","v":""},null,null,{"$f":"IF($R15=\"\",\"\",IF($U15=\"\",IF(EOMONTH(VALUE(\"R\"&基本項目!$B$3&\".\"&FG$12&\".1\"),0)<$K15,\"\",DATEDIF($K15,EOMONTH(VALUE(\"R\"&基本項目!$B$3&\".\"&FG$12&\".1\")-1,1),\"Y\")),$U15))","v":""},null,null,{"$f":"IF($R15=\"\",\"\",IF($U15=\"\",IF(EOMONTH(VALUE(\"R\"&基本項目!$B$3&\".\"&FJ$12&\".1\"),0)<$K15,\"\",DATEDIF($K15,EOMONTH(VALUE(\"R\"&基本項目!$B$3&\".\"&FJ$12&\".1\")-1,1),\"Y\")),$U15))","v":""},null,null,{"$f":"IF($R15=\"\",\"\",IF($U15=\"\",IF(EOMONTH(VALUE(\"R\"&基本項目!$B$3&\".\"&FM$12&\".1\"),0)<$K15,\"\",DATEDIF($K15,EOMONTH(VALUE(\"R\"&基本項目!$B$3&\".\"&FM$12&\".1\")-1,1),\"Y\")),$U15))","v":""},null,null,{"$f":"IF($R15=\"\",\"\",IF($U15=\"\",IF(EOMONTH(VALUE(\"R\"&基本項目!$B$3&\".\"&FP$12&\".1\"),0)<$K15,\"\",DATEDIF($K15,EOMONTH(VALUE(\"R\"&基本項目!$B$3&\".\"&FP$12&\".1\")-1,1),\"Y\")),$U15))","v":""},null,null,{"$f":"IF($R15=\"\",\"\",IF($U15=\"\",IF(EOMONTH(VALUE(\"R\"&基本項目!$B$3&\".\"&FS$12&\".1\"),0)<$K15,\"\",DATEDIF($K15,EOMONTH(VALUE(\"R\"&基本項目!$B$3&\".\"&FS$12&\".1\")-1,1),\"Y\")),$U15))","v":""},null,null,{"$f":"IF($R15=\"\",\"\",IF($U15=\"\",IF(EOMONTH(VALUE(\"R\"&基本項目!$B$3+1&\".\"&FV$12&\".1\"),0)<$K15,\"\",DATEDIF($K15,EOMONTH(VALUE(\"R\"&基本項目!$B$3+1&\".\"&FV$12&\".1\")-1,1),\"Y\")),$U15))","v":""},null,null,{"$f":"IF($R15=\"\",\"\",IF($U15=\"\",IF(EOMONTH(VALUE(\"R\"&基本項目!$B$3+1&\".\"&FY$12&\".1\"),0)<$K15,\"\",DATEDIF($K15,EOMONTH(VALUE(\"R\"&基本項目!$B$3+1&\".\"&FY$12&\".1\")-1,1),\"Y\")),$U15))","v":""},null,null,{"$f":"IF($R15=\"\",\"\",IF($U15=\"\",IF(EOMONTH(VALUE(\"R\"&基本項目!$B$3+1&\".\"&GB$12&\".1\"),0)<$K15,\"\",DATEDIF($K15,EOMONTH(VALUE(\"R\"&基本項目!$B$3+1&\".\"&GB$12&\".1\")-1,1),\"Y\")),$U15))","v":""},null,null,"",null,null,null,"",null,null,null,null,null,"",null,null,"",null,null,"",null,null,"",null,null,"",null,null,"",null,null,"",null,null,"",null,null,"",null,null,"",null,null,"",null,null,"",null,null,"",null,null,null,"",null,null,null,"",null,null,null,null,"",null,null,"",null,null,"",null,null,"",null,null,"",null,null,"",null,null,"",null,null,"",null,null,"",null,null,"",null,null,"",null,null,"",null,null,"",null,null,null,"",null,null,null,"",null,null,null,null,"",null,null,"",null,null,"",null,null,"",null,null,"",null,null,"",null,null,"",null,null,"",null,null,"",null,null,"",null,null,"",null,null,""]
[null,4,null,null,null,null,null,null,null,null,null,null,null,null,null,null,null,{"$f":"IF(AND($U16=\"\",$K16=\"\"),\"\",IF($U16=\"\",所得計算!$I9,$U16))","v":""},null,null,null,null,null,null,null,null,null,null,null,null,{"$f":"IF(所得計算!AL$4=\"\",\"\",所得計算!AL$4)","v":""},null,null,null,null,null,null,null,null,null,null,null,null,"",null,null,null,null,null,null,null,null,null,null,null,null,null,{"$f":"IF(所得計算!AL$23=\"\",\"\",所得計算!AL$23)","v":""},null,null,null,null,null,null,null,null,null,null,null,null,null,null,null,null,null,null,null,null,null,null,null,null,null,null,null,null,null,null,null,null,null,null,null,null,null,null,null,null,null,null,null,null,null,null,null,null,"",null,null,null,null,null,null,null,null,null,null,null,null,null,"",null,null,null,null,null,null,null,{"$f":"IF(OR(AND(SUM($AL16)=1,SUM($X16)<=8500000),AND(SUM($AL16)=1,SUM($X16)>8500000,SUM($BF16)>0)),\"所得金額調整控除１？\",IF(OR(AND(SUM($AL16)=2,OR(SUM(所得計算!$BH$5:$BH$15)=0,SUM($BF16)=0)),AND(SUM($AL16)=2,OR(SUM($X16)>8500000,SUM($BF16)=0))),\"所得金額調整控除２？\",IF(AND(SUM($AL16)=3,OR(SUM($X16)<=8500000,SUM($BF16)=0)),\"所得金額調整控除３？\",IF(AND($AL16=\"\",OR(SUM($X16)>8500000,AND(SUM(所得計算!$BH$5:$BH$15)>0,SUM($BF16)>0))),\"所得金額調整控除サイン不要？\",\"\"))))","v":""},null,null,null,null,null,null,null,null,null,null,null,null,{"$f":"IF(SUM(DC16,CH16,CV16)=0,0,SUM(DC16,CH16,CV16)-SUM(所得計算!$AW$4)-SUM(所得計算!$AL$36))","v":0},null,null,"",null,null,null,4,null,null,null,null,null,null,null,null,null,null,null,null,null,null,null,null,null,null,null,null,null,null,null,null,null,null,null,null,null,null,null,null,null,null,null,null,null,"",null,null,null,null,null,null,null,null,null,null,{"$f":"IF($GM16=\"\",\"\",IF(HLOOKUP($GM16,$GU$12:$ID$22,5,FALSE)>=65,\"\",\"65未到達\"))","v":""},null,null,null,null,{"$f":"IF($R16=\"\",\"\",IF($U16=\"\",IF(EOMONTH(VALUE(\"R\"&基本項目!$B$3&\".\"&EU$12&\".1\"),0)<$K16,\"\",DATEDIF($K16-1,EOMONTH(VALUE(\"R\"&基本項目!$B$3&\".\"&EU$12&\".1\")-1,1),\"Y\")),$U16))","v":""},null,null,{"$f":"IF($R16=\"\",\"\",IF($U16=\"\",IF(EOMONTH(VALUE(\"R\"&基本項目!$B$3&\".\"&EX$12&\".1\"),0)<$K16,\"\",DATEDIF($K16-1,EOMONTH(VALUE(\"R\"&基本項目!$B$3&\".\"&EX$12&\".1\")-1,1),\"Y\")),$U16))","v":""},null,null,{"$f":"IF($R16=\"\",\"\",IF($U16=\"\",IF(EOMONTH(VALUE(\"R\"&基本項目!$B$3&\".\"&FA$12&\".1\"),0)<$K16,\"\",DATEDIF($K16-1,EOMONTH(VALUE(\"R\"&基本項目!$B$3&\".\"&FA$12&\".1\")-1,1),\"Y\")),$U16))","v":""},null,null,{"$f":"IF($R16=\"\",\"\",IF($U16=\"\",IF(EOMONTH(VALUE(\"R\"&基本項目!$B$3&\".\"&FD$12&\".1\"),0)<$K16,\"\",DATEDIF($K16-1,EOMONTH(VALUE(\"R\"&基本項目!$B$3&\".\"&FD$12&\".1\")-1,1),\"Y\")),$U16))","v":""},null,null,{"$f":"IF($R16=\"\",\"\",IF($U16=\"\",IF(EOMONTH(VALUE(\"R\"&基本項目!$B$3&\".\"&FG$12&\".1\"),0)<$K16,\"\",DATEDIF($K16-1,EOMONTH(VALUE(\"R\"&基本項目!$B$3&\".\"&FG$12&\".1\")-1,1),\"Y\")),$U16))","v":""},null,null,{"$f":"IF($R16=\"\",\"\",IF($U16=\"\",IF(EOMONTH(VALUE(\"R\"&基本項目!$B$3&\".\"&FJ$12&\".1\"),0)<$K16,\"\",DATEDIF($K16-1,EOMONTH(VALUE(\"R\"&基本項目!$B$3&\".\"&FJ$12&\".1\")-1,1),\"Y\")),$U16))","v":""},null,null,{"$f":"IF($R16=\"\",\"\",IF($U16=\"\",IF(EOMONTH(VALUE(\"R\"&基本項目!$B$3&\".\"&FM$12&\".1\"),0)<$K16,\"\",DATEDIF($K16-1,EOMONTH(VALUE(\"R\"&基本項目!$B$3&\".\"&FM$12&\".1\")-1,1),\"Y\")),$U16))","v":""},null,null,{"$f":"IF($R16=\"\",\"\",IF($U16=\"\",IF(EOMONTH(VALUE(\"R\"&基本項目!$B$3&\".\"&FP$12&\".1\"),0)<$K16,\"\",DATEDIF($K16-1,EOMONTH(VALUE(\"R\"&基本項目!$B$3&\".\"&FP$12&\".1\")-1,1),\"Y\")),$U16))","v":""},null,null,{"$f":"IF($R16=\"\",\"\",IF($U16=\"\",IF(EOMONTH(VALUE(\"R\"&基本項目!$B$3&\".\"&FS$12&\".1\"),0)<$K16,\"\",DATEDIF($K16-1,EOMONTH(VALUE(\"R\"&基本項目!$B$3&\".\"&FS$12&\".1\")-1,1),\"Y\")),$U16))","v":""},null,null,{"$f":"IF($R16=\"\",\"\",IF($U16=\"\",IF(EOMONTH(VALUE(\"R\"&基本項目!$B$3+1&\".\"&FV$12&\".1\"),0)<$K16,\"\",DATEDIF($K16-1,EOMONTH(VALUE(\"R\"&基本項目!$B$3+1&\".\"&FV$12&\".1\")-1,1),\"Y\")),$U16))","v":""},null,null,{"$f":"IF($R16=\"\",\"\",IF($U16=\"\",IF(EOMONTH(VALUE(\"R\"&基本項目!$B$3+1&\".\"&FY$12&\".1\"),0)<$K16,\"\",DATEDIF($K16-1,EOMONTH(VALUE(\"R\"&基本項目!$B$3+1&\".\"&FY$12&\".1\")-1,1),\"Y\")),$U16))","v":""},null,null,{"$f":"IF($R16=\"\",\"\",IF($U16=\"\",IF(EOMONTH(VALUE(\"R\"&基本項目!$B$3+1&\".\"&GB$12&\".1\"),0)<$K16,\"\",DATEDIF($K16-1,EOMONTH(VALUE(\"R\"&基本項目!$B$3+1&\".\"&GB$12&\".1\")-1,1),\"Y\")),$U16))","v":""},null,null,"",null,null,null,"",null,null,null,null,null,{"$f":"IF($R16=\"\",\"\",IF($U16=\"\",IF(EOMONTH(VALUE(\"R\"&基本項目!$B$3&\".\"&EU$12&\".1\"),0)<$K16,\"\",DATEDIF($K16,EOMONTH(VALUE(\"R\"&基本項目!$B$3&\".\"&EU$12&\".1\")-1,1),\"Y\")),$U16))","v":""},null,null,{"$f":"IF($R16=\"\",\"\",IF($U16=\"\",IF(EOMONTH(VALUE(\"R\"&基本項目!$B$3&\".\"&EX$12&\".1\"),0)<$K16,\"\",DATEDIF($K16,EOMONTH(VALUE(\"R\"&基本項目!$B$3&\".\"&EX$12&\".1\")-1,1),\"Y\")),$U16))","v":""},null,null,{"$f":"IF($R16=\"\",\"\",IF($U16=\"\",IF(EOMONTH(VALUE(\"R\"&基本項目!$B$3&\".\"&FA$12&\".1\"),0)<$K16,\"\",DATEDIF($K16,EOMONTH(VALUE(\"R\"&基本項目!$B$3&\".\"&FA$12&\".1\")-1,1),\"Y\")),$U16))","v":""},null,null,{"$f":"IF($R16=\"\",\"\",IF($U16=\"\",IF(EOMONTH(VALUE(\"R\"&基本項目!$B$3&\".\"&FD$12&\".1\"),0)<$K16,\"\",DATEDIF($K16,EOMONTH(VALUE(\"R\"&基本項目!$B$3&\".\"&FD$12&\".1\")-1,1),\"Y\")),$U16))","v":""},null,null,{"$f":"IF($R16=\"\",\"\",IF($U16=\"\",IF(EOMONTH(VALUE(\"R\"&基本項目!$B$3&\".\"&FG$12&\".1\"),0)<$K16,\"\",DATEDIF($K16,EOMONTH(VALUE(\"R\"&基本項目!$B$3&\".\"&FG$12&\".1\")-1,1),\"Y\")),$U16))","v":""},null,null,{"$f":"IF($R16=\"\",\"\",IF($U16=\"\",IF(EOMONTH(VALUE(\"R\"&基本項目!$B$3&\".\"&FJ$12&\".1\"),0)<$K16,\"\",DATEDIF($K16,EOMONTH(VALUE(\"R\"&基本項目!$B$3&\".\"&FJ$12&\".1\")-1,1),\"Y\")),$U16))","v":""},null,null,{"$f":"IF($R16=\"\",\"\",IF($U16=\"\",IF(EOMONTH(VALUE(\"R\"&基本項目!$B$3&\".\"&FM$12&\".1\"),0)<$K16,\"\",DATEDIF($K16,EOMONTH(VALUE(\"R\"&基本項目!$B$3&\".\"&FM$12&\".1\")-1,1),\"Y\")),$U16))","v":""},null,null,{"$f":"IF($R16=\"\",\"\",IF($U16=\"\",IF(EOMONTH(VALUE(\"R\"&基本項目!$B$3&\".\"&FP$12&\".1\"),0)<$K16,\"\",DATEDIF($K16,EOMONTH(VALUE(\"R\"&基本項目!$B$3&\".\"&FP$12&\".1\")-1,1),\"Y\")),$U16))","v":""},null,null,{"$f":"IF($R16=\"\",\"\",IF($U16=\"\",IF(EOMONTH(VALUE(\"R\"&基本項目!$B$3&\".\"&FS$12&\".1\"),0)<$K16,\"\",DATEDIF($K16,EOMONTH(VALUE(\"R\"&基本項目!$B$3&\".\"&FS$12&\".1\")-1,1),\"Y\")),$U16))","v":""},null,null,{"$f":"IF($R16=\"\",\"\",IF($U16=\"\",IF(EOMONTH(VALUE(\"R\"&基本項目!$B$3+1&\".\"&FV$12&\".1\"),0)<$K16,\"\",DATEDIF($K16,EOMONTH(VALUE(\"R\"&基本項目!$B$3+1&\".\"&FV$12&\".1\")-1,1),\"Y\")),$U16))","v":""},null,null,{"$f":"IF($R16=\"\",\"\",IF($U16=\"\",IF(EOMONTH(VALUE(\"R\"&基本項目!$B$3+1&\".\"&FY$12&\".1\"),0)<$K16,\"\",DATEDIF($K16,EOMONTH(VALUE(\"R\"&基本項目!$B$3+1&\".\"&FY$12&\".1\")-1,1),\"Y\")),$U16))","v":""},null,null,{"$f":"IF($R16=\"\",\"\",IF($U16=\"\",IF(EOMONTH(VALUE(\"R\"&基本項目!$B$3+1&\".\"&GB$12&\".1\"),0)<$K16,\"\",DATEDIF($K16,EOMONTH(VALUE(\"R\"&基本項目!$B$3+1&\".\"&GB$12&\".1\")-1,1),\"Y\")),$U16))","v":""},null,null,"",null,null,null,"",null,null,null,null,null,{"$f":"IF($R16=\"\",\"\",IF($U16=\"\",IF(EOMONTH(VALUE(\"R\"&基本項目!$B$3&\".\"&EU$12&\".1\"),0)<$K16,\"\",DATEDIF($K16,EOMONTH(VALUE(\"R\"&基本項目!$B$3&\".\"&EU$12&\".1\")-1,1),\"Y\")),$U16))","v":""},null,null,{"$f":"IF($R16=\"\",\"\",IF($U16=\"\",IF(EOMONTH(VALUE(\"R\"&基本項目!$B$3&\".\"&EX$12&\".1\"),0)<$K16,\"\",DATEDIF($K16,EOMONTH(VALUE(\"R\"&基本項目!$B$3&\".\"&EX$12&\".1\")-1,1),\"Y\")),$U16))","v":""},null,null,{"$f":"IF($R16=\"\",\"\",IF($U16=\"\",IF(EOMONTH(VALUE(\"R\"&基本項目!$B$3&\".\"&FA$12&\".1\"),0)<$K16,\"\",DATEDIF($K16,EOMONTH(VALUE(\"R\"&基本項目!$B$3&\".\"&FA$12&\".1\")-1,1),\"Y\")),$U16))","v":""},null,null,{"$f":"IF($R16=\"\",\"\",IF($U16=\"\",IF(EOMONTH(VALUE(\"R\"&基本項目!$B$3&\".\"&FD$12&\".1\"),0)<$K16,\"\",DATEDIF($K16,EOMONTH(VALUE(\"R\"&基本項目!$B$3&\".\"&FD$12&\".1\")-1,1),\"Y\")),$U16))","v":""},null,null,{"$f":"IF($R16=\"\",\"\",IF($U16=\"\",IF(EOMONTH(VALUE(\"R\"&基本項目!$B$3&\".\"&FG$12&\".1\"),0)<$K16,\"\",DATEDIF($K16,EOMONTH(VALUE(\"R\"&基本項目!$B$3&\".\"&FG$12&\".1\")-1,1),\"Y\")),$U16))","v":""},null,null,{"$f":"IF($R16=\"\",\"\",IF($U16=\"\",IF(EOMONTH(VALUE(\"R\"&基本項目!$B$3&\".\"&FJ$12&\".1\"),0)<$K16,\"\",DATEDIF($K16,EOMONTH(VALUE(\"R\"&基本項目!$B$3&\".\"&FJ$12&\".1\")-1,1),\"Y\")),$U16))","v":""},null,null,{"$f":"IF($R16=\"\",\"\",IF($U16=\"\",IF(EOMONTH(VALUE(\"R\"&基本項目!$B$3&\".\"&FM$12&\".1\"),0)<$K16,\"\",DATEDIF($K16,EOMONTH(VALUE(\"R\"&基本項目!$B$3&\".\"&FM$12&\".1\")-1,1),\"Y\")),$U16))","v":""},null,null,{"$f":"IF($R16=\"\",\"\",IF($U16=\"\",IF(EOMONTH(VALUE(\"R\"&基本項目!$B$3&\".\"&FP$12&\".1\"),0)<$K16,\"\",DATEDIF($K16,EOMONTH(VALUE(\"R\"&基本項目!$B$3&\".\"&FP$12&\".1\")-1,1),\"Y\")),$U16))","v":""},null,null,{"$f":"IF($R16=\"\",\"\",IF($U16=\"\",IF(EOMONTH(VALUE(\"R\"&基本項目!$B$3&\".\"&FS$12&\".1\"),0)<$K16,\"\",DATEDIF($K16,EOMONTH(VALUE(\"R\"&基本項目!$B$3&\".\"&FS$12&\".1\")-1,1),\"Y\")),$U16))","v":""},null,null,{"$f":"IF($R16=\"\",\"\",IF($U16=\"\",IF(EOMONTH(VALUE(\"R\"&基本項目!$B$3+1&\".\"&FV$12&\".1\"),0)<$K16,\"\",DATEDIF($K16,EOMONTH(VALUE(\"R\"&基本項目!$B$3+1&\".\"&FV$12&\".1\")-1,1),\"Y\")),$U16))","v":""},null,null,{"$f":"IF($R16=\"\",\"\",IF($U16=\"\",IF(EOMONTH(VALUE(\"R\"&基本項目!$B$3+1&\".\"&FY$12&\".1\"),0)<$K16,\"\",DATEDIF($K16,EOMONTH(VALUE(\"R\"&基本項目!$B$3+1&\".\"&FY$12&\".1\")-1,1),\"Y\")),$U16))","v":""},null,null,{"$f":"IF($R16=\"\",\"\",IF($U16=\"\",IF(EOMONTH(VALUE(\"R\"&基本項目!$B$3+1&\".\"&GB$12&\".1\"),0)<$K16,\"\",DATEDIF($K16,EOMONTH(VALUE(\"R\"&基本項目!$B$3+1&\".\"&GB$12&\".1\")-1,1),\"Y\")),$U16))","v":""},null,null,"",null,null,null,"",null,null,null,null,null,"",null,null,"",null,null,"",null,null,"",null,null,"",null,null,"",null,null,"",null,null,"",null,null,"",null,null,"",null,null,"",null,null,"",null,null,"",null,null,null,"",null,null,null,"",null,null,null,null,"",null,null,"",null,null,"",null,null,"",null,null,"",null,null,"",null,null,"",null,null,"",null,null,"",null,null,"",null,null,"",null,null,"",null,null,"",null,null,null,"",null,null,null,"",null,null,null,null,"",null,null,"",null,null,"",null,null,"",null,null,"",null,null,"",null,null,"",null,null,"",null,null,"",null,null,"",null,null,"",null,null,""]
[null,5,null,null,null,null,null,null,null,null,null,null,null,null,null,null,null,{"$f":"IF(AND($U17=\"\",$K17=\"\"),\"\",IF($U17=\"\",所得計算!$I10,$U17))","v":""},null,null,null,null,null,null,null,null,null,null,null,null,{"$f":"IF(所得計算!AM$4=\"\",\"\",所得計算!AM$4)","v":""},null,null,null,null,null,null,null,null,null,null,null,null,"",null,null,null,null,null,null,null,null,null,null,null,null,null,{"$f":"IF(所得計算!AM$23=\"\",\"\",所得計算!AM$23)","v":""},null,null,null,null,null,null,null,null,null,null,null,null,null,null,null,null,null,null,null,null,null,null,null,null,null,null,null,null,null,null,null,null,null,null,null,null,null,null,null,null,null,null,null,null,null,null,null,null,"",null,null,null,null,null,null,null,null,null,null,null,null,null,"",null,null,null,null,null,null,null,{"$f":"IF(OR(AND(SUM($AL17)=1,SUM($X17)<=8500000),AND(SUM($AL17)=1,SUM($X17)>8500000,SUM($BF17)>0)),\"所得金額調整控除１？\",IF(OR(AND(SUM($AL17)=2,OR(SUM(所得計算!$BI$5:$BI$15)=0,SUM($BF17)=0)),AND(SUM($AL17)=2,OR(SUM($X17)>8500000,SUM($BF17)=0))),\"所得金額調整控除２？\",IF(AND(SUM($AL17)=3,OR(SUM($X17)<=8500000,SUM($BF17)=0)),\"所得金額調整控除３？\",IF(AND($AL17=\"\",OR(SUM($X17)>8500000,AND(SUM(所得計算!$BI$5:$BI$15)>0,SUM($BF17)>0))),\"所得金額調整控除サイン不要？\",\"\"))))","v":""},null,null,null,null,null,null,null,null,null,null,null,null,{"$f":"IF(SUM(DC17,CH17,CV17)=0,0,SUM(DC17,CH17,CV17)-SUM(所得計算!$AX$4)-SUM(所得計算!$AM$36))","v":0},null,null,"",null,null,null,5,null,null,null,null,null,null,null,null,null,null,null,null,null,null,null,null,null,null,null,null,null,null,null,null,null,null,null,null,null,null,null,null,null,null,null,null,null,"",null,null,null,null,null,null,null,null,null,null,{"$f":"IF($GM17=\"\",\"\",IF(HLOOKUP($GM17,$GU$12:$ID$22,6,FALSE)>=65,\"\",\"65未到達\"))","v":""},null,null,null,null,{"$f":"IF($R17=\"\",\"\",IF($U17=\"\",IF(EOMONTH(VALUE(\"R\"&基本項目!$B$3&\".\"&EU$12&\".1\"),0)<$K17,\"\",DATEDIF($K17-1,EOMONTH(VALUE(\"R\"&基本項目!$B$3&\".\"&EU$12&\".1\")-1,1),\"Y\")),$U17))","v":""},null,null,{"$f":"IF($R17=\"\",\"\",IF($U17=\"\",IF(EOMONTH(VALUE(\"R\"&基本項目!$B$3&\".\"&EX$12&\".1\"),0)<$K17,\"\",DATEDIF($K17-1,EOMONTH(VALUE(\"R\"&基本項目!$B$3&\".\"&EX$12&\".1\")-1,1),\"Y\")),$U17))","v":""},null,null,{"$f":"IF($R17=\"\",\"\",IF($U17=\"\",IF(EOMONTH(VALUE(\"R\"&基本項目!$B$3&\".\"&FA$12&\".1\"),0)<$K17,\"\",DATEDIF($K17-1,EOMONTH(VALUE(\"R\"&基本項目!$B$3&\".\"&FA$12&\".1\")-1,1),\"Y\")),$U17))","v":""},null,null,{"$f":"IF($R17=\"\",\"\",IF($U17=\"\",IF(EOMONTH(VALUE(\"R\"&基本項目!$B$3&\".\"&FD$12&\".1\"),0)<$K17,\"\",DATEDIF($K17-1,EOMONTH(VALUE(\"R\"&基本項目!$B$3&\".\"&FD$12&\".1\")-1,1),\"Y\")),$U17))","v":""},null,null,{"$f":"IF($R17=\"\",\"\",IF($U17=\"\",IF(EOMONTH(VALUE(\"R\"&基本項目!$B$3&\".\"&FG$12&\".1\"),0)<$K17,\"\",DATEDIF($K17-1,EOMONTH(VALUE(\"R\"&基本項目!$B$3&\".\"&FG$12&\".1\")-1,1),\"Y\")),$U17))","v":""},null,null,{"$f":"IF($R17=\"\",\"\",IF($U17=\"\",IF(EOMONTH(VALUE(\"R\"&基本項目!$B$3&\".\"&FJ$12&\".1\"),0)<$K17,\"\",DATEDIF($K17-1,EOMONTH(VALUE(\"R\"&基本項目!$B$3&\".\"&FJ$12&\".1\")-1,1),\"Y\")),$U17))","v":""},null,null,{"$f":"IF($R17=\"\",\"\",IF($U17=\"\",IF(EOMONTH(VALUE(\"R\"&基本項目!$B$3&\".\"&FM$12&\".1\"),0)<$K17,\"\",DATEDIF($K17-1,EOMONTH(VALUE(\"R\"&基本項目!$B$3&\".\"&FM$12&\".1\")-1,1),\"Y\")),$U17))","v":""},null,null,{"$f":"IF($R17=\"\",\"\",IF($U17=\"\",IF(EOMONTH(VALUE(\"R\"&基本項目!$B$3&\".\"&FP$12&\".1\"),0)<$K17,\"\",DATEDIF($K17-1,EOMONTH(VALUE(\"R\"&基本項目!$B$3&\".\"&FP$12&\".1\")-1,1),\"Y\")),$U17))","v":""},null,null,{"$f":"IF($R17=\"\",\"\",IF($U17=\"\",IF(EOMONTH(VALUE(\"R\"&基本項目!$B$3&\".\"&FS$12&\".1\"),0)<$K17,\"\",DATEDIF($K17-1,EOMONTH(VALUE(\"R\"&基本項目!$B$3&\".\"&FS$12&\".1\")-1,1),\"Y\")),$U17))","v":""},null,null,{"$f":"IF($R17=\"\",\"\",IF($U17=\"\",IF(EOMONTH(VALUE(\"R\"&基本項目!$B$3+1&\".\"&FV$12&\".1\"),0)<$K17,\"\",DATEDIF($K17-1,EOMONTH(VALUE(\"R\"&基本項目!$B$3+1&\".\"&FV$12&\".1\")-1,1),\"Y\")),$U17))","v":""},null,null,{"$f":"IF($R17=\"\",\"\",IF($U17=\"\",IF(EOMONTH(VALUE(\"R\"&基本項目!$B$3+1&\".\"&FY$12&\".1\"),0)<$K17,\"\",DATEDIF($K17-1,EOMONTH(VALUE(\"R\"&基本項目!$B$3+1&\".\"&FY$12&\".1\")-1,1),\"Y\")),$U17))","v":""},null,null,{"$f":"IF($R17=\"\",\"\",IF($U17=\"\",IF(EOMONTH(VALUE(\"R\"&基本項目!$B$3+1&\".\"&GB$12&\".1\"),0)<$K17,\"\",DATEDIF($K17-1,EOMONTH(VALUE(\"R\"&基本項目!$B$3+1&\".\"&GB$12&\".1\")-1,1),\"Y\")),$U17))","v":""},null,null,"",null,null,null,"",null,null,null,null,null,{"$f":"IF($R17=\"\",\"\",IF($U17=\"\",IF(EOMONTH(VALUE(\"R\"&基本項目!$B$3&\".\"&EU$12&\".1\"),0)<$K17,\"\",DATEDIF($K17,EOMONTH(VALUE(\"R\"&基本項目!$B$3&\".\"&EU$12&\".1\")-1,1),\"Y\")),$U17))","v":""},null,null,{"$f":"IF($R17=\"\",\"\",IF($U17=\"\",IF(EOMONTH(VALUE(\"R\"&基本項目!$B$3&\".\"&EX$12&\".1\"),0)<$K17,\"\",DATEDIF($K17,EOMONTH(VALUE(\"R\"&基本項目!$B$3&\".\"&EX$12&\".1\")-1,1),\"Y\")),$U17))","v":""},null,null,{"$f":"IF($R17=\"\",\"\",IF($U17=\"\",IF(EOMONTH(VALUE(\"R\"&基本項目!$B$3&\".\"&FA$12&\".1\"),0)<$K17,\"\",DATEDIF($K17,EOMONTH(VALUE(\"R\"&基本項目!$B$3&\".\"&FA$12&\".1\")-1,1),\"Y\")),$U17))","v":""},null,null,{"$f":"IF($R17=\"\",\"\",IF($U17=\"\",IF(EOMONTH(VALUE(\"R\"&基本項目!$B$3&\".\"&FD$12&\".1\"),0)<$K17,\"\",DATEDIF($K17,EOMONTH(VALUE(\"R\"&基本項目!$B$3&\".\"&FD$12&\".1\")-1,1),\"Y\")),$U17))","v":""},null,null,{"$f":"IF($R17=\"\",\"\",IF($U17=\"\",IF(EOMONTH(VALUE(\"R\"&基本項目!$B$3&\".\"&FG$12&\".1\"),0)<$K17,\"\",DATEDIF($K17,EOMONTH(VALUE(\"R\"&基本項目!$B$3&\".\"&FG$12&\".1\")-1,1),\"Y\")),$U17))","v":""},null,null,{"$f":"IF($R17=\"\",\"\",IF($U17=\"\",IF(EOMONTH(VALUE(\"R\"&基本項目!$B$3&\".\"&FJ$12&\".1\"),0)<$K17,\"\",DATEDIF($K17,EOMONTH(VALUE(\"R\"&基本項目!$B$3&\".\"&FJ$12&\".1\")-1,1),\"Y\")),$U17))","v":""},null,null,{"$f":"IF($R17=\"\",\"\",IF($U17=\"\",IF(EOMONTH(VALUE(\"R\"&基本項目!$B$3&\".\"&FM$12&\".1\"),0)<$K17,\"\",DATEDIF($K17,EOMONTH(VALUE(\"R\"&基本項目!$B$3&\".\"&FM$12&\".1\")-1,1),\"Y\")),$U17))","v":""},null,null,{"$f":"IF($R17=\"\",\"\",IF($U17=\"\",IF(EOMONTH(VALUE(\"R\"&基本項目!$B$3&\".\"&FP$12&\".1\"),0)<$K17,\"\",DATEDIF($K17,EOMONTH(VALUE(\"R\"&基本項目!$B$3&\".\"&FP$12&\".1\")-1,1),\"Y\")),$U17))","v":""},null,null,{"$f":"IF($R17=\"\",\"\",IF($U17=\"\",IF(EOMONTH(VALUE(\"R\"&基本項目!$B$3&\".\"&FS$12&\".1\"),0)<$K17,\"\",DATEDIF($K17,EOMONTH(VALUE(\"R\"&基本項目!$B$3&\".\"&FS$12&\".1\")-1,1),\"Y\")),$U17))","v":""},null,null,{"$f":"IF($R17=\"\",\"\",IF($U17=\"\",IF(EOMONTH(VALUE(\"R\"&基本項目!$B$3+1&\".\"&FV$12&\".1\"),0)<$K17,\"\",DATEDIF($K17,EOMONTH(VALUE(\"R\"&基本項目!$B$3+1&\".\"&FV$12&\".1\")-1,1),\"Y\")),$U17))","v":""},null,null,{"$f":"IF($R17=\"\",\"\",IF($U17=\"\",IF(EOMONTH(VALUE(\"R\"&基本項目!$B$3+1&\".\"&FY$12&\".1\"),0)<$K17,\"\",DATEDIF($K17,EOMONTH(VALUE(\"R\"&基本項目!$B$3+1&\".\"&FY$12&\".1\")-1,1),\"Y\")),$U17))","v":""},null,null,{"$f":"IF($R17=\"\",\"\",IF($U17=\"\",IF(EOMONTH(VALUE(\"R\"&基本項目!$B$3+1&\".\"&GB$12&\".1\"),0)<$K17,\"\",DATEDIF($K17,EOMONTH(VALUE(\"R\"&基本項目!$B$3+1&\".\"&GB$12&\".1\")-1,1),\"Y\")),$U17))","v":""},null,null,"",null,null,null,"",null,null,null,null,null,{"$f":"IF($R17=\"\",\"\",IF($U17=\"\",IF(EOMONTH(VALUE(\"R\"&基本項目!$B$3&\".\"&EU$12&\".1\"),0)<$K17,\"\",DATEDIF($K17,EOMONTH(VALUE(\"R\"&基本項目!$B$3&\".\"&EU$12&\".1\")-1,1),\"Y\")),$U17))","v":""},null,null,{"$f":"IF($R17=\"\",\"\",IF($U17=\"\",IF(EOMONTH(VALUE(\"R\"&基本項目!$B$3&\".\"&EX$12&\".1\"),0)<$K17,\"\",DATEDIF($K17,EOMONTH(VALUE(\"R\"&基本項目!$B$3&\".\"&EX$12&\".1\")-1,1),\"Y\")),$U17))","v":""},null,null,{"$f":"IF($R17=\"\",\"\",IF($U17=\"\",IF(EOMONTH(VALUE(\"R\"&基本項目!$B$3&\".\"&FA$12&\".1\"),0)<$K17,\"\",DATEDIF($K17,EOMONTH(VALUE(\"R\"&基本項目!$B$3&\".\"&FA$12&\".1\")-1,1),\"Y\")),$U17))","v":""},null,null,{"$f":"IF($R17=\"\",\"\",IF($U17=\"\",IF(EOMONTH(VALUE(\"R\"&基本項目!$B$3&\".\"&FD$12&\".1\"),0)<$K17,\"\",DATEDIF($K17,EOMONTH(VALUE(\"R\"&基本項目!$B$3&\".\"&FD$12&\".1\")-1,1),\"Y\")),$U17))","v":""},null,null,{"$f":"IF($R17=\"\",\"\",IF($U17=\"\",IF(EOMONTH(VALUE(\"R\"&基本項目!$B$3&\".\"&FG$12&\".1\"),0)<$K17,\"\",DATEDIF($K17,EOMONTH(VALUE(\"R\"&基本項目!$B$3&\".\"&FG$12&\".1\")-1,1),\"Y\")),$U17))","v":""},null,null,{"$f":"IF($R17=\"\",\"\",IF($U17=\"\",IF(EOMONTH(VALUE(\"R\"&基本項目!$B$3&\".\"&FJ$12&\".1\"),0)<$K17,\"\",DATEDIF($K17,EOMONTH(VALUE(\"R\"&基本項目!$B$3&\".\"&FJ$12&\".1\")-1,1),\"Y\")),$U17))","v":""},null,null,{"$f":"IF($R17=\"\",\"\",IF($U17=\"\",IF(EOMONTH(VALUE(\"R\"&基本項目!$B$3&\".\"&FM$12&\".1\"),0)<$K17,\"\",DATEDIF($K17,EOMONTH(VALUE(\"R\"&基本項目!$B$3&\".\"&FM$12&\".1\")-1,1),\"Y\")),$U17))","v":""},null,null,{"$f":"IF($R17=\"\",\"\",IF($U17=\"\",IF(EOMONTH(VALUE(\"R\"&基本項目!$B$3&\".\"&FP$12&\".1\"),0)<$K17,\"\",DATEDIF($K17,EOMONTH(VALUE(\"R\"&基本項目!$B$3&\".\"&FP$12&\".1\")-1,1),\"Y\")),$U17))","v":""},null,null,{"$f":"IF($R17=\"\",\"\",IF($U17=\"\",IF(EOMONTH(VALUE(\"R\"&基本項目!$B$3&\".\"&FS$12&\".1\"),0)<$K17,\"\",DATEDIF($K17,EOMONTH(VALUE(\"R\"&基本項目!$B$3&\".\"&FS$12&\".1\")-1,1),\"Y\")),$U17))","v":""},null,null,{"$f":"IF($R17=\"\",\"\",IF($U17=\"\",IF(EOMONTH(VALUE(\"R\"&基本項目!$B$3+1&\".\"&FV$12&\".1\"),0)<$K17,\"\",DATEDIF($K17,EOMONTH(VALUE(\"R\"&基本項目!$B$3+1&\".\"&FV$12&\".1\")-1,1),\"Y\")),$U17))","v":""},null,null,{"$f":"IF($R17=\"\",\"\",IF($U17=\"\",IF(EOMONTH(VALUE(\"R\"&基本項目!$B$3+1&\".\"&FY$12&\".1\"),0)<$K17,\"\",DATEDIF($K17,EOMONTH(VALUE(\"R\"&基本項目!$B$3+1&\".\"&FY$12&\".1\")-1,1),\"Y\")),$U17))","v":""},null,null,{"$f":"IF($R17=\"\",\"\",IF($U17=\"\",IF(EOMONTH(VALUE(\"R\"&基本項目!$B$3+1&\".\"&GB$12&\".1\"),0)<$K17,\"\",DATEDIF($K17,EOMONTH(VALUE(\"R\"&基本項目!$B$3+1&\".\"&GB$12&\".1\")-1,1),\"Y\")),$U17))","v":""},null,null,"",null,null,null,"",null,null,null,null,null,"",null,null,"",null,null,"",null,null,"",null,null,"",null,null,"",null,null,"",null,null,"",null,null,"",null,null,"",null,null,"",null,null,"",null,null,"",null,null,null,"",null,null,null,"",null,null,null,null,"",null,null,"",null,null,"",null,null,"",null,null,"",null,null,"",null,null,"",null,null,"",null,null,"",null,null,"",null,null,"",null,null,"",null,null,"",null,null,null,"",null,null,null,"",null,null,null,null,"",null,null,"",null,null,"",null,null,"",null,null,"",null,null,"",null,null,"",null,null,"",null,null,"",null,null,"",null,null,"",null,null,""]
[null,6,null,null,null,null,null,null,null,null,null,null,null,null,null,null,null,{"$f":"IF(AND($U18=\"\",$K18=\"\"),\"\",IF($U18=\"\",所得計算!$I11,$U18))","v":""},null,null,null,null,null,null,null,null,null,null,null,null,{"$f":"IF(所得計算!AN$4=\"\",\"\",所得計算!AN$4)","v":""},null,null,null,null,null,null,null,null,null,null,null,null,"",null,null,null,null,null,null,null,null,null,null,null,null,null,{"$f":"IF(所得計算!AN$23=\"\",\"\",所得計算!AN$23)","v":""},null,null,null,null,null,null,null,null,null,null,null,null,null,null,null,null,null,null,null,null,null,null,null,null,null,null,null,null,null,null,null,null,null,null,null,null,null,null,null,null,null,null,null,null,null,null,null,null,"",null,null,null,null,null,null,null,null,null,null,null,null,null,"",null,null,null,null,null,null,null,{"$f":"IF(OR(AND(SUM($AL18)=1,SUM($X18)<=8500000),AND(SUM($AL18)=1,SUM($X18)>8500000,SUM($BF18)>0)),\"所得金額調整控除１？\",IF(OR(AND(SUM($AL18)=2,OR(SUM(所得計算!$BJ$5:$BJ$15)=0,SUM($BF18)=0)),AND(SUM($AL18)=2,OR(SUM($X18)>8500000,SUM($BF18)=0))),\"所得金額調整控除２？\",IF(AND(SUM($AL18)=3,OR(SUM($X18)<=8500000,SUM($BF18)=0)),\"所得金額調整控除３？\",IF(AND($AL18=\"\",OR(SUM($X18)>8500000,AND(SUM(所得計算!$BJ$5:$BJ$15)>0,SUM($BF18)>0))),\"所得金額調整控除サイン不要？\",\"\"))))","v":""},null,null,null,null,null,null,null,null,null,null,null,null,{"$f":"IF(SUM(DC18,CH18,CV18)=0,0,SUM(DC18,CH18,CV18)-SUM(所得計算!$AY$4)-SUM(所得計算!$AN$36))","v":0},null,null,"",null,null,null,6,null,null,null,null,null,null,null,null,null,null,null,null,null,null,null,null,null,null,null,null,null,null,null,null,null,null,null,null,null,null,null,null,null,null,null,null,null,"",null,null,null,null,null,null,null,null,null,null,{"$f":"IF($GM18=\"\",\"\",IF(HLOOKUP($GM18,$GU$12:$ID$22,7,FALSE)>=65,\"\",\"65未到達\"))","v":""},null,null,null,null,{"$f":"IF($R18=\"\",\"\",IF($U18=\"\",IF(EOMONTH(VALUE(\"R\"&基本項目!$B$3&\".\"&EU$12&\".1\"),0)<$K18,\"\",DATEDIF($K18-1,EOMONTH(VALUE(\"R\"&基本項目!$B$3&\".\"&EU$12&\".1\")-1,1),\"Y\")),$U18))","v":""},null,null,{"$f":"IF($R18=\"\",\"\",IF($U18=\"\",IF(EOMONTH(VALUE(\"R\"&基本項目!$B$3&\".\"&EX$12&\".1\"),0)<$K18,\"\",DATEDIF($K18-1,EOMONTH(VALUE(\"R\"&基本項目!$B$3&\".\"&EX$12&\".1\")-1,1),\"Y\")),$U18))","v":""},null,null,{"$f":"IF($R18=\"\",\"\",IF($U18=\"\",IF(EOMONTH(VALUE(\"R\"&基本項目!$B$3&\".\"&FA$12&\".1\"),0)<$K18,\"\",DATEDIF($K18-1,EOMONTH(VALUE(\"R\"&基本項目!$B$3&\".\"&FA$12&\".1\")-1,1),\"Y\")),$U18))","v":""},null,null,{"$f":"IF($R18=\"\",\"\",IF($U18=\"\",IF(EOMONTH(VALUE(\"R\"&基本項目!$B$3&\".\"&FD$12&\".1\"),0)<$K18,\"\",DATEDIF($K18-1,EOMONTH(VALUE(\"R\"&基本項目!$B$3&\".\"&FD$12&\".1\")-1,1),\"Y\")),$U18))","v":""},null,null,{"$f":"IF($R18=\"\",\"\",IF($U18=\"\",IF(EOMONTH(VALUE(\"R\"&基本項目!$B$3&\".\"&FG$12&\".1\"),0)<$K18,\"\",DATEDIF($K18-1,EOMONTH(VALUE(\"R\"&基本項目!$B$3&\".\"&FG$12&\".1\")-1,1),\"Y\")),$U18))","v":""},null,null,{"$f":"IF($R18=\"\",\"\",IF($U18=\"\",IF(EOMONTH(VALUE(\"R\"&基本項目!$B$3&\".\"&FJ$12&\".1\"),0)<$K18,\"\",DATEDIF($K18-1,EOMONTH(VALUE(\"R\"&基本項目!$B$3&\".\"&FJ$12&\".1\")-1,1),\"Y\")),$U18))","v":""},null,null,{"$f":"IF($R18=\"\",\"\",IF($U18=\"\",IF(EOMONTH(VALUE(\"R\"&基本項目!$B$3&\".\"&FM$12&\".1\"),0)<$K18,\"\",DATEDIF($K18-1,EOMONTH(VALUE(\"R\"&基本項目!$B$3&\".\"&FM$12&\".1\")-1,1),\"Y\")),$U18))","v":""},null,null,{"$f":"IF($R18=\"\",\"\",IF($U18=\"\",IF(EOMONTH(VALUE(\"R\"&基本項目!$B$3&\".\"&FP$12&\".1\"),0)<$K18,\"\",DATEDIF($K18-1,EOMONTH(VALUE(\"R\"&基本項目!$B$3&\".\"&FP$12&\".1\")-1,1),\"Y\")),$U18))","v":""},null,null,{"$f":"IF($R18=\"\",\"\",IF($U18=\"\",IF(EOMONTH(VALUE(\"R\"&基本項目!$B$3&\".\"&FS$12&\".1\"),0)<$K18,\"\",DATEDIF($K18-1,EOMONTH(VALUE(\"R\"&基本項目!$B$3&\".\"&FS$12&\".1\")-1,1),\"Y\")),$U18))","v":""},null,null,{"$f":"IF($R18=\"\",\"\",IF($U18=\"\",IF(EOMONTH(VALUE(\"R\"&基本項目!$B$3+1&\".\"&FV$12&\".1\"),0)<$K18,\"\",DATEDIF($K18-1,EOMONTH(VALUE(\"R\"&基本項目!$B$3+1&\".\"&FV$12&\".1\")-1,1),\"Y\")),$U18))","v":""},null,null,{"$f":"IF($R18=\"\",\"\",IF($U18=\"\",IF(EOMONTH(VALUE(\"R\"&基本項目!$B$3+1&\".\"&FY$12&\".1\"),0)<$K18,\"\",DATEDIF($K18-1,EOMONTH(VALUE(\"R\"&基本項目!$B$3+1&\".\"&FY$12&\".1\")-1,1),\"Y\")),$U18))","v":""},null,null,{"$f":"IF($R18=\"\",\"\",IF($U18=\"\",IF(EOMONTH(VALUE(\"R\"&基本項目!$B$3+1&\".\"&GB$12&\".1\"),0)<$K18,\"\",DATEDIF($K18-1,EOMONTH(VALUE(\"R\"&基本項目!$B$3+1&\".\"&GB$12&\".1\")-1,1),\"Y\")),$U18))","v":""},null,null,"",null,null,null,"",null,null,null,null,null,{"$f":"IF($R18=\"\",\"\",IF($U18=\"\",IF(EOMONTH(VALUE(\"R\"&基本項目!$B$3&\".\"&EU$12&\".1\"),0)<$K18,\"\",DATEDIF($K18,EOMONTH(VALUE(\"R\"&基本項目!$B$3&\".\"&EU$12&\".1\")-1,1),\"Y\")),$U18))","v":""},null,null,{"$f":"IF($R18=\"\",\"\",IF($U18=\"\",IF(EOMONTH(VALUE(\"R\"&基本項目!$B$3&\".\"&EX$12&\".1\"),0)<$K18,\"\",DATEDIF($K18,EOMONTH(VALUE(\"R\"&基本項目!$B$3&\".\"&EX$12&\".1\")-1,1),\"Y\")),$U18))","v":""},null,null,{"$f":"IF($R18=\"\",\"\",IF($U18=\"\",IF(EOMONTH(VALUE(\"R\"&基本項目!$B$3&\".\"&FA$12&\".1\"),0)<$K18,\"\",DATEDIF($K18,EOMONTH(VALUE(\"R\"&基本項目!$B$3&\".\"&FA$12&\".1\")-1,1),\"Y\")),$U18))","v":""},null,null,{"$f":"IF($R18=\"\",\"\",IF($U18=\"\",IF(EOMONTH(VALUE(\"R\"&基本項目!$B$3&\".\"&FD$12&\".1\"),0)<$K18,\"\",DATEDIF($K18,EOMONTH(VALUE(\"R\"&基本項目!$B$3&\".\"&FD$12&\".1\")-1,1),\"Y\")),$U18))","v":""},null,null,{"$f":"IF($R18=\"\",\"\",IF($U18=\"\",IF(EOMONTH(VALUE(\"R\"&基本項目!$B$3&\".\"&FG$12&\".1\"),0)<$K18,\"\",DATEDIF($K18,EOMONTH(VALUE(\"R\"&基本項目!$B$3&\".\"&FG$12&\".1\")-1,1),\"Y\")),$U18))","v":""},null,null,{"$f":"IF($R18=\"\",\"\",IF($U18=\"\",IF(EOMONTH(VALUE(\"R\"&基本項目!$B$3&\".\"&FJ$12&\".1\"),0)<$K18,\"\",DATEDIF($K18,EOMONTH(VALUE(\"R\"&基本項目!$B$3&\".\"&FJ$12&\".1\")-1,1),\"Y\")),$U18))","v":""},null,null,{"$f":"IF($R18=\"\",\"\",IF($U18=\"\",IF(EOMONTH(VALUE(\"R\"&基本項目!$B$3&\".\"&FM$12&\".1\"),0)<$K18,\"\",DATEDIF($K18,EOMONTH(VALUE(\"R\"&基本項目!$B$3&\".\"&FM$12&\".1\")-1,1),\"Y\")),$U18))","v":""},null,null,{"$f":"IF($R18=\"\",\"\",IF($U18=\"\",IF(EOMONTH(VALUE(\"R\"&基本項目!$B$3&\".\"&FP$12&\".1\"),0)<$K18,\"\",DATEDIF($K18,EOMONTH(VALUE(\"R\"&基本項目!$B$3&\".\"&FP$12&\".1\")-1,1),\"Y\")),$U18))","v":""},null,null,{"$f":"IF($R18=\"\",\"\",IF($U18=\"\",IF(EOMONTH(VALUE(\"R\"&基本項目!$B$3&\".\"&FS$12&\".1\"),0)<$K18,\"\",DATEDIF($K18,EOMONTH(VALUE(\"R\"&基本項目!$B$3&\".\"&FS$12&\".1\")-1,1),\"Y\")),$U18))","v":""},null,null,{"$f":"IF($R18=\"\",\"\",IF($U18=\"\",IF(EOMONTH(VALUE(\"R\"&基本項目!$B$3+1&\".\"&FV$12&\".1\"),0)<$K18,\"\",DATEDIF($K18,EOMONTH(VALUE(\"R\"&基本項目!$B$3+1&\".\"&FV$12&\".1\")-1,1),\"Y\")),$U18))","v":""},null,null,{"$f":"IF($R18=\"\",\"\",IF($U18=\"\",IF(EOMONTH(VALUE(\"R\"&基本項目!$B$3+1&\".\"&FY$12&\".1\"),0)<$K18,\"\",DATEDIF($K18,EOMONTH(VALUE(\"R\"&基本項目!$B$3+1&\".\"&FY$12&\".1\")-1,1),\"Y\")),$U18))","v":""},null,null,{"$f":"IF($R18=\"\",\"\",IF($U18=\"\",IF(EOMONTH(VALUE(\"R\"&基本項目!$B$3+1&\".\"&GB$12&\".1\"),0)<$K18,\"\",DATEDIF($K18,EOMONTH(VALUE(\"R\"&基本項目!$B$3+1&\".\"&GB$12&\".1\")-1,1),\"Y\")),$U18))","v":""},null,null,"",null,null,null,"",null,null,null,null,null,{"$f":"IF($R18=\"\",\"\",IF($U18=\"\",IF(EOMONTH(VALUE(\"R\"&基本項目!$B$3&\".\"&EU$12&\".1\"),0)<$K18,\"\",DATEDIF($K18,EOMONTH(VALUE(\"R\"&基本項目!$B$3&\".\"&EU$12&\".1\")-1,1),\"Y\")),$U18))","v":""},null,null,{"$f":"IF($R18=\"\",\"\",IF($U18=\"\",IF(EOMONTH(VALUE(\"R\"&基本項目!$B$3&\".\"&EX$12&\".1\"),0)<$K18,\"\",DATEDIF($K18,EOMONTH(VALUE(\"R\"&基本項目!$B$3&\".\"&EX$12&\".1\")-1,1),\"Y\")),$U18))","v":""},null,null,{"$f":"IF($R18=\"\",\"\",IF($U18=\"\",IF(EOMONTH(VALUE(\"R\"&基本項目!$B$3&\".\"&FA$12&\".1\"),0)<$K18,\"\",DATEDIF($K18,EOMONTH(VALUE(\"R\"&基本項目!$B$3&\".\"&FA$12&\".1\")-1,1),\"Y\")),$U18))","v":""},null,null,{"$f":"IF($R18=\"\",\"\",IF($U18=\"\",IF(EOMONTH(VALUE(\"R\"&基本項目!$B$3&\".\"&FD$12&\".1\"),0)<$K18,\"\",DATEDIF($K18,EOMONTH(VALUE(\"R\"&基本項目!$B$3&\".\"&FD$12&\".1\")-1,1),\"Y\")),$U18))","v":""},null,null,{"$f":"IF($R18=\"\",\"\",IF($U18=\"\",IF(EOMONTH(VALUE(\"R\"&基本項目!$B$3&\".\"&FG$12&\".1\"),0)<$K18,\"\",DATEDIF($K18,EOMONTH(VALUE(\"R\"&基本項目!$B$3&\".\"&FG$12&\".1\")-1,1),\"Y\")),$U18))","v":""},null,null,{"$f":"IF($R18=\"\",\"\",IF($U18=\"\",IF(EOMONTH(VALUE(\"R\"&基本項目!$B$3&\".\"&FJ$12&\".1\"),0)<$K18,\"\",DATEDIF($K18,EOMONTH(VALUE(\"R\"&基本項目!$B$3&\".\"&FJ$12&\".1\")-1,1),\"Y\")),$U18))","v":""},null,null,{"$f":"IF($R18=\"\",\"\",IF($U18=\"\",IF(EOMONTH(VALUE(\"R\"&基本項目!$B$3&\".\"&FM$12&\".1\"),0)<$K18,\"\",DATEDIF($K18,EOMONTH(VALUE(\"R\"&基本項目!$B$3&\".\"&FM$12&\".1\")-1,1),\"Y\")),$U18))","v":""},null,null,{"$f":"IF($R18=\"\",\"\",IF($U18=\"\",IF(EOMONTH(VALUE(\"R\"&基本項目!$B$3&\".\"&FP$12&\".1\"),0)<$K18,\"\",DATEDIF($K18,EOMONTH(VALUE(\"R\"&基本項目!$B$3&\".\"&FP$12&\".1\")-1,1),\"Y\")),$U18))","v":""},null,null,{"$f":"IF($R18=\"\",\"\",IF($U18=\"\",IF(EOMONTH(VALUE(\"R\"&基本項目!$B$3&\".\"&FS$12&\".1\"),0)<$K18,\"\",DATEDIF($K18,EOMONTH(VALUE(\"R\"&基本項目!$B$3&\".\"&FS$12&\".1\")-1,1),\"Y\")),$U18))","v":""},null,null,{"$f":"IF($R18=\"\",\"\",IF($U18=\"\",IF(EOMONTH(VALUE(\"R\"&基本項目!$B$3+1&\".\"&FV$12&\".1\"),0)<$K18,\"\",DATEDIF($K18,EOMONTH(VALUE(\"R\"&基本項目!$B$3+1&\".\"&FV$12&\".1\")-1,1),\"Y\")),$U18))","v":""},null,null,{"$f":"IF($R18=\"\",\"\",IF($U18=\"\",IF(EOMONTH(VALUE(\"R\"&基本項目!$B$3+1&\".\"&FY$12&\".1\"),0)<$K18,\"\",DATEDIF($K18,EOMONTH(VALUE(\"R\"&基本項目!$B$3+1&\".\"&FY$12&\".1\")-1,1),\"Y\")),$U18))","v":""},null,null,{"$f":"IF($R18=\"\",\"\",IF($U18=\"\",IF(EOMONTH(VALUE(\"R\"&基本項目!$B$3+1&\".\"&GB$12&\".1\"),0)<$K18,\"\",DATEDIF($K18,EOMONTH(VALUE(\"R\"&基本項目!$B$3+1&\".\"&GB$12&\".1\")-1,1),\"Y\")),$U18))","v":""},null,null,"",null,null,null,"",null,null,null,null,null,"",null,null,"",null,null,"",null,null,"",null,null,"",null,null,"",null,null,"",null,null,"",null,null,"",null,null,"",null,null,"",null,null,"",null,null,"",null,null,null,"",null,null,null,"",null,null,null,null,"",null,null,"",null,null,"",null,null,"",null,null,"",null,null,"",null,null,"",null,null,"",null,null,"",null,null,"",null,null,"",null,null,"",null,null,"",null,null,null,"",null,null,null,"",null,null,null,null,"",null,null,"",null,null,"",null,null,"",null,null,"",null,null,"",null,null,"",null,null,"",null,null,"",null,null,"",null,null,"",null,null,""]
[null,7,null,null,null,null,null,null,null,null,null,null,null,null,null,null,null,{"$f":"IF(AND($U19=\"\",$K19=\"\"),\"\",IF($U19=\"\",所得計算!$I12,$U19))","v":""},null,null,null,null,null,null,null,null,null,null,null,null,{"$f":"IF(所得計算!AO$4=\"\",\"\",所得計算!AO$4)","v":""},null,null,null,null,null,null,null,null,null,null,null,null,"",null,null,null,null,null,null,null,null,null,null,null,null,null,{"$f":"IF(所得計算!AO$23=\"\",\"\",所得計算!AO$23)","v":""},null,null,null,null,null,null,null,null,null,null,null,null,null,null,null,null,null,null,null,null,null,null,null,null,null,null,null,null,null,null,null,null,null,null,null,null,null,null,null,null,null,null,null,null,null,null,null,null,"",null,null,null,null,null,null,null,null,null,null,null,null,null,"",null,null,null,null,null,null,null,{"$f":"IF(OR(AND(SUM($AL19)=1,SUM($X19)<=8500000),AND(SUM($AL19)=1,SUM($X19)>8500000,SUM($BF19)>0)),\"所得金額調整控除１？\",IF(OR(AND(SUM($AL19)=2,OR(SUM(所得計算!$BK$5:$BK$15)=0,SUM($BF19)=0)),AND(SUM($AL19)=2,OR(SUM($X19)>8500000,SUM($BF19)=0))),\"所得金額調整控除２？\",IF(AND(SUM($AL19)=3,OR(SUM($X19)<=8500000,SUM($BF19)=0)),\"所得金額調整控除３？\",IF(AND($AL19=\"\",OR(SUM($X19)>8500000,AND(SUM(所得計算!$BK$5:$BK$15)>0,SUM($BF19)>0))),\"所得金額調整控除サイン不要？\",\"\"))))","v":""},null,null,null,null,null,null,null,null,null,null,null,null,{"$f":"IF(SUM(DC19,CH19,CV19)=0,0,SUM(DC19,CH19,CV19)-SUM(所得計算!$AZ$4)-SUM(所得計算!$AO$36))","v":0},null,null,"",null,null,null,7,null,null,null,null,null,null,null,null,null,null,null,null,null,null,null,null,null,null,null,null,null,null,null,null,null,null,null,null,null,null,null,null,null,null,null,null,null,"",null,null,null,null,null,null,null,null,null,null,{"$f":"IF($GM19=\"\",\"\",IF(HLOOKUP($GM19,$GU$12:$ID$22,8,FALSE)>=65,\"\",\"65未到達\"))","v":""},null,null,null,null,{"$f":"IF($R19=\"\",\"\",IF($U19=\"\",IF(EOMONTH(VALUE(\"R\"&基本項目!$B$3&\".\"&EU$12&\".1\"),0)<$K19,\"\",DATEDIF($K19-1,EOMONTH(VALUE(\"R\"&基本項目!$B$3&\".\"&EU$12&\".1\")-1,1),\"Y\")),$U19))","v":""},null,null,{"$f":"IF($R19=\"\",\"\",IF($U19=\"\",IF(EOMONTH(VALUE(\"R\"&基本項目!$B$3&\".\"&EX$12&\".1\"),0)<$K19,\"\",DATEDIF($K19-1,EOMONTH(VALUE(\"R\"&基本項目!$B$3&\".\"&EX$12&\".1\")-1,1),\"Y\")),$U19))","v":""},null,null,{"$f":"IF($R19=\"\",\"\",IF($U19=\"\",IF(EOMONTH(VALUE(\"R\"&基本項目!$B$3&\".\"&FA$12&\".1\"),0)<$K19,\"\",DATEDIF($K19-1,EOMONTH(VALUE(\"R\"&基本項目!$B$3&\".\"&FA$12&\".1\")-1,1),\"Y\")),$U19))","v":""},null,null,{"$f":"IF($R19=\"\",\"\",IF($U19=\"\",IF(EOMONTH(VALUE(\"R\"&基本項目!$B$3&\".\"&FD$12&\".1\"),0)<$K19,\"\",DATEDIF($K19-1,EOMONTH(VALUE(\"R\"&基本項目!$B$3&\".\"&FD$12&\".1\")-1,1),\"Y\")),$U19))","v":""},null,null,{"$f":"IF($R19=\"\",\"\",IF($U19=\"\",IF(EOMONTH(VALUE(\"R\"&基本項目!$B$3&\".\"&FG$12&\".1\"),0)<$K19,\"\",DATEDIF($K19-1,EOMONTH(VALUE(\"R\"&基本項目!$B$3&\".\"&FG$12&\".1\")-1,1),\"Y\")),$U19))","v":""},null,null,{"$f":"IF($R19=\"\",\"\",IF($U19=\"\",IF(EOMONTH(VALUE(\"R\"&基本項目!$B$3&\".\"&FJ$12&\".1\"),0)<$K19,\"\",DATEDIF($K19-1,EOMONTH(VALUE(\"R\"&基本項目!$B$3&\".\"&FJ$12&\".1\")-1,1),\"Y\")),$U19))","v":""},null,null,{"$f":"IF($R19=\"\",\"\",IF($U19=\"\",IF(EOMONTH(VALUE(\"R\"&基本項目!$B$3&\".\"&FM$12&\".1\"),0)<$K19,\"\",DATEDIF($K19-1,EOMONTH(VALUE(\"R\"&基本項目!$B$3&\".\"&FM$12&\".1\")-1,1),\"Y\")),$U19))","v":""},null,null,{"$f":"IF($R19=\"\",\"\",IF($U19=\"\",IF(EOMONTH(VALUE(\"R\"&基本項目!$B$3&\".\"&FP$12&\".1\"),0)<$K19,\"\",DATEDIF($K19-1,EOMONTH(VALUE(\"R\"&基本項目!$B$3&\".\"&FP$12&\".1\")-1,1),\"Y\")),$U19))","v":""},null,null,{"$f":"IF($R19=\"\",\"\",IF($U19=\"\",IF(EOMONTH(VALUE(\"R\"&基本項目!$B$3&\".\"&FS$12&\".1\"),0)<$K19,\"\",DATEDIF($K19-1,EOMONTH(VALUE(\"R\"&基本項目!$B$3&\".\"&FS$12&\".1\")-1,1),\"Y\")),$U19))","v":""},null,null,{"$f":"IF($R19=\"\",\"\",IF($U19=\"\",IF(EOMONTH(VALUE(\"R\"&基本項目!$B$3+1&\".\"&FV$12&\".1\"),0)<$K19,\"\",DATEDIF($K19-1,EOMONTH(VALUE(\"R\"&基本項目!$B$3+1&\".\"&FV$12&\".1\")-1,1),\"Y\")),$U19))","v":""},null,null,{"$f":"IF($R19=\"\",\"\",IF($U19=\"\",IF(EOMONTH(VALUE(\"R\"&基本項目!$B$3+1&\".\"&FY$12&\".1\"),0)<$K19,\"\",DATEDIF($K19-1,EOMONTH(VALUE(\"R\"&基本項目!$B$3+1&\".\"&FY$12&\".1\")-1,1),\"Y\")),$U19))","v":""},null,null,{"$f":"IF($R19=\"\",\"\",IF($U19=\"\",IF(EOMONTH(VALUE(\"R\"&基本項目!$B$3+1&\".\"&GB$12&\".1\"),0)<$K19,\"\",DATEDIF($K19-1,EOMONTH(VALUE(\"R\"&基本項目!$B$3+1&\".\"&GB$12&\".1\")-1,1),\"Y\")),$U19))","v":""},null,null,"",null,null,null,"",null,null,null,null,null,{"$f":"IF($R19=\"\",\"\",IF($U19=\"\",IF(EOMONTH(VALUE(\"R\"&基本項目!$B$3&\".\"&EU$12&\".1\"),0)<$K19,\"\",DATEDIF($K19,EOMONTH(VALUE(\"R\"&基本項目!$B$3&\".\"&EU$12&\".1\")-1,1),\"Y\")),$U19))","v":""},null,null,{"$f":"IF($R19=\"\",\"\",IF($U19=\"\",IF(EOMONTH(VALUE(\"R\"&基本項目!$B$3&\".\"&EX$12&\".1\"),0)<$K19,\"\",DATEDIF($K19,EOMONTH(VALUE(\"R\"&基本項目!$B$3&\".\"&EX$12&\".1\")-1,1),\"Y\")),$U19))","v":""},null,null,{"$f":"IF($R19=\"\",\"\",IF($U19=\"\",IF(EOMONTH(VALUE(\"R\"&基本項目!$B$3&\".\"&FA$12&\".1\"),0)<$K19,\"\",DATEDIF($K19,EOMONTH(VALUE(\"R\"&基本項目!$B$3&\".\"&FA$12&\".1\")-1,1),\"Y\")),$U19))","v":""},null,null,{"$f":"IF($R19=\"\",\"\",IF($U19=\"\",IF(EOMONTH(VALUE(\"R\"&基本項目!$B$3&\".\"&FD$12&\".1\"),0)<$K19,\"\",DATEDIF($K19,EOMONTH(VALUE(\"R\"&基本項目!$B$3&\".\"&FD$12&\".1\")-1,1),\"Y\")),$U19))","v":""},null,null,{"$f":"IF($R19=\"\",\"\",IF($U19=\"\",IF(EOMONTH(VALUE(\"R\"&基本項目!$B$3&\".\"&FG$12&\".1\"),0)<$K19,\"\",DATEDIF($K19,EOMONTH(VALUE(\"R\"&基本項目!$B$3&\".\"&FG$12&\".1\")-1,1),\"Y\")),$U19))","v":""},null,null,{"$f":"IF($R19=\"\",\"\",IF($U19=\"\",IF(EOMONTH(VALUE(\"R\"&基本項目!$B$3&\".\"&FJ$12&\".1\"),0)<$K19,\"\",DATEDIF($K19,EOMONTH(VALUE(\"R\"&基本項目!$B$3&\".\"&FJ$12&\".1\")-1,1),\"Y\")),$U19))","v":""},null,null,{"$f":"IF($R19=\"\",\"\",IF($U19=\"\",IF(EOMONTH(VALUE(\"R\"&基本項目!$B$3&\".\"&FM$12&\".1\"),0)<$K19,\"\",DATEDIF($K19,EOMONTH(VALUE(\"R\"&基本項目!$B$3&\".\"&FM$12&\".1\")-1,1),\"Y\")),$U19))","v":""},null,null,{"$f":"IF($R19=\"\",\"\",IF($U19=\"\",IF(EOMONTH(VALUE(\"R\"&基本項目!$B$3&\".\"&FP$12&\".1\"),0)<$K19,\"\",DATEDIF($K19,EOMONTH(VALUE(\"R\"&基本項目!$B$3&\".\"&FP$12&\".1\")-1,1),\"Y\")),$U19))","v":""},null,null,{"$f":"IF($R19=\"\",\"\",IF($U19=\"\",IF(EOMONTH(VALUE(\"R\"&基本項目!$B$3&\".\"&FS$12&\".1\"),0)<$K19,\"\",DATEDIF($K19,EOMONTH(VALUE(\"R\"&基本項目!$B$3&\".\"&FS$12&\".1\")-1,1),\"Y\")),$U19))","v":""},null,null,{"$f":"IF($R19=\"\",\"\",IF($U19=\"\",IF(EOMONTH(VALUE(\"R\"&基本項目!$B$3+1&\".\"&FV$12&\".1\"),0)<$K19,\"\",DATEDIF($K19,EOMONTH(VALUE(\"R\"&基本項目!$B$3+1&\".\"&FV$12&\".1\")-1,1),\"Y\")),$U19))","v":""},null,null,{"$f":"IF($R19=\"\",\"\",IF($U19=\"\",IF(EOMONTH(VALUE(\"R\"&基本項目!$B$3+1&\".\"&FY$12&\".1\"),0)<$K19,\"\",DATEDIF($K19,EOMONTH(VALUE(\"R\"&基本項目!$B$3+1&\".\"&FY$12&\".1\")-1,1),\"Y\")),$U19))","v":""},null,null,{"$f":"IF($R19=\"\",\"\",IF($U19=\"\",IF(EOMONTH(VALUE(\"R\"&基本項目!$B$3+1&\".\"&GB$12&\".1\"),0)<$K19,\"\",DATEDIF($K19,EOMONTH(VALUE(\"R\"&基本項目!$B$3+1&\".\"&GB$12&\".1\")-1,1),\"Y\")),$U19))","v":""},null,null,"",null,null,null,"",null,null,null,null,null,{"$f":"IF($R19=\"\",\"\",IF($U19=\"\",IF(EOMONTH(VALUE(\"R\"&基本項目!$B$3&\".\"&EU$12&\".1\"),0)<$K19,\"\",DATEDIF($K19,EOMONTH(VALUE(\"R\"&基本項目!$B$3&\".\"&EU$12&\".1\")-1,1),\"Y\")),$U19))","v":""},null,null,{"$f":"IF($R19=\"\",\"\",IF($U19=\"\",IF(EOMONTH(VALUE(\"R\"&基本項目!$B$3&\".\"&EX$12&\".1\"),0)<$K19,\"\",DATEDIF($K19,EOMONTH(VALUE(\"R\"&基本項目!$B$3&\".\"&EX$12&\".1\")-1,1),\"Y\")),$U19))","v":""},null,null,{"$f":"IF($R19=\"\",\"\",IF($U19=\"\",IF(EOMONTH(VALUE(\"R\"&基本項目!$B$3&\".\"&FA$12&\".1\"),0)<$K19,\"\",DATEDIF($K19,EOMONTH(VALUE(\"R\"&基本項目!$B$3&\".\"&FA$12&\".1\")-1,1),\"Y\")),$U19))","v":""},null,null,{"$f":"IF($R19=\"\",\"\",IF($U19=\"\",IF(EOMONTH(VALUE(\"R\"&基本項目!$B$3&\".\"&FD$12&\".1\"),0)<$K19,\"\",DATEDIF($K19,EOMONTH(VALUE(\"R\"&基本項目!$B$3&\".\"&FD$12&\".1\")-1,1),\"Y\")),$U19))","v":""},null,null,{"$f":"IF($R19=\"\",\"\",IF($U19=\"\",IF(EOMONTH(VALUE(\"R\"&基本項目!$B$3&\".\"&FG$12&\".1\"),0)<$K19,\"\",DATEDIF($K19,EOMONTH(VALUE(\"R\"&基本項目!$B$3&\".\"&FG$12&\".1\")-1,1),\"Y\")),$U19))","v":""},null,null,{"$f":"IF($R19=\"\",\"\",IF($U19=\"\",IF(EOMONTH(VALUE(\"R\"&基本項目!$B$3&\".\"&FJ$12&\".1\"),0)<$K19,\"\",DATEDIF($K19,EOMONTH(VALUE(\"R\"&基本項目!$B$3&\".\"&FJ$12&\".1\")-1,1),\"Y\")),$U19))","v":""},null,null,{"$f":"IF($R19=\"\",\"\",IF($U19=\"\",IF(EOMONTH(VALUE(\"R\"&基本項目!$B$3&\".\"&FM$12&\".1\"),0)<$K19,\"\",DATEDIF($K19,EOMONTH(VALUE(\"R\"&基本項目!$B$3&\".\"&FM$12&\".1\")-1,1),\"Y\")),$U19))","v":""},null,null,{"$f":"IF($R19=\"\",\"\",IF($U19=\"\",IF(EOMONTH(VALUE(\"R\"&基本項目!$B$3&\".\"&FP$12&\".1\"),0)<$K19,\"\",DATEDIF($K19,EOMONTH(VALUE(\"R\"&基本項目!$B$3&\".\"&FP$12&\".1\")-1,1),\"Y\")),$U19))","v":""},null,null,{"$f":"IF($R19=\"\",\"\",IF($U19=\"\",IF(EOMONTH(VALUE(\"R\"&基本項目!$B$3&\".\"&FS$12&\".1\"),0)<$K19,\"\",DATEDIF($K19,EOMONTH(VALUE(\"R\"&基本項目!$B$3&\".\"&FS$12&\".1\")-1,1),\"Y\")),$U19))","v":""},null,null,{"$f":"IF($R19=\"\",\"\",IF($U19=\"\",IF(EOMONTH(VALUE(\"R\"&基本項目!$B$3+1&\".\"&FV$12&\".1\"),0)<$K19,\"\",DATEDIF($K19,EOMONTH(VALUE(\"R\"&基本項目!$B$3+1&\".\"&FV$12&\".1\")-1,1),\"Y\")),$U19))","v":""},null,null,{"$f":"IF($R19=\"\",\"\",IF($U19=\"\",IF(EOMONTH(VALUE(\"R\"&基本項目!$B$3+1&\".\"&FY$12&\".1\"),0)<$K19,\"\",DATEDIF($K19,EOMONTH(VALUE(\"R\"&基本項目!$B$3+1&\".\"&FY$12&\".1\")-1,1),\"Y\")),$U19))","v":""},null,null,{"$f":"IF($R19=\"\",\"\",IF($U19=\"\",IF(EOMONTH(VALUE(\"R\"&基本項目!$B$3+1&\".\"&GB$12&\".1\"),0)<$K19,\"\",DATEDIF($K19,EOMONTH(VALUE(\"R\"&基本項目!$B$3+1&\".\"&GB$12&\".1\")-1,1),\"Y\")),$U19))","v":""},null,null,"",null,null,null,"",null,null,null,null,null,"",null,null,"",null,null,"",null,null,"",null,null,"",null,null,"",null,null,"",null,null,"",null,null,"",null,null,"",null,null,"",null,null,"",null,null,"",null,null,null,"",null,null,null,"",null,null,null,null,"",null,null,"",null,null,"",null,null,"",null,null,"",null,null,"",null,null,"",null,null,"",null,null,"",null,null,"",null,null,"",null,null,"",null,null,"",null,null,null,"",null,null,null,"",null,null,null,null,"",null,null,"",null,null,"",null,null,"",null,null,"",null,null,"",null,null,"",null,null,"",null,null,"",null,null,"",null,null,"",null,null,""]
[null,8,null,null,null,null,null,null,null,null,null,null,null,null,null,null,null,{"$f":"IF(AND($U20=\"\",$K20=\"\"),\"\",IF($U20=\"\",所得計算!$I13,$U20))","v":""},null,null,null,null,null,null,null,null,null,null,null,null,{"$f":"IF(所得計算!AP$4=\"\",\"\",所得計算!AP$4)","v":""},null,null,null,null,null,null,null,null,null,null,null,null,"",null,null,null,null,null,null,null,null,null,null,null,null,null,{"$f":"IF(所得計算!AP$23=\"\",\"\",所得計算!AP$23)","v":""},null,null,null,null,null,null,null,null,null,null,null,null,null,null,null,null,null,null,null,null,null,null,null,null,null,null,null,null,null,null,null,null,null,null,null,null,null,null,null,null,null,null,null,null,null,null,null,null,"",null,null,null,null,null,null,null,null,null,null,null,null,null,"",null,null,null,null,null,null,null,{"$f":"IF(OR(AND(SUM($AL20)=1,SUM($X20)<=8500000),AND(SUM($AL20)=1,SUM($X20)>8500000,SUM($BF20)>0)),\"所得金額調整控除１？\",IF(OR(AND(SUM($AL20)=2,OR(SUM(所得計算!$BL$5:$BL$15)=0,SUM($BF20)=0)),AND(SUM($AL20)=2,OR(SUM($X20)>8500000,SUM($BF20)=0))),\"所得金額調整控除２？\",IF(AND(SUM($AL20)=3,OR(SUM($X20)<=8500000,SUM($BF20)=0)),\"所得金額調整控除３？\",IF(AND($AL20=\"\",OR(SUM($X20)>8500000,AND(SUM(所得計算!$BL$5:$BL$15)>0,SUM($BF20)>0))),\"所得金額調整控除サイン不要？\",\"\"))))","v":""},null,null,null,null,null,null,null,null,null,null,null,null,{"$f":"IF(SUM(DC20,CH20,CV20)=0,0,SUM(DC20,CH20,CV20)-SUM(所得計算!$BA$4)-SUM(所得計算!$AP$36))","v":0},null,null,"",null,null,null,8,null,null,null,null,null,null,null,null,null,null,null,null,null,null,null,null,null,null,null,null,null,null,null,null,null,null,null,null,null,null,null,null,null,null,null,null,null,"",null,null,null,null,null,null,null,null,null,null,{"$f":"IF($GM20=\"\",\"\",IF(HLOOKUP($GM20,$GU$12:$ID$22,9,FALSE)>=65,\"\",\"65未到達\"))","v":""},null,null,null,null,{"$f":"IF($R20=\"\",\"\",IF($U20=\"\",IF(EOMONTH(VALUE(\"R\"&基本項目!$B$3&\".\"&EU$12&\".1\"),0)<$K20,\"\",DATEDIF($K20-1,EOMONTH(VALUE(\"R\"&基本項目!$B$3&\".\"&EU$12&\".1\")-1,1),\"Y\")),$U20))","v":""},null,null,{"$f":"IF($R20=\"\",\"\",IF($U20=\"\",IF(EOMONTH(VALUE(\"R\"&基本項目!$B$3&\".\"&EX$12&\".1\"),0)<$K20,\"\",DATEDIF($K20-1,EOMONTH(VALUE(\"R\"&基本項目!$B$3&\".\"&EX$12&\".1\")-1,1),\"Y\")),$U20))","v":""},null,null,{"$f":"IF($R20=\"\",\"\",IF($U20=\"\",IF(EOMONTH(VALUE(\"R\"&基本項目!$B$3&\".\"&FA$12&\".1\"),0)<$K20,\"\",DATEDIF($K20-1,EOMONTH(VALUE(\"R\"&基本項目!$B$3&\".\"&FA$12&\".1\")-1,1),\"Y\")),$U20))","v":""},null,null,{"$f":"IF($R20=\"\",\"\",IF($U20=\"\",IF(EOMONTH(VALUE(\"R\"&基本項目!$B$3&\".\"&FD$12&\".1\"),0)<$K20,\"\",DATEDIF($K20-1,EOMONTH(VALUE(\"R\"&基本項目!$B$3&\".\"&FD$12&\".1\")-1,1),\"Y\")),$U20))","v":""},null,null,{"$f":"IF($R20=\"\",\"\",IF($U20=\"\",IF(EOMONTH(VALUE(\"R\"&基本項目!$B$3&\".\"&FG$12&\".1\"),0)<$K20,\"\",DATEDIF($K20-1,EOMONTH(VALUE(\"R\"&基本項目!$B$3&\".\"&FG$12&\".1\")-1,1),\"Y\")),$U20))","v":""},null,null,{"$f":"IF($R20=\"\",\"\",IF($U20=\"\",IF(EOMONTH(VALUE(\"R\"&基本項目!$B$3&\".\"&FJ$12&\".1\"),0)<$K20,\"\",DATEDIF($K20-1,EOMONTH(VALUE(\"R\"&基本項目!$B$3&\".\"&FJ$12&\".1\")-1,1),\"Y\")),$U20))","v":""},null,null,{"$f":"IF($R20=\"\",\"\",IF($U20=\"\",IF(EOMONTH(VALUE(\"R\"&基本項目!$B$3&\".\"&FM$12&\".1\"),0)<$K20,\"\",DATEDIF($K20-1,EOMONTH(VALUE(\"R\"&基本項目!$B$3&\".\"&FM$12&\".1\")-1,1),\"Y\")),$U20))","v":""},null,null,{"$f":"IF($R20=\"\",\"\",IF($U20=\"\",IF(EOMONTH(VALUE(\"R\"&基本項目!$B$3&\".\"&FP$12&\".1\"),0)<$K20,\"\",DATEDIF($K20-1,EOMONTH(VALUE(\"R\"&基本項目!$B$3&\".\"&FP$12&\".1\")-1,1),\"Y\")),$U20))","v":""},null,null,{"$f":"IF($R20=\"\",\"\",IF($U20=\"\",IF(EOMONTH(VALUE(\"R\"&基本項目!$B$3&\".\"&FS$12&\".1\"),0)<$K20,\"\",DATEDIF($K20-1,EOMONTH(VALUE(\"R\"&基本項目!$B$3&\".\"&FS$12&\".1\")-1,1),\"Y\")),$U20))","v":""},null,null,{"$f":"IF($R20=\"\",\"\",IF($U20=\"\",IF(EOMONTH(VALUE(\"R\"&基本項目!$B$3+1&\".\"&FV$12&\".1\"),0)<$K20,\"\",DATEDIF($K20-1,EOMONTH(VALUE(\"R\"&基本項目!$B$3+1&\".\"&FV$12&\".1\")-1,1),\"Y\")),$U20))","v":""},null,null,{"$f":"IF($R20=\"\",\"\",IF($U20=\"\",IF(EOMONTH(VALUE(\"R\"&基本項目!$B$3+1&\".\"&FY$12&\".1\"),0)<$K20,\"\",DATEDIF($K20-1,EOMONTH(VALUE(\"R\"&基本項目!$B$3+1&\".\"&FY$12&\".1\")-1,1),\"Y\")),$U20))","v":""},null,null,{"$f":"IF($R20=\"\",\"\",IF($U20=\"\",IF(EOMONTH(VALUE(\"R\"&基本項目!$B$3+1&\".\"&GB$12&\".1\"),0)<$K20,\"\",DATEDIF($K20-1,EOMONTH(VALUE(\"R\"&基本項目!$B$3+1&\".\"&GB$12&\".1\")-1,1),\"Y\")),$U20))","v":""},null,null,"",null,null,null,"",null,null,null,null,null,{"$f":"IF($R20=\"\",\"\",IF($U20=\"\",IF(EOMONTH(VALUE(\"R\"&基本項目!$B$3&\".\"&EU$12&\".1\"),0)<$K20,\"\",DATEDIF($K20,EOMONTH(VALUE(\"R\"&基本項目!$B$3&\".\"&EU$12&\".1\")-1,1),\"Y\")),$U20))","v":""},null,null,{"$f":"IF($R20=\"\",\"\",IF($U20=\"\",IF(EOMONTH(VALUE(\"R\"&基本項目!$B$3&\".\"&EX$12&\".1\"),0)<$K20,\"\",DATEDIF($K20,EOMONTH(VALUE(\"R\"&基本項目!$B$3&\".\"&EX$12&\".1\")-1,1),\"Y\")),$U20))","v":""},null,null,{"$f":"IF($R20=\"\",\"\",IF($U20=\"\",IF(EOMONTH(VALUE(\"R\"&基本項目!$B$3&\".\"&FA$12&\".1\"),0)<$K20,\"\",DATEDIF($K20,EOMONTH(VALUE(\"R\"&基本項目!$B$3&\".\"&FA$12&\".1\")-1,1),\"Y\")),$U20))","v":""},null,null,{"$f":"IF($R20=\"\",\"\",IF($U20=\"\",IF(EOMONTH(VALUE(\"R\"&基本項目!$B$3&\".\"&FD$12&\".1\"),0)<$K20,\"\",DATEDIF($K20,EOMONTH(VALUE(\"R\"&基本項目!$B$3&\".\"&FD$12&\".1\")-1,1),\"Y\")),$U20))","v":""},null,null,{"$f":"IF($R20=\"\",\"\",IF($U20=\"\",IF(EOMONTH(VALUE(\"R\"&基本項目!$B$3&\".\"&FG$12&\".1\"),0)<$K20,\"\",DATEDIF($K20,EOMONTH(VALUE(\"R\"&基本項目!$B$3&\".\"&FG$12&\".1\")-1,1),\"Y\")),$U20))","v":""},null,null,{"$f":"IF($R20=\"\",\"\",IF($U20=\"\",IF(EOMONTH(VALUE(\"R\"&基本項目!$B$3&\".\"&FJ$12&\".1\"),0)<$K20,\"\",DATEDIF($K20,EOMONTH(VALUE(\"R\"&基本項目!$B$3&\".\"&FJ$12&\".1\")-1,1),\"Y\")),$U20))","v":""},null,null,{"$f":"IF($R20=\"\",\"\",IF($U20=\"\",IF(EOMONTH(VALUE(\"R\"&基本項目!$B$3&\".\"&FM$12&\".1\"),0)<$K20,\"\",DATEDIF($K20,EOMONTH(VALUE(\"R\"&基本項目!$B$3&\".\"&FM$12&\".1\")-1,1),\"Y\")),$U20))","v":""},null,null,{"$f":"IF($R20=\"\",\"\",IF($U20=\"\",IF(EOMONTH(VALUE(\"R\"&基本項目!$B$3&\".\"&FP$12&\".1\"),0)<$K20,\"\",DATEDIF($K20,EOMONTH(VALUE(\"R\"&基本項目!$B$3&\".\"&FP$12&\".1\")-1,1),\"Y\")),$U20))","v":""},null,null,{"$f":"IF($R20=\"\",\"\",IF($U20=\"\",IF(EOMONTH(VALUE(\"R\"&基本項目!$B$3&\".\"&FS$12&\".1\"),0)<$K20,\"\",DATEDIF($K20,EOMONTH(VALUE(\"R\"&基本項目!$B$3&\".\"&FS$12&\".1\")-1,1),\"Y\")),$U20))","v":""},null,null,{"$f":"IF($R20=\"\",\"\",IF($U20=\"\",IF(EOMONTH(VALUE(\"R\"&基本項目!$B$3+1&\".\"&FV$12&\".1\"),0)<$K20,\"\",DATEDIF($K20,EOMONTH(VALUE(\"R\"&基本項目!$B$3+1&\".\"&FV$12&\".1\")-1,1),\"Y\")),$U20))","v":""},null,null,{"$f":"IF($R20=\"\",\"\",IF($U20=\"\",IF(EOMONTH(VALUE(\"R\"&基本項目!$B$3+1&\".\"&FY$12&\".1\"),0)<$K20,\"\",DATEDIF($K20,EOMONTH(VALUE(\"R\"&基本項目!$B$3+1&\".\"&FY$12&\".1\")-1,1),\"Y\")),$U20))","v":""},null,null,{"$f":"IF($R20=\"\",\"\",IF($U20=\"\",IF(EOMONTH(VALUE(\"R\"&基本項目!$B$3+1&\".\"&GB$12&\".1\"),0)<$K20,\"\",DATEDIF($K20,EOMONTH(VALUE(\"R\"&基本項目!$B$3+1&\".\"&GB$12&\".1\")-1,1),\"Y\")),$U20))","v":""},null,null,"",null,null,null,"",null,null,null,null,null,{"$f":"IF($R20=\"\",\"\",IF($U20=\"\",IF(EOMONTH(VALUE(\"R\"&基本項目!$B$3&\".\"&EU$12&\".1\"),0)<$K20,\"\",DATEDIF($K20,EOMONTH(VALUE(\"R\"&基本項目!$B$3&\".\"&EU$12&\".1\")-1,1),\"Y\")),$U20))","v":""},null,null,{"$f":"IF($R20=\"\",\"\",IF($U20=\"\",IF(EOMONTH(VALUE(\"R\"&基本項目!$B$3&\".\"&EX$12&\".1\"),0)<$K20,\"\",DATEDIF($K20,EOMONTH(VALUE(\"R\"&基本項目!$B$3&\".\"&EX$12&\".1\")-1,1),\"Y\")),$U20))","v":""},null,null,{"$f":"IF($R20=\"\",\"\",IF($U20=\"\",IF(EOMONTH(VALUE(\"R\"&基本項目!$B$3&\".\"&FA$12&\".1\"),0)<$K20,\"\",DATEDIF($K20,EOMONTH(VALUE(\"R\"&基本項目!$B$3&\".\"&FA$12&\".1\")-1,1),\"Y\")),$U20))","v":""},null,null,{"$f":"IF($R20=\"\",\"\",IF($U20=\"\",IF(EOMONTH(VALUE(\"R\"&基本項目!$B$3&\".\"&FD$12&\".1\"),0)<$K20,\"\",DATEDIF($K20,EOMONTH(VALUE(\"R\"&基本項目!$B$3&\".\"&FD$12&\".1\")-1,1),\"Y\")),$U20))","v":""},null,null,{"$f":"IF($R20=\"\",\"\",IF($U20=\"\",IF(EOMONTH(VALUE(\"R\"&基本項目!$B$3&\".\"&FG$12&\".1\"),0)<$K20,\"\",DATEDIF($K20,EOMONTH(VALUE(\"R\"&基本項目!$B$3&\".\"&FG$12&\".1\")-1,1),\"Y\")),$U20))","v":""},null,null,{"$f":"IF($R20=\"\",\"\",IF($U20=\"\",IF(EOMONTH(VALUE(\"R\"&基本項目!$B$3&\".\"&FJ$12&\".1\"),0)<$K20,\"\",DATEDIF($K20,EOMONTH(VALUE(\"R\"&基本項目!$B$3&\".\"&FJ$12&\".1\")-1,1),\"Y\")),$U20))","v":""},null,null,{"$f":"IF($R20=\"\",\"\",IF($U20=\"\",IF(EOMONTH(VALUE(\"R\"&基本項目!$B$3&\".\"&FM$12&\".1\"),0)<$K20,\"\",DATEDIF($K20,EOMONTH(VALUE(\"R\"&基本項目!$B$3&\".\"&FM$12&\".1\")-1,1),\"Y\")),$U20))","v":""},null,null,{"$f":"IF($R20=\"\",\"\",IF($U20=\"\",IF(EOMONTH(VALUE(\"R\"&基本項目!$B$3&\".\"&FP$12&\".1\"),0)<$K20,\"\",DATEDIF($K20,EOMONTH(VALUE(\"R\"&基本項目!$B$3&\".\"&FP$12&\".1\")-1,1),\"Y\")),$U20))","v":""},null,null,{"$f":"IF($R20=\"\",\"\",IF($U20=\"\",IF(EOMONTH(VALUE(\"R\"&基本項目!$B$3&\".\"&FS$12&\".1\"),0)<$K20,\"\",DATEDIF($K20,EOMONTH(VALUE(\"R\"&基本項目!$B$3&\".\"&FS$12&\".1\")-1,1),\"Y\")),$U20))","v":""},null,null,{"$f":"IF($R20=\"\",\"\",IF($U20=\"\",IF(EOMONTH(VALUE(\"R\"&基本項目!$B$3+1&\".\"&FV$12&\".1\"),0)<$K20,\"\",DATEDIF($K20,EOMONTH(VALUE(\"R\"&基本項目!$B$3+1&\".\"&FV$12&\".1\")-1,1),\"Y\")),$U20))","v":""},null,null,{"$f":"IF($R20=\"\",\"\",IF($U20=\"\",IF(EOMONTH(VALUE(\"R\"&基本項目!$B$3+1&\".\"&FY$12&\".1\"),0)<$K20,\"\",DATEDIF($K20,EOMONTH(VALUE(\"R\"&基本項目!$B$3+1&\".\"&FY$12&\".1\")-1,1),\"Y\")),$U20))","v":""},null,null,{"$f":"IF($R20=\"\",\"\",IF($U20=\"\",IF(EOMONTH(VALUE(\"R\"&基本項目!$B$3+1&\".\"&GB$12&\".1\"),0)<$K20,\"\",DATEDIF($K20,EOMONTH(VALUE(\"R\"&基本項目!$B$3+1&\".\"&GB$12&\".1\")-1,1),\"Y\")),$U20))","v":""},null,null,"",null,null,null,"",null,null,null,null,null,"",null,null,"",null,null,"",null,null,"",null,null,"",null,null,"",null,null,"",null,null,"",null,null,"",null,null,"",null,null,"",null,null,"",null,null,"",null,null,null,"",null,null,null,"",null,null,null,null,"",null,null,"",null,null,"",null,null,"",null,null,"",null,null,"",null,null,"",null,null,"",null,null,"",null,null,"",null,null,"",null,null,"",null,null,"",null,null,null,"",null,null,null,"",null,null,null,null,"",null,null,"",null,null,"",null,null,"",null,null,"",null,null,"",null,null,"",null,null,"",null,null,"",null,null,"",null,null,"",null,null,""]
[null,9,null,null,null,null,null,null,null,null,null,null,null,null,null,null,null,{"$f":"IF(AND($U21=\"\",$K21=\"\"),\"\",IF($U21=\"\",所得計算!$I14,$U21))","v":""},null,null,null,null,null,null,null,null,null,null,null,null,{"$f":"IF(所得計算!AQ$4=\"\",\"\",所得計算!AQ$4)","v":""},null,null,null,null,null,null,null,null,null,null,null,null,"",null,null,null,null,null,null,null,null,null,null,null,null,null,{"$f":"IF(所得計算!AQ$23=\"\",\"\",所得計算!AQ$23)","v":""},null,null,null,null,null,null,null,null,null,null,null,null,null,null,null,null,null,null,null,null,null,null,null,null,null,null,null,null,null,null,null,null,null,null,null,null,null,null,null,null,null,null,null,null,null,null,null,null,"",null,null,null,null,null,null,null,null,null,null,null,null,null,"",null,null,null,null,null,null,null,{"$f":"IF(OR(AND(SUM($AL21)=1,SUM($X21)<=8500000),AND(SUM($AL21)=1,SUM($X21)>8500000,SUM($BF21)>0)),\"所得金額調整控除１？\",IF(OR(AND(SUM($AL21)=2,OR(SUM(所得計算!$BM$5:$BM$15)=0,SUM($BF21)=0)),AND(SUM($AL21)=2,OR(SUM($X21)>8500000,SUM($BF21)=0))),\"所得金額調整控除２？\",IF(AND(SUM($AL21)=3,OR(SUM($X21)<=8500000,SUM($BF21)=0)),\"所得金額調整控除３？\",IF(AND($AL21=\"\",OR(SUM($X21)>8500000,AND(SUM(所得計算!$BM$5:$BM$15)>0,SUM($BF21)>0))),\"所得金額調整控除サイン不要？\",\"\"))))","v":""},null,null,null,null,null,null,null,null,null,null,null,null,{"$f":"IF(SUM(DC21,CH21,CV21)=0,0,SUM(DC21,CH21,CV21)-SUM(所得計算!$BB$4)-SUM(所得計算!$AQ$36))","v":0},null,null,"",null,null,null,9,null,null,null,null,null,null,null,null,null,null,null,null,null,null,null,null,null,null,null,null,null,null,null,null,null,null,null,null,null,null,null,null,null,null,null,null,null,"",null,null,null,null,null,null,null,null,null,null,{"$f":"IF($GM21=\"\",\"\",IF(HLOOKUP($GM21,$GU$12:$ID$22,10,FALSE)>=65,\"\",\"65未到達\"))","v":""},null,null,null,null,{"$f":"IF($R21=\"\",\"\",IF($U21=\"\",IF(EOMONTH(VALUE(\"R\"&基本項目!$B$3&\".\"&EU$12&\".1\"),0)<$K21,\"\",DATEDIF($K21-1,EOMONTH(VALUE(\"R\"&基本項目!$B$3&\".\"&EU$12&\".1\")-1,1),\"Y\")),$U21))","v":""},null,null,{"$f":"IF($R21=\"\",\"\",IF($U21=\"\",IF(EOMONTH(VALUE(\"R\"&基本項目!$B$3&\".\"&EX$12&\".1\"),0)<$K21,\"\",DATEDIF($K21-1,EOMONTH(VALUE(\"R\"&基本項目!$B$3&\".\"&EX$12&\".1\")-1,1),\"Y\")),$U21))","v":""},null,null,{"$f":"IF($R21=\"\",\"\",IF($U21=\"\",IF(EOMONTH(VALUE(\"R\"&基本項目!$B$3&\".\"&FA$12&\".1\"),0)<$K21,\"\",DATEDIF($K21-1,EOMONTH(VALUE(\"R\"&基本項目!$B$3&\".\"&FA$12&\".1\")-1,1),\"Y\")),$U21))","v":""},null,null,{"$f":"IF($R21=\"\",\"\",IF($U21=\"\",IF(EOMONTH(VALUE(\"R\"&基本項目!$B$3&\".\"&FD$12&\".1\"),0)<$K21,\"\",DATEDIF($K21-1,EOMONTH(VALUE(\"R\"&基本項目!$B$3&\".\"&FD$12&\".1\")-1,1),\"Y\")),$U21))","v":""},null,null,{"$f":"IF($R21=\"\",\"\",IF($U21=\"\",IF(EOMONTH(VALUE(\"R\"&基本項目!$B$3&\".\"&FG$12&\".1\"),0)<$K21,\"\",DATEDIF($K21-1,EOMONTH(VALUE(\"R\"&基本項目!$B$3&\".\"&FG$12&\".1\")-1,1),\"Y\")),$U21))","v":""},null,null,{"$f":"IF($R21=\"\",\"\",IF($U21=\"\",IF(EOMONTH(VALUE(\"R\"&基本項目!$B$3&\".\"&FJ$12&\".1\"),0)<$K21,\"\",DATEDIF($K21-1,EOMONTH(VALUE(\"R\"&基本項目!$B$3&\".\"&FJ$12&\".1\")-1,1),\"Y\")),$U21))","v":""},null,null,{"$f":"IF($R21=\"\",\"\",IF($U21=\"\",IF(EOMONTH(VALUE(\"R\"&基本項目!$B$3&\".\"&FM$12&\".1\"),0)<$K21,\"\",DATEDIF($K21-1,EOMONTH(VALUE(\"R\"&基本項目!$B$3&\".\"&FM$12&\".1\")-1,1),\"Y\")),$U21))","v":""},null,null,{"$f":"IF($R21=\"\",\"\",IF($U21=\"\",IF(EOMONTH(VALUE(\"R\"&基本項目!$B$3&\".\"&FP$12&\".1\"),0)<$K21,\"\",DATEDIF($K21-1,EOMONTH(VALUE(\"R\"&基本項目!$B$3&\".\"&FP$12&\".1\")-1,1),\"Y\")),$U21))","v":""},null,null,{"$f":"IF($R21=\"\",\"\",IF($U21=\"\",IF(EOMONTH(VALUE(\"R\"&基本項目!$B$3&\".\"&FS$12&\".1\"),0)<$K21,\"\",DATEDIF($K21-1,EOMONTH(VALUE(\"R\"&基本項目!$B$3&\".\"&FS$12&\".1\")-1,1),\"Y\")),$U21))","v":""},null,null,{"$f":"IF($R21=\"\",\"\",IF($U21=\"\",IF(EOMONTH(VALUE(\"R\"&基本項目!$B$3+1&\".\"&FV$12&\".1\"),0)<$K21,\"\",DATEDIF($K21-1,EOMONTH(VALUE(\"R\"&基本項目!$B$3+1&\".\"&FV$12&\".1\")-1,1),\"Y\")),$U21))","v":""},null,null,{"$f":"IF($R21=\"\",\"\",IF($U21=\"\",IF(EOMONTH(VALUE(\"R\"&基本項目!$B$3+1&\".\"&FY$12&\".1\"),0)<$K21,\"\",DATEDIF($K21-1,EOMONTH(VALUE(\"R\"&基本項目!$B$3+1&\".\"&FY$12&\".1\")-1,1),\"Y\")),$U21))","v":""},null,null,{"$f":"IF($R21=\"\",\"\",IF($U21=\"\",IF(EOMONTH(VALUE(\"R\"&基本項目!$B$3+1&\".\"&GB$12&\".1\"),0)<$K21,\"\",DATEDIF($K21-1,EOMONTH(VALUE(\"R\"&基本項目!$B$3+1&\".\"&GB$12&\".1\")-1,1),\"Y\")),$U21))","v":""},null,null,"",null,null,null,"",null,null,null,null,null,{"$f":"IF($R21=\"\",\"\",IF($U21=\"\",IF(EOMONTH(VALUE(\"R\"&基本項目!$B$3&\".\"&EU$12&\".1\"),0)<$K21,\"\",DATEDIF($K21,EOMONTH(VALUE(\"R\"&基本項目!$B$3&\".\"&EU$12&\".1\")-1,1),\"Y\")),$U21))","v":""},null,null,{"$f":"IF($R21=\"\",\"\",IF($U21=\"\",IF(EOMONTH(VALUE(\"R\"&基本項目!$B$3&\".\"&EX$12&\".1\"),0)<$K21,\"\",DATEDIF($K21,EOMONTH(VALUE(\"R\"&基本項目!$B$3&\".\"&EX$12&\".1\")-1,1),\"Y\")),$U21))","v":""},null,null,{"$f":"IF($R21=\"\",\"\",IF($U21=\"\",IF(EOMONTH(VALUE(\"R\"&基本項目!$B$3&\".\"&FA$12&\".1\"),0)<$K21,\"\",DATEDIF($K21,EOMONTH(VALUE(\"R\"&基本項目!$B$3&\".\"&FA$12&\".1\")-1,1),\"Y\")),$U21))","v":""},null,null,{"$f":"IF($R21=\"\",\"\",IF($U21=\"\",IF(EOMONTH(VALUE(\"R\"&基本項目!$B$3&\".\"&FD$12&\".1\"),0)<$K21,\"\",DATEDIF($K21,EOMONTH(VALUE(\"R\"&基本項目!$B$3&\".\"&FD$12&\".1\")-1,1),\"Y\")),$U21))","v":""},null,null,{"$f":"IF($R21=\"\",\"\",IF($U21=\"\",IF(EOMONTH(VALUE(\"R\"&基本項目!$B$3&\".\"&FG$12&\".1\"),0)<$K21,\"\",DATEDIF($K21,EOMONTH(VALUE(\"R\"&基本項目!$B$3&\".\"&FG$12&\".1\")-1,1),\"Y\")),$U21))","v":""},null,null,{"$f":"IF($R21=\"\",\"\",IF($U21=\"\",IF(EOMONTH(VALUE(\"R\"&基本項目!$B$3&\".\"&FJ$12&\".1\"),0)<$K21,\"\",DATEDIF($K21,EOMONTH(VALUE(\"R\"&基本項目!$B$3&\".\"&FJ$12&\".1\")-1,1),\"Y\")),$U21))","v":""},null,null,{"$f":"IF($R21=\"\",\"\",IF($U21=\"\",IF(EOMONTH(VALUE(\"R\"&基本項目!$B$3&\".\"&FM$12&\".1\"),0)<$K21,\"\",DATEDIF($K21,EOMONTH(VALUE(\"R\"&基本項目!$B$3&\".\"&FM$12&\".1\")-1,1),\"Y\")),$U21))","v":""},null,null,{"$f":"IF($R21=\"\",\"\",IF($U21=\"\",IF(EOMONTH(VALUE(\"R\"&基本項目!$B$3&\".\"&FP$12&\".1\"),0)<$K21,\"\",DATEDIF($K21,EOMONTH(VALUE(\"R\"&基本項目!$B$3&\".\"&FP$12&\".1\")-1,1),\"Y\")),$U21))","v":""},null,null,{"$f":"IF($R21=\"\",\"\",IF($U21=\"\",IF(EOMONTH(VALUE(\"R\"&基本項目!$B$3&\".\"&FS$12&\".1\"),0)<$K21,\"\",DATEDIF($K21,EOMONTH(VALUE(\"R\"&基本項目!$B$3&\".\"&FS$12&\".1\")-1,1),\"Y\")),$U21))","v":""},null,null,{"$f":"IF($R21=\"\",\"\",IF($U21=\"\",IF(EOMONTH(VALUE(\"R\"&基本項目!$B$3+1&\".\"&FV$12&\".1\"),0)<$K21,\"\",DATEDIF($K21,EOMONTH(VALUE(\"R\"&基本項目!$B$3+1&\".\"&FV$12&\".1\")-1,1),\"Y\")),$U21))","v":""},null,null,{"$f":"IF($R21=\"\",\"\",IF($U21=\"\",IF(EOMONTH(VALUE(\"R\"&基本項目!$B$3+1&\".\"&FY$12&\".1\"),0)<$K21,\"\",DATEDIF($K21,EOMONTH(VALUE(\"R\"&基本項目!$B$3+1&\".\"&FY$12&\".1\")-1,1),\"Y\")),$U21))","v":""},null,null,{"$f":"IF($R21=\"\",\"\",IF($U21=\"\",IF(EOMONTH(VALUE(\"R\"&基本項目!$B$3+1&\".\"&GB$12&\".1\"),0)<$K21,\"\",DATEDIF($K21,EOMONTH(VALUE(\"R\"&基本項目!$B$3+1&\".\"&GB$12&\".1\")-1,1),\"Y\")),$U21))","v":""},null,null,"",null,null,null,"",null,null,null,null,null,{"$f":"IF($R21=\"\",\"\",IF($U21=\"\",IF(EOMONTH(VALUE(\"R\"&基本項目!$B$3&\".\"&EU$12&\".1\"),0)<$K21,\"\",DATEDIF($K21,EOMONTH(VALUE(\"R\"&基本項目!$B$3&\".\"&EU$12&\".1\")-1,1),\"Y\")),$U21))","v":""},null,null,{"$f":"IF($R21=\"\",\"\",IF($U21=\"\",IF(EOMONTH(VALUE(\"R\"&基本項目!$B$3&\".\"&EX$12&\".1\"),0)<$K21,\"\",DATEDIF($K21,EOMONTH(VALUE(\"R\"&基本項目!$B$3&\".\"&EX$12&\".1\")-1,1),\"Y\")),$U21))","v":""},null,null,{"$f":"IF($R21=\"\",\"\",IF($U21=\"\",IF(EOMONTH(VALUE(\"R\"&基本項目!$B$3&\".\"&FA$12&\".1\"),0)<$K21,\"\",DATEDIF($K21,EOMONTH(VALUE(\"R\"&基本項目!$B$3&\".\"&FA$12&\".1\")-1,1),\"Y\")),$U21))","v":""},null,null,{"$f":"IF($R21=\"\",\"\",IF($U21=\"\",IF(EOMONTH(VALUE(\"R\"&基本項目!$B$3&\".\"&FD$12&\".1\"),0)<$K21,\"\",DATEDIF($K21,EOMONTH(VALUE(\"R\"&基本項目!$B$3&\".\"&FD$12&\".1\")-1,1),\"Y\")),$U21))","v":""},null,null,{"$f":"IF($R21=\"\",\"\",IF($U21=\"\",IF(EOMONTH(VALUE(\"R\"&基本項目!$B$3&\".\"&FG$12&\".1\"),0)<$K21,\"\",DATEDIF($K21,EOMONTH(VALUE(\"R\"&基本項目!$B$3&\".\"&FG$12&\".1\")-1,1),\"Y\")),$U21))","v":""},null,null,{"$f":"IF($R21=\"\",\"\",IF($U21=\"\",IF(EOMONTH(VALUE(\"R\"&基本項目!$B$3&\".\"&FJ$12&\".1\"),0)<$K21,\"\",DATEDIF($K21,EOMONTH(VALUE(\"R\"&基本項目!$B$3&\".\"&FJ$12&\".1\")-1,1),\"Y\")),$U21))","v":""},null,null,{"$f":"IF($R21=\"\",\"\",IF($U21=\"\",IF(EOMONTH(VALUE(\"R\"&基本項目!$B$3&\".\"&FM$12&\".1\"),0)<$K21,\"\",DATEDIF($K21,EOMONTH(VALUE(\"R\"&基本項目!$B$3&\".\"&FM$12&\".1\")-1,1),\"Y\")),$U21))","v":""},null,null,{"$f":"IF($R21=\"\",\"\",IF($U21=\"\",IF(EOMONTH(VALUE(\"R\"&基本項目!$B$3&\".\"&FP$12&\".1\"),0)<$K21,\"\",DATEDIF($K21,EOMONTH(VALUE(\"R\"&基本項目!$B$3&\".\"&FP$12&\".1\")-1,1),\"Y\")),$U21))","v":""},null,null,{"$f":"IF($R21=\"\",\"\",IF($U21=\"\",IF(EOMONTH(VALUE(\"R\"&基本項目!$B$3&\".\"&FS$12&\".1\"),0)<$K21,\"\",DATEDIF($K21,EOMONTH(VALUE(\"R\"&基本項目!$B$3&\".\"&FS$12&\".1\")-1,1),\"Y\")),$U21))","v":""},null,null,{"$f":"IF($R21=\"\",\"\",IF($U21=\"\",IF(EOMONTH(VALUE(\"R\"&基本項目!$B$3+1&\".\"&FV$12&\".1\"),0)<$K21,\"\",DATEDIF($K21,EOMONTH(VALUE(\"R\"&基本項目!$B$3+1&\".\"&FV$12&\".1\")-1,1),\"Y\")),$U21))","v":""},null,null,{"$f":"IF($R21=\"\",\"\",IF($U21=\"\",IF(EOMONTH(VALUE(\"R\"&基本項目!$B$3+1&\".\"&FY$12&\".1\"),0)<$K21,\"\",DATEDIF($K21,EOMONTH(VALUE(\"R\"&基本項目!$B$3+1&\".\"&FY$12&\".1\")-1,1),\"Y\")),$U21))","v":""},null,null,{"$f":"IF($R21=\"\",\"\",IF($U21=\"\",IF(EOMONTH(VALUE(\"R\"&基本項目!$B$3+1&\".\"&GB$12&\".1\"),0)<$K21,\"\",DATEDIF($K21,EOMONTH(VALUE(\"R\"&基本項目!$B$3+1&\".\"&GB$12&\".1\")-1,1),\"Y\")),$U21))","v":""},null,null,"",null,null,null,"",null,null,null,null,null,"",null,null,"",null,null,"",null,null,"",null,null,"",null,null,"",null,null,"",null,null,"",null,null,"",null,null,"",null,null,"",null,null,"",null,null,"",null,null,null,"",null,null,null,"",null,null,null,null,"",null,null,"",null,null,"",null,null,"",null,null,"",null,null,"",null,null,"",null,null,"",null,null,"",null,null,"",null,null,"",null,null,"",null,null,"",null,null,null,"",null,null,null,"",null,null,null,null,"",null,null,"",null,null,"",null,null,"",null,null,"",null,null,"",null,null,"",null,null,"",null,null,"",null,null,"",null,null,"",null,null,""]
[null,10,null,null,null,null,null,null,null,null,null,null,null,null,null,null,null,{"$f":"IF(AND($U22=\"\",$K22=\"\"),\"\",IF($U22=\"\",所得計算!$I15,$U22))","v":""},null,null,null,null,null,null,null,null,null,null,null,null,{"$f":"IF(所得計算!AR$4=\"\",\"\",所得計算!AR$4)","v":""},null,null,null,null,null,null,null,null,null,null,null,null,"",null,null,null,null,null,null,null,null,null,null,null,null,null,{"$f":"IF(所得計算!AR$23=\"\",\"\",所得計算!AR$23)","v":""},null,null,null,null,null,null,null,null,null,null,null,null,null,null,null,null,null,null,null,null,null,null,null,null,null,null,null,null,null,null,null,null,null,null,null,null,null,null,null,null,null,null,null,null,null,null,null,null,"",null,null,null,null,null,null,null,null,null,null,null,null,null,"",null,null,null,null,null,null,null,{"$f":"IF(OR(AND(SUM($AL22)=1,SUM($X22)<=8500000),AND(SUM($AL22)=1,SUM($X22)>8500000,SUM($BF22)>0)),\"所得金額調整控除１？\",IF(OR(AND(SUM($AL22)=2,OR(SUM(所得計算!$BN$5:$BN$15)=0,SUM($BF22)=0)),AND(SUM($AL22)=2,OR(SUM($X22)>8500000,SUM($BF22)=0))),\"所得金額調整控除２？\",IF(AND(SUM($AL22)=3,OR(SUM($X22)<=8500000,SUM($BF22)=0)),\"所得金額調整控除３？\",IF(AND($AL22=\"\",OR(SUM($X22)>8500000,AND(SUM(所得計算!$BN$5:$BN$15)>0,SUM($BF22)>0))),\"所得金額調整控除サイン不要？\",\"\"))))","v":""},null,null,null,null,null,null,null,null,null,null,null,null,{"$f":"IF(SUM(DC22,CH22,CV22)=0,0,SUM(DC22,CH22,CV22)-SUM(所得計算!$BC$4)-SUM(所得計算!$AR$36))","v":0},null,null,"",null,null,null,10,null,null,null,null,null,null,null,null,null,null,null,null,null,null,null,null,null,null,null,null,null,null,null,null,null,null,null,null,null,null,null,null,null,null,null,null,null,"",null,null,null,null,null,null,null,null,null,null,{"$f":"IF($GM22=\"\",\"\",IF(HLOOKUP($GM22,$GU$12:$ID$22,11,FALSE)>=65,\"\",\"65未到達\"))","v":""},null,null,null,null,{"$f":"IF($R22=\"\",\"\",IF($U22=\"\",IF(EOMONTH(VALUE(\"R\"&基本項目!$B$3&\".\"&EU$12&\".1\"),0)<$K22,\"\",DATEDIF($K22-1,EOMONTH(VALUE(\"R\"&基本項目!$B$3&\".\"&EU$12&\".1\")-1,1),\"Y\")),$U22))","v":""},null,null,{"$f":"IF($R22=\"\",\"\",IF($U22=\"\",IF(EOMONTH(VALUE(\"R\"&基本項目!$B$3&\".\"&EX$12&\".1\"),0)<$K22,\"\",DATEDIF($K22-1,EOMONTH(VALUE(\"R\"&基本項目!$B$3&\".\"&EX$12&\".1\")-1,1),\"Y\")),$U22))","v":""},null,null,{"$f":"IF($R22=\"\",\"\",IF($U22=\"\",IF(EOMONTH(VALUE(\"R\"&基本項目!$B$3&\".\"&FA$12&\".1\"),0)<$K22,\"\",DATEDIF($K22-1,EOMONTH(VALUE(\"R\"&基本項目!$B$3&\".\"&FA$12&\".1\")-1,1),\"Y\")),$U22))","v":""},null,null,{"$f":"IF($R22=\"\",\"\",IF($U22=\"\",IF(EOMONTH(VALUE(\"R\"&基本項目!$B$3&\".\"&FD$12&\".1\"),0)<$K22,\"\",DATEDIF($K22-1,EOMONTH(VALUE(\"R\"&基本項目!$B$3&\".\"&FD$12&\".1\")-1,1),\"Y\")),$U22))","v":""},null,null,{"$f":"IF($R22=\"\",\"\",IF($U22=\"\",IF(EOMONTH(VALUE(\"R\"&基本項目!$B$3&\".\"&FG$12&\".1\"),0)<$K22,\"\",DATEDIF($K22-1,EOMONTH(VALUE(\"R\"&基本項目!$B$3&\".\"&FG$12&\".1\")-1,1),\"Y\")),$U22))","v":""},null,null,{"$f":"IF($R22=\"\",\"\",IF($U22=\"\",IF(EOMONTH(VALUE(\"R\"&基本項目!$B$3&\".\"&FJ$12&\".1\"),0)<$K22,\"\",DATEDIF($K22-1,EOMONTH(VALUE(\"R\"&基本項目!$B$3&\".\"&FJ$12&\".1\")-1,1),\"Y\")),$U22))","v":""},null,null,{"$f":"IF($R22=\"\",\"\",IF($U22=\"\",IF(EOMONTH(VALUE(\"R\"&基本項目!$B$3&\".\"&FM$12&\".1\"),0)<$K22,\"\",DATEDIF($K22-1,EOMONTH(VALUE(\"R\"&基本項目!$B$3&\".\"&FM$12&\".1\")-1,1),\"Y\")),$U22))","v":""},null,null,{"$f":"IF($R22=\"\",\"\",IF($U22=\"\",IF(EOMONTH(VALUE(\"R\"&基本項目!$B$3&\".\"&FP$12&\".1\"),0)<$K22,\"\",DATEDIF($K22-1,EOMONTH(VALUE(\"R\"&基本項目!$B$3&\".\"&FP$12&\".1\")-1,1),\"Y\")),$U22))","v":""},null,null,{"$f":"IF($R22=\"\",\"\",IF($U22=\"\",IF(EOMONTH(VALUE(\"R\"&基本項目!$B$3&\".\"&FS$12&\".1\"),0)<$K22,\"\",DATEDIF($K22-1,EOMONTH(VALUE(\"R\"&基本項目!$B$3&\".\"&FS$12&\".1\")-1,1),\"Y\")),$U22))","v":""},null,null,{"$f":"IF($R22=\"\",\"\",IF($U22=\"\",IF(EOMONTH(VALUE(\"R\"&基本項目!$B$3+1&\".\"&FV$12&\".1\"),0)<$K22,\"\",DATEDIF($K22-1,EOMONTH(VALUE(\"R\"&基本項目!$B$3+1&\".\"&FV$12&\".1\")-1,1),\"Y\")),$U22))","v":""},null,null,{"$f":"IF($R22=\"\",\"\",IF($U22=\"\",IF(EOMONTH(VALUE(\"R\"&基本項目!$B$3+1&\".\"&FY$12&\".1\"),0)<$K22,\"\",DATEDIF($K22-1,EOMONTH(VALUE(\"R\"&基本項目!$B$3+1&\".\"&FY$12&\".1\")-1,1),\"Y\")),$U22))","v":""},null,null,{"$f":"IF($R22=\"\",\"\",IF($U22=\"\",IF(EOMONTH(VALUE(\"R\"&基本項目!$B$3+1&\".\"&GB$12&\".1\"),0)<$K22,\"\",DATEDIF($K22-1,EOMONTH(VALUE(\"R\"&基本項目!$B$3+1&\".\"&GB$12&\".1\")-1,1),\"Y\")),$U22))","v":""},null,null,"",null,null,null,"",null,null,null,null,null,{"$f":"IF($R22=\"\",\"\",IF($U22=\"\",IF(EOMONTH(VALUE(\"R\"&基本項目!$B$3&\".\"&EU$12&\".1\"),0)<$K22,\"\",DATEDIF($K22,EOMONTH(VALUE(\"R\"&基本項目!$B$3&\".\"&EU$12&\".1\")-1,1),\"Y\")),$U22))","v":""},null,null,{"$f":"IF($R22=\"\",\"\",IF($U22=\"\",IF(EOMONTH(VALUE(\"R\"&基本項目!$B$3&\".\"&EX$12&\".1\"),0)<$K22,\"\",DATEDIF($K22,EOMONTH(VALUE(\"R\"&基本項目!$B$3&\".\"&EX$12&\".1\")-1,1),\"Y\")),$U22))","v":""},null,null,{"$f":"IF($R22=\"\",\"\",IF($U22=\"\",IF(EOMONTH(VALUE(\"R\"&基本項目!$B$3&\".\"&FA$12&\".1\"),0)<$K22,\"\",DATEDIF($K22,EOMONTH(VALUE(\"R\"&基本項目!$B$3&\".\"&FA$12&\".1\")-1,1),\"Y\")),$U22))","v":""},null,null,{"$f":"IF($R22=\"\",\"\",IF($U22=\"\",IF(EOMONTH(VALUE(\"R\"&基本項目!$B$3&\".\"&FD$12&\".1\"),0)<$K22,\"\",DATEDIF($K22,EOMONTH(VALUE(\"R\"&基本項目!$B$3&\".\"&FD$12&\".1\")-1,1),\"Y\")),$U22))","v":""},null,null,{"$f":"IF($R22=\"\",\"\",IF($U22=\"\",IF(EOMONTH(VALUE(\"R\"&基本項目!$B$3&\".\"&FG$12&\".1\"),0)<$K22,\"\",DATEDIF($K22,EOMONTH(VALUE(\"R\"&基本項目!$B$3&\".\"&FG$12&\".1\")-1,1),\"Y\")),$U22))","v":""},null,null,{"$f":"IF($R22=\"\",\"\",IF($U22=\"\",IF(EOMONTH(VALUE(\"R\"&基本項目!$B$3&\".\"&FJ$12&\".1\"),0)<$K22,\"\",DATEDIF($K22,EOMONTH(VALUE(\"R\"&基本項目!$B$3&\".\"&FJ$12&\".1\")-1,1),\"Y\")),$U22))","v":""},null,null,{"$f":"IF($R22=\"\",\"\",IF($U22=\"\",IF(EOMONTH(VALUE(\"R\"&基本項目!$B$3&\".\"&FM$12&\".1\"),0)<$K22,\"\",DATEDIF($K22,EOMONTH(VALUE(\"R\"&基本項目!$B$3&\".\"&FM$12&\".1\")-1,1),\"Y\")),$U22))","v":""},null,null,{"$f":"IF($R22=\"\",\"\",IF($U22=\"\",IF(EOMONTH(VALUE(\"R\"&基本項目!$B$3&\".\"&FP$12&\".1\"),0)<$K22,\"\",DATEDIF($K22,EOMONTH(VALUE(\"R\"&基本項目!$B$3&\".\"&FP$12&\".1\")-1,1),\"Y\")),$U22))","v":""},null,null,{"$f":"IF($R22=\"\",\"\",IF($U22=\"\",IF(EOMONTH(VALUE(\"R\"&基本項目!$B$3&\".\"&FS$12&\".1\"),0)<$K22,\"\",DATEDIF($K22,EOMONTH(VALUE(\"R\"&基本項目!$B$3&\".\"&FS$12&\".1\")-1,1),\"Y\")),$U22))","v":""},null,null,{"$f":"IF($R22=\"\",\"\",IF($U22=\"\",IF(EOMONTH(VALUE(\"R\"&基本項目!$B$3+1&\".\"&FV$12&\".1\"),0)<$K22,\"\",DATEDIF($K22,EOMONTH(VALUE(\"R\"&基本項目!$B$3+1&\".\"&FV$12&\".1\")-1,1),\"Y\")),$U22))","v":""},null,null,{"$f":"IF($R22=\"\",\"\",IF($U22=\"\",IF(EOMONTH(VALUE(\"R\"&基本項目!$B$3+1&\".\"&FY$12&\".1\"),0)<$K22,\"\",DATEDIF($K22,EOMONTH(VALUE(\"R\"&基本項目!$B$3+1&\".\"&FY$12&\".1\")-1,1),\"Y\")),$U22))","v":""},null,null,{"$f":"IF($R22=\"\",\"\",IF($U22=\"\",IF(EOMONTH(VALUE(\"R\"&基本項目!$B$3+1&\".\"&GB$12&\".1\"),0)<$K22,\"\",DATEDIF($K22,EOMONTH(VALUE(\"R\"&基本項目!$B$3+1&\".\"&GB$12&\".1\")-1,1),\"Y\")),$U22))","v":""},null,null,"",null,null,null,"",null,null,null,null,null,{"$f":"IF($R22=\"\",\"\",IF($U22=\"\",IF(EOMONTH(VALUE(\"R\"&基本項目!$B$3&\".\"&EU$12&\".1\"),0)<$K22,\"\",DATEDIF($K22,EOMONTH(VALUE(\"R\"&基本項目!$B$3&\".\"&EU$12&\".1\")-1,1),\"Y\")),$U22))","v":""},null,null,{"$f":"IF($R22=\"\",\"\",IF($U22=\"\",IF(EOMONTH(VALUE(\"R\"&基本項目!$B$3&\".\"&EX$12&\".1\"),0)<$K22,\"\",DATEDIF($K22,EOMONTH(VALUE(\"R\"&基本項目!$B$3&\".\"&EX$12&\".1\")-1,1),\"Y\")),$U22))","v":""},null,null,{"$f":"IF($R22=\"\",\"\",IF($U22=\"\",IF(EOMONTH(VALUE(\"R\"&基本項目!$B$3&\".\"&FA$12&\".1\"),0)<$K22,\"\",DATEDIF($K22,EOMONTH(VALUE(\"R\"&基本項目!$B$3&\".\"&FA$12&\".1\")-1,1),\"Y\")),$U22))","v":""},null,null,{"$f":"IF($R22=\"\",\"\",IF($U22=\"\",IF(EOMONTH(VALUE(\"R\"&基本項目!$B$3&\".\"&FD$12&\".1\"),0)<$K22,\"\",DATEDIF($K22,EOMONTH(VALUE(\"R\"&基本項目!$B$3&\".\"&FD$12&\".1\")-1,1),\"Y\")),$U22))","v":""},null,null,{"$f":"IF($R22=\"\",\"\",IF($U22=\"\",IF(EOMONTH(VALUE(\"R\"&基本項目!$B$3&\".\"&FG$12&\".1\"),0)<$K22,\"\",DATEDIF($K22,EOMONTH(VALUE(\"R\"&基本項目!$B$3&\".\"&FG$12&\".1\")-1,1),\"Y\")),$U22))","v":""},null,null,{"$f":"IF($R22=\"\",\"\",IF($U22=\"\",IF(EOMONTH(VALUE(\"R\"&基本項目!$B$3&\".\"&FJ$12&\".1\"),0)<$K22,\"\",DATEDIF($K22,EOMONTH(VALUE(\"R\"&基本項目!$B$3&\".\"&FJ$12&\".1\")-1,1),\"Y\")),$U22))","v":""},null,null,{"$f":"IF($R22=\"\",\"\",IF($U22=\"\",IF(EOMONTH(VALUE(\"R\"&基本項目!$B$3&\".\"&FM$12&\".1\"),0)<$K22,\"\",DATEDIF($K22,EOMONTH(VALUE(\"R\"&基本項目!$B$3&\".\"&FM$12&\".1\")-1,1),\"Y\")),$U22))","v":""},null,null,{"$f":"IF($R22=\"\",\"\",IF($U22=\"\",IF(EOMONTH(VALUE(\"R\"&基本項目!$B$3&\".\"&FP$12&\".1\"),0)<$K22,\"\",DATEDIF($K22,EOMONTH(VALUE(\"R\"&基本項目!$B$3&\".\"&FP$12&\".1\")-1,1),\"Y\")),$U22))","v":""},null,null,{"$f":"IF($R22=\"\",\"\",IF($U22=\"\",IF(EOMONTH(VALUE(\"R\"&基本項目!$B$3&\".\"&FS$12&\".1\"),0)<$K22,\"\",DATEDIF($K22,EOMONTH(VALUE(\"R\"&基本項目!$B$3&\".\"&FS$12&\".1\")-1,1),\"Y\")),$U22))","v":""},null,null,{"$f":"IF($R22=\"\",\"\",IF($U22=\"\",IF(EOMONTH(VALUE(\"R\"&基本項目!$B$3+1&\".\"&FV$12&\".1\"),0)<$K22,\"\",DATEDIF($K22,EOMONTH(VALUE(\"R\"&基本項目!$B$3+1&\".\"&FV$12&\".1\")-1,1),\"Y\")),$U22))","v":""},null,null,{"$f":"IF($R22=\"\",\"\",IF($U22=\"\",IF(EOMONTH(VALUE(\"R\"&基本項目!$B$3+1&\".\"&FY$12&\".1\"),0)<$K22,\"\",DATEDIF($K22,EOMONTH(VALUE(\"R\"&基本項目!$B$3+1&\".\"&FY$12&\".1\")-1,1),\"Y\")),$U22))","v":""},null,null,{"$f":"IF($R22=\"\",\"\",IF($U22=\"\",IF(EOMONTH(VALUE(\"R\"&基本項目!$B$3+1&\".\"&GB$12&\".1\"),0)<$K22,\"\",DATEDIF($K22,EOMONTH(VALUE(\"R\"&基本項目!$B$3+1&\".\"&GB$12&\".1\")-1,1),\"Y\")),$U22))","v":""},null,null,"",null,null,null,"",null,null,null,null,null,"",null,null,"",null,null,"",null,null,"",null,null,"",null,null,"",null,null,"",null,null,"",null,null,"",null,null,"",null,null,"",null,null,"",null,null,"",null,null,null,"",null,null,null,"",null,null,null,null,"",null,null,"",null,null,"",null,null,"",null,null,"",null,null,"",null,null,"",null,null,"",null,null,"",null,null,"",null,null,"",null,null,"",null,null,"",null,null,null,"",null,null,null,"",null,null,null,null,"",null,null,"",null,null,"",null,null,"",null,null,"",null,null,"",null,null,"",null,null,"",null,null,"",null,null,"",null,null,"",null,null,""]
[null,null,null,null,null,null,null,null,null,null,null,null,null,null,null,null,null,null,null,null,null,null,null,null,null,null,null,null,null,null,null,null,null,null,null,null,null,null,null,null,null,null,null,null,null,null,null,null,null,null,null,null,null,null,null,null,null,null,null,null,null,null,null,null,null,null,null,null,null,null,null,null,null,null,null,null,null,null,null,null,null,null,null,null,null,null,null,null,null,null,null,null,null,null,null,null,null,null,null,null,null,null,null,null,null,null,null,null,null,null,null,null,null,null,null,null,null,null,null,null,null,null,null,null,null,null,null,null,null,null,null,null,null,null,null,null,null,null,null,null,null,null,null,null,null,null,null,null,null,null,{"$f":"IF(SUM($GE13)=12,1,IF(EU13=\"○\",1,0))+IF(SUM($GE14)=12,1,IF(EU14=\"○\",1,0))+IF(SUM($GE15)=12,1,IF(EU15=\"○\",1,0))+IF(SUM($GE16)=12,1,IF(EU16=\"○\",1,0))+IF(SUM($GE17)=12,1,IF(EU17=\"○\",1,0))+IF(SUM($GE18)=12,1,IF(EU18=\"○\",1,0))+IF(SUM($GE19)=12,1,IF(EU19=\"○\",1,0))+IF(SUM($GE20)=12,1,IF(EU20=\"○\",1,0))+IF(SUM($GE21)=12,1,IF(EU21=\"○\",1,0))+IF(SUM($GE22)=12,1,IF(EU22=\"○\",1,0))","v":0},null,null,{"$f":"IF(SUM($GE13)=12,1,IF(EX13=\"○\",1,0))+IF(SUM($GE14)=12,1,IF(EX14=\"○\",1,0))+IF(SUM($GE15)=12,1,IF(EX15=\"○\",1,0))+IF(SUM($GE16)=12,1,IF(EX16=\"○\",1,0))+IF(SUM($GE17)=12,1,IF(EX17=\"○\",1,0))+IF(SUM($GE18)=12,1,IF(EX18=\"○\",1,0))+IF(SUM($GE19)=12,1,IF(EX19=\"○\",1,0))+IF(SUM($GE20)=12,1,IF(EX20=\"○\",1,0))+IF(SUM($GE21)=12,1,IF(EX21=\"○\",1,0))+IF(SUM($GE22)=12,1,IF(EX22=\"○\",1,0))","v":0},null,null,{"$f":"IF(SUM($GE13)=12,1,IF(FA13=\"○\",1,0))+IF(SUM($GE14)=12,1,IF(FA14=\"○\",1,0))+IF(SUM($GE15)=12,1,IF(FA15=\"○\",1,0))+IF(SUM($GE16)=12,1,IF(FA16=\"○\",1,0))+IF(SUM($GE17)=12,1,IF(FA17=\"○\",1,0))+IF(SUM($GE18)=12,1,IF(FA18=\"○\",1,0))+IF(SUM($GE19)=12,1,IF(FA19=\"○\",1,0))+IF(SUM($GE20)=12,1,IF(FA20=\"○\",1,0))+IF(SUM($GE21)=12,1,IF(FA21=\"○\",1,0))+IF(SUM($GE22)=12,1,IF(FA22=\"○\",1,0))","v":0},null,null,{"$f":"IF(SUM($GE13)=12,1,IF(FD13=\"○\",1,0))+IF(SUM($GE14)=12,1,IF(FD14=\"○\",1,0))+IF(SUM($GE15)=12,1,IF(FD15=\"○\",1,0))+IF(SUM($GE16)=12,1,IF(FD16=\"○\",1,0))+IF(SUM($GE17)=12,1,IF(FD17=\"○\",1,0))+IF(SUM($GE18)=12,1,IF(FD18=\"○\",1,0))+IF(SUM($GE19)=12,1,IF(FD19=\"○\",1,0))+IF(SUM($GE20)=12,1,IF(FD20=\"○\",1,0))+IF(SUM($GE21)=12,1,IF(FD21=\"○\",1,0))+IF(SUM($GE22)=12,1,IF(FD22=\"○\",1,0))","v":0},null,null,{"$f":"IF(SUM($GE13)=12,1,IF(FG13=\"○\",1,0))+IF(SUM($GE14)=12,1,IF(FG14=\"○\",1,0))+IF(SUM($GE15)=12,1,IF(FG15=\"○\",1,0))+IF(SUM($GE16)=12,1,IF(FG16=\"○\",1,0))+IF(SUM($GE17)=12,1,IF(FG17=\"○\",1,0))+IF(SUM($GE18)=12,1,IF(FG18=\"○\",1,0))+IF(SUM($GE19)=12,1,IF(FG19=\"○\",1,0))+IF(SUM($GE20)=12,1,IF(FG20=\"○\",1,0))+IF(SUM($GE21)=12,1,IF(FG21=\"○\",1,0))+IF(SUM($GE22)=12,1,IF(FG22=\"○\",1,0))","v":0},null,null,{"$f":"IF(SUM($GE13)=12,1,IF(FJ13=\"○\",1,0))+IF(SUM($GE14)=12,1,IF(FJ14=\"○\",1,0))+IF(SUM($GE15)=12,1,IF(FJ15=\"○\",1,0))+IF(SUM($GE16)=12,1,IF(FJ16=\"○\",1,0))+IF(SUM($GE17)=12,1,IF(FJ17=\"○\",1,0))+IF(SUM($GE18)=12,1,IF(FJ18=\"○\",1,0))+IF(SUM($GE19)=12,1,IF(FJ19=\"○\",1,0))+IF(SUM($GE20)=12,1,IF(FJ20=\"○\",1,0))+IF(SUM($GE21)=12,1,IF(FJ21=\"○\",1,0))+IF(SUM($GE22)=12,1,IF(FJ22=\"○\",1,0))","v":0},null,null,{"$f":"IF(SUM($GE13)=12,1,IF(FM13=\"○\",1,0))+IF(SUM($GE14)=12,1,IF(FM14=\"○\",1,0))+IF(SUM($GE15)=12,1,IF(FM15=\"○\",1,0))+IF(SUM($GE16)=12,1,IF(FM16=\"○\",1,0))+IF(SUM($GE17)=12,1,IF(FM17=\"○\",1,0))+IF(SUM($GE18)=12,1,IF(FM18=\"○\",1,0))+IF(SUM($GE19)=12,1,IF(FM19=\"○\",1,0))+IF(SUM($GE20)=12,1,IF(FM20=\"○\",1,0))+IF(SUM($GE21)=12,1,IF(FM21=\"○\",1,0))+IF(SUM($GE22)=12,1,IF(FM22=\"○\",1,0))","v":0},null,null,{"$f":"IF(SUM($GE13)=12,1,IF(FP13=\"○\",1,0))+IF(SUM($GE14)=12,1,IF(FP14=\"○\",1,0))+IF(SUM($GE15)=12,1,IF(FP15=\"○\",1,0))+IF(SUM($GE16)=12,1,IF(FP16=\"○\",1,0))+IF(SUM($GE17)=12,1,IF(FP17=\"○\",1,0))+IF(SUM($GE18)=12,1,IF(FP18=\"○\",1,0))+IF(SUM($GE19)=12,1,IF(FP19=\"○\",1,0))+IF(SUM($GE20)=12,1,IF(FP20=\"○\",1,0))+IF(SUM($GE21)=12,1,IF(FP21=\"○\",1,0))+IF(SUM($GE22)=12,1,IF(FP22=\"○\",1,0))","v":0},null,null,{"$f":"IF(SUM($GE13)=12,1,IF(FS13=\"○\",1,0))+IF(SUM($GE14)=12,1,IF(FS14=\"○\",1,0))+IF(SUM($GE15)=12,1,IF(FS15=\"○\",1,0))+IF(SUM($GE16)=12,1,IF(FS16=\"○\",1,0))+IF(SUM($GE17)=12,1,IF(FS17=\"○\",1,0))+IF(SUM($GE18)=12,1,IF(FS18=\"○\",1,0))+IF(SUM($GE19)=12,1,IF(FS19=\"○\",1,0))+IF(SUM($GE20)=12,1,IF(FS20=\"○\",1,0))+IF(SUM($GE21)=12,1,IF(FS21=\"○\",1,0))+IF(SUM($GE22)=12,1,IF(FS22=\"○\",1,0))","v":0},null,null,{"$f":"IF(SUM($GE13)=12,1,IF(FV13=\"○\",1,0))+IF(SUM($GE14)=12,1,IF(FV14=\"○\",1,0))+IF(SUM($GE15)=12,1,IF(FV15=\"○\",1,0))+IF(SUM($GE16)=12,1,IF(FV16=\"○\",1,0))+IF(SUM($GE17)=12,1,IF(FV17=\"○\",1,0))+IF(SUM($GE18)=12,1,IF(FV18=\"○\",1,0))+IF(SUM($GE19)=12,1,IF(FV19=\"○\",1,0))+IF(SUM($GE20)=12,1,IF(FV20=\"○\",1,0))+IF(SUM($GE21)=12,1,IF(FV21=\"○\",1,0))+IF(SUM($GE22)=12,1,IF(FV22=\"○\",1,0))","v":0},null,null,{"$f":"IF(SUM($GE13)=12,1,IF(FY13=\"○\",1,0))+IF(SUM($GE14)=12,1,IF(FY14=\"○\",1,0))+IF(SUM($GE15)=12,1,IF(FY15=\"○\",1,0))+IF(SUM($GE16)=12,1,IF(FY16=\"○\",1,0))+IF(SUM($GE17)=12,1,IF(FY17=\"○\",1,0))+IF(SUM($GE18)=12,1,IF(FY18=\"○\",1,0))+IF(SUM($GE19)=12,1,IF(FY19=\"○\",1,0))+IF(SUM($GE20)=12,1,IF(FY20=\"○\",1,0))+IF(SUM($GE21)=12,1,IF(FY21=\"○\",1,0))+IF(SUM($GE22)=12,1,IF(FY22=\"○\",1,0))","v":0},null,null,{"$f":"IF(SUM($GE13)=12,1,IF(GB13=\"○\",1,0))+IF(SUM($GE14)=12,1,IF(GB14=\"○\",1,0))+IF(SUM($GE15)=12,1,IF(GB15=\"○\",1,0))+IF(SUM($GE16)=12,1,IF(GB16=\"○\",1,0))+IF(SUM($GE17)=12,1,IF(GB17=\"○\",1,0))+IF(SUM($GE18)=12,1,IF(GB18=\"○\",1,0))+IF(SUM($GE19)=12,1,IF(GB19=\"○\",1,0))+IF(SUM($GE20)=12,1,IF(GB20=\"○\",1,0))+IF(SUM($GE21)=12,1,IF(GB21=\"○\",1,0))+IF(SUM($GE22)=12,1,IF(GB22=\"○\",1,0))","v":0},null,null,{"$f":"COUNT(GE13:GH22)","v":0},null,null,null,null,null,null,null,null,null,null,null,null,null,null,null,null,null,null,null,null,null,null,null,null,null,null,null,null,null,null,null,null,null,null,null,null,null,null,null,null,null,null,null,null,null,null,null,null,null,null,null,null,null,null,null,null,null,null,null,null,null,null,null,null,null,null,null,null,null,null,null,null,null,null,null,null,null,null,null,null,null,null,null,null,null,null,null,null,null,null,null,null,null,null,null,null,null,null,null,null,null,null,null,null,null,null,null,null,null,null,null,null,null,null,null,null,null,null,null,null,null,null,null,null,null,null,null,null,null,null,null,null,null,null,null,null,null,null,null,null,null,null,null,null,null,null,null,null,null,null,null,null,null,null,null,null,null,null,null,null,null,null,null,null,null,null,null,null,null,null,null,null,null,null,null,null,null,null,null,null,null,null,null,null,null,null,null,null,null,null,null,null,null,null,null,null,null,null,null,null,null,null,{"$f":"IF(AND(COUNT(NZ13:OB22)>1,COUNTIF(NZ13:OB22,\"<75\")=1),1,\"\")","v":""},null,null,{"$f":"IF(SUM($NZ23)>=1,1,IF(AND(COUNT(OC13:OE22)>1,COUNTIF(OC13:OE22,\"<75\")=1),1,\"\"))","v":""},null,null,{"$f":"IF(SUM($NZ23:OE23)>=1,1,IF(AND(COUNT(OF13:OH22)>1,COUNTIF(OF13:OH22,\"<75\")=1),1,\"\"))","v":""},null,null,{"$f":"IF(SUM($NZ23:OH23)>=1,1,IF(AND(COUNT(OI13:OK22)>1,COUNTIF(OI13:OK22,\"<75\")=1),1,\"\"))","v":""},null,null,{"$f":"IF(SUM($NZ23:OK23)>=1,1,IF(AND(COUNT(OL13:ON22)>1,COUNTIF(OL13:ON22,\"<75\")=1),1,\"\"))","v":""},null,null,{"$f":"IF(SUM($NZ23:ON23)>=1,1,IF(AND(COUNT(OO13:OQ22)>1,COUNTIF(OO13:OQ22,\"<75\")=1),1,\"\"))","v":""},null,null,{"$f":"IF(SUM($NZ23:OQ23)>=1,1,IF(AND(COUNT(OR13:OT22)>1,COUNTIF(OR13:OT22,\"<75\")=1),1,\"\"))","v":""},null,null,{"$f":"IF(SUM($NZ23:OT23)>=1,1,IF(AND(COUNT(OU13:OW22)>1,COUNTIF(OU13:OW22,\"<75\")=1),1,\"\"))","v":""},null,null,{"$f":"IF(SUM($NZ23:OW23)>=1,1,IF(AND(COUNT(OX13:OZ22)>1,COUNTIF(OX13:OZ22,\"<75\")=1),1,\"\"))","v":""},null,null,{"$f":"IF(SUM($NZ23:OZ23)>=1,1,IF(AND(COUNT(PA13:PC22)>1,COUNTIF(PA13:PC22,\"<75\")=1),1,\"\"))","v":""},null,null,{"$f":"IF(SUM($NZ23:PC23)>=1,1,IF(AND(COUNT(PD13:PF22)>1,COUNTIF(PD13:PF22,\"<75\")=1),1,\"\"))","v":""},null,null,{"$f":"IF(SUM($NZ23:PF23)>=1,1,IF(AND(COUNT(PG13:PI22)>1,COUNTIF(PG13:PI22,\"<75\")=1),1,\"\"))","v":""},null,null,{"$f":"SUM(NZ23:PI23)","v":0},null,null,null,"←平等割額の軽減特例措置判定用"]
[null,null,null,null,null,null,null,null,null,null,null,null,null,null,null,null,null,null,null,null,null,null,null,null,null,null,null,null,null,null,null,null,null,null,null,null,null,null,null,null,null,null,null,null,null,null,null,null,null,null,null,null,null,null,null,null,null,null,null,null,null,null,null,null,null,null,null,null,null,null,null,null,null,null,null,null,null,null,null,null,null,null,null,null,null,null,null,null,null,null,null,null,null,null,null,null,null,null,null,null,null,null,null,null,null,null,null,null,null,null,null,null,null,null,null,null,null,null,null,null,null,null,null,null,null,null,null,null,null,null,null,null,null,null,null,null,null,null,null,null,null,null,null,null,null,null,null,null,null,null,{"$f":"IF(COUNTIF(GE13:GH22,12)>0,EU12,IF(EU23>0,EU12,\"\"))","v":""},null,null,{"$f":"IF(SUM($EU24:EU24)=0,IF(EX23>0,EX12,\"\"),\"\")","v":""},null,null,{"$f":"IF(SUM($EU24:EX24)=0,IF(FA23>0,FA12,\"\"),\"\")","v":""},null,null,{"$f":"IF(SUM($EU24:FA24)=0,IF(FD23>0,FD12,\"\"),\"\")","v":""},null,null,{"$f":"IF(SUM($EU24:FD24)=0,IF(FG23>0,FG12,\"\"),\"\")","v":""},null,null,{"$f":"IF(SUM($EU24:FG24)=0,IF(FJ23>0,FJ12,\"\"),\"\")","v":""},null,null,{"$f":"IF(SUM($EU24:FJ24)=0,IF(FM23>0,FM12,\"\"),\"\")","v":""},null,null,{"$f":"IF(SUM($EU24:FM24)=0,IF(FP23>0,FP12,\"\"),\"\")","v":""},null,null,{"$f":"IF(SUM($EU24:FP24)=0,IF(FS23>0,FS12,\"\"),\"\")","v":""},null,null,{"$f":"IF(SUM($EU24:FS24)=0,IF(FV23>0,FV12,\"\"),\"\")","v":""},null,null,{"$f":"IF(SUM($EU24:FV24)=0,IF(FY23>0,FY12,\"\"),\"\")","v":""},null,null,{"$f":"IF(SUM($EU24:FY24)=0,IF(GB23>0,GB12,\"\"),\"\")","v":""},null,null,{"$f":"SUM(EU24:GD24)","v":0},null,null,"←世帯ができた月"]
[null,"医療保険分",null,null,null,null,null,null,null,null,"所得割",null,null,null,null,"率",null,null,null,null,7.77,null,null,null,null,null,{"$f":"\"（前年の総所得金額－基礎控除額）×\"&IF(U25=\"\",\"\",U25)&\"％\"","v":"（前年の総所得金額－基礎控除額）×7.77％"},null,null,null,null,null,null,null,null,null,null,null,null,null,null,null,null,null,null,null,null,null,null,null,null,null,null,null,null,null,null,null,null,null,null,null,null,null,null,null,null,null,null,null,null,null,null,null,null,null,null,null,null,null,null,null,null,null,null,null,null,null,null,null,null,null,null,null,null,null,null,null,null,null,null,null,null,null,null,null,null,null,null,null,null,null,null,null,null,null,null,null,null,null,null,null,null,null,null,null,null,null,null,null,null,null,null,null,null,null,null,null,null,null,null,null,null,null,null,null,null,null,null,null,{"$f":"IF(AND(SUM(EU24)=4,COUNTIF(EU13:EW22,\"○\")=0),SUMPRODUCT((GE13:GE22=12)*1,$EO$13:$EO$22),IF(SUM(EU24)=0,\"\",IF(SUM(EU23)=0,\"\",SUMPRODUCT((EU13:EW22=\"○\")*1,$EO$13:$EQ$22))))","v":""},null,null,{"$f":"IF(SUM(EX24)=0,\"\",IF(SUM(EX23)=0,\"\",SUMPRODUCT((EX13:EZ22=\"○\")*1,$EO$13:$EQ$22)))","v":""},null,null,{"$f":"IF(SUM(FA24)=0,\"\",IF(SUM(FA23)=0,\"\",SUMPRODUCT((FA13:FC22=\"○\")*1,$EO$13:$EQ$22)))","v":""},null,null,{"$f":"IF(SUM(FD24)=0,\"\",IF(SUM(FD23)=0,\"\",SUMPRODUCT((FD13:FF22=\"○\")*1,$EO$13:$EQ$22)))","v":""},null,null,{"$f":"IF(SUM(FG24)=0,\"\",IF(SUM(FG23)=0,\"\",SUMPRODUCT((FG13:FI22=\"○\")*1,$EO$13:$EQ$22)))","v":""},null,null,{"$f":"IF(SUM(FJ24)=0,\"\",IF(SUM(FJ23)=0,\"\",SUMPRODUCT((FJ13:FL22=\"○\")*1,$EO$13:$EQ$22)))","v":""},null,null,{"$f":"IF(SUM(FM24)=0,\"\",IF(SUM(FM23)=0,\"\",SUMPRODUCT((FM13:FO22=\"○\")*1,$EO$13:$EQ$22)))","v":""},null,null,{"$f":"IF(SUM(FP24)=0,\"\",IF(SUM(FP23)=0,\"\",SUMPRODUCT((FP13:FR22=\"○\")*1,$EO$13:$EQ$22)))","v":""},null,null,{"$f":"IF(SUM(FS24)=0,\"\",IF(SUM(FS23)=0,\"\",SUMPRODUCT((FS13:FU22=\"○\")*1,$EO$13:$EQ$22)))","v":""},null,null,{"$f":"IF(SUM(FV24)=0,\"\",IF(SUM(FV23)=0,\"\",SUMPRODUCT((FV13:FX22=\"○\")*1,$EO$13:$EQ$22)))","v":""},null,null,{"$f":"IF(SUM(FY24)=0,\"\",IF(SUM(FY23)=0,\"\",SUMPRODUCT((FY13:GA22=\"○\")*1,$EO$13:$EQ$22)))","v":""},null,null,{"$f":"IF(SUM(GB24)=0,\"\",IF(SUM(GB23)=0,\"\",SUMPRODUCT((GB13:GD22=\"○\")*1,$EO$13:$EQ$22)))","v":""},null,null,{"$f":"SUM(EU25:GD25)","v":0},null,null,"←給与・年金所得あり人数（＋10万円×（給与所得者※-1）の判定用）"]
[null,null,null,null,null,null,null,null,null,null,null,null,null,null,null,"控除額",null,null,null,null,"基礎控除",null,null,null,null,null,null,null,null,null,null,null,null,null,null,null,null,null,null,null,null,null,null,null,null,null,null,null,null,null,null,null,null,null,null,null,null,null,null,null,null,null,null,null,null,null,null,null,null,null,null,null,null,null,null,null,null,null,null,null,null,null,null,null,null,null,null,null,null,null,null,null,null,null,null,null,null,null,null,null,null,null,null,null,null,null,null,null,null,null,null,null,null,null,null,null,null,null,null,null,null,null,null,null,null,null,null,null,null,null,null,null,null,null,null,null,null,null,null,null,null,null,null,null,null,null,null,null,null,null,{"$f":"IF(EU$24=\"\",\"\",SUM(PW13:PY22))","v":""},null,null,{"$f":"IF(EX$24=\"\",\"\",SUM(PZ13:QB22))","v":""},null,null,{"$f":"IF(FA$24=\"\",\"\",SUM(QC13:QE22))","v":""},null,null,{"$f":"IF(FD$24=\"\",\"\",SUM(QF13:QH22))","v":""},null,null,{"$f":"IF(FG$24=\"\",\"\",SUM(QI13:QK22))","v":""},null,null,{"$f":"IF(FJ$24=\"\",\"\",SUM(QL13:QN22))","v":""},null,null,{"$f":"IF(FM$24=\"\",\"\",SUM(QO13:QQ22))","v":""},null,null,{"$f":"IF(FP$24=\"\",\"\",SUM(QR13:QT22))","v":""},null,null,{"$f":"IF(FS$24=\"\",\"\",SUM(QU13:QW22))","v":""},null,null,{"$f":"IF(FV$24=\"\",\"\",SUM(QX13:QZ22))","v":""},null,null,{"$f":"IF(FY$24=\"\",\"\",SUM(RA13:RC22))","v":""},null,null,{"$f":"IF(GB$24=\"\",\"\",SUM(RD13:RF22))","v":""},null,null,{"$f":"SUM(EU26:GD26,$AU$2)","v":0},null,null,"←軽減判定用所得（特定同一世帯所属者を除く）"]
[null,null,null,null,null,null,null,null,null,null,"均等割",null,null,null,null,null,null,null,null,null,23500,null,null,null,null,null,"←１人当たり",null,null,null,null,null,null,null,null,null,null,null,null,null,null,null,null,null,null,null,null,null,null,null,null,null,null,null,null,null,null,null,null,null,null,null,null,null,null,null,null,null,null,null,null,null,null,null,null,null,null,null,null,null,null,null,null,null,null,null,null,null,null,null,null,null,null,null,null,null,null,null,null,null,null,null,null,null,null,null,null,null,null,null,null,null,null,null,null,null,null,null,null,null,null,null,null,null,null,null,null,null,null,null,null,null,null,null,null,null,null,null,null,null,null,null,null,null,null,null,null,null,null,null,{"$f":"IF(SUM(EU24)=0,\"\",SUM(EU23))","v":""},null,null,{"$f":"IF(SUM(EX24)=0,\"\",SUM(EX23))","v":""},null,null,{"$f":"IF(SUM(FA24)=0,\"\",SUM(FA23))","v":""},null,null,{"$f":"IF(SUM(FD24)=0,\"\",SUM(FD23))","v":""},null,null,{"$f":"IF(SUM(FG24)=0,\"\",SUM(FG23))","v":""},null,null,{"$f":"IF(SUM(FJ24)=0,\"\",SUM(FJ23))","v":""},null,null,{"$f":"IF(SUM(FM24)=0,\"\",SUM(FM23))","v":""},null,null,{"$f":"IF(SUM(FP24)=0,\"\",SUM(FP23))","v":""},null,null,{"$f":"IF(SUM(FS24)=0,\"\",SUM(FS23))","v":""},null,null,{"$f":"IF(SUM(FV24)=0,\"\",SUM(FV23))","v":""},null,null,{"$f":"IF(SUM(FY24)=0,\"\",SUM(FY23))","v":""},null,null,{"$f":"IF(SUM(GB24)=0,\"\",SUM(GB23))","v":""},null,null,{"$f":"SUM(EU27:GD27)","v":0},null,null,"←軽減判定用人数※これは擬主及び特定同一世帯所属者を含んでいない。"]
[null,null,null,null,null,null,null,null,null,null,"平等割",null,null,null,null,null,null,null,null,null,27800,null,null,null,null,null,"←１世帯当たり"]
[null,null,null,null,null,null,null,null,null,null,"限度額",null,null,null,null,null,null,null,null,null,670000,null,null,null,null,null,null,null,null,null,null,null,null,null,null,null,null,null,null,null,null,null,null,null,null,null,null,null,null,null,null,null,null,null,null,null,null,null,null,null,null,null,null,null,null,null,null,null,null,null,null,null,null,null,null,null,null,null,null,null,null,null,null,null,null,null,null,null,null,null,{"$f":"IF(SUM(GE45)<>0,\"平等割額の軽減特例措置該当↓\",\"\")","v":""},null,null,null,null,null,null,null,null,null,null,null,null,null,null,null,null,null,null,null,null,{"$f":"IF(SUM($GE45)=0,\"\",\"　 (\"&TEXT(BK34,\"#,##0\")&\"－\"&IF(SUM(BY34)=0,0,TEXT(BY34,\"#,##0\"))&\")×1/2×\"&TEXT(GE45,\"#,##0\")&\"/12＝\"&TEXT(DA30,\"#,##0\")&\"\n←　\"&TEXT(BK34,\"#,##0\")&\"－\"&IF(SUM(BY34)=0,0,TEXT(BY34,\"#,##0\"))&\"－\"&TEXT(DA30,\"#,##0\")&\"＝\"&TEXT(DA34,\"#,##0\"))","v":""}]
[null,null,null,null,null,null,null,null,null,null,null,null,null,null,null,null,null,null,null,null,null,null,null,null,null,null,null,null,null,null,null,null,null,null,null,null,null,null,null,null,null,null,null,null,null,null,null,null,null,null,null,null,null,null,null,null,null,null,null,null,null,null,null,null,null,null,null,null,null,{"$f":"IF($AU$5=\"\",\"\",$AU$5)","v":""},null,null,null,null,null,null,null,null,null,null,null,null,null,null,null,null,null,null,null,null,{"$f":"IF(CM29=\"\",\"\",\"Ｃからこの金額を引く→\")","v":""},null,null,null,null,null,null,null,null,null,null,null,null,null,{"$f":"IF(SUM($GE45)=0,\"\",IF(SUM(GE13:GH22)=SUM(GE34:GH43),\"\",ROUNDDOWN(((SUM($BK34)-SUM($BY34)))/2*SUM($GE45)/12,0)))","v":""}]
[null,null,null,"該当者",null,null,null,null,null,null,null,null,null,null,null,null,null,null,null,null,"課税総所得金額",null,null,null,null,null,null,null,null,null,null,null,null,null,null,null,null,null,null,null,null,"算出額（全体）",null,null,null,null,null,null,null,null,null,null,null,null,null,null,null,null,null,null,null,null,null,null,null,null,null,null,null,"軽減額(2･5･7割額)",null,null,null,null,null,null,null,null,null,null,null,null,null,"軽減後(2･5･7割後)",null,null,null,null,null,null,null,null,null,null,null,null,null,null,null,null,null,null,null,null,null,null,null,null,null,null,null,"月数",null,null,null,null,null,null,null,"月割後"]
[null,null,null,"氏　名",null,null,null,null,null,null,"生年月日",null,null,null,null,null,null,"年齢",null,null,"①",null,null,null,null,null,null,"②",null,null,null,null,null,null,"③（①－②）",null,null,null,null,null,null,{"$f":"\"④(③×\"&DBCS(U25)&\"%)\"","v":"④(③×７．７７%)"},null,null,null,null,null,null,"⑤",null,null,null,null,null,null,"④＋⑤",null,null,null,null,null,null,"⑥",null,null,null,null,null,null,"⑦",null,null,null,null,null,null,"⑧",null,null,null,null,null,null,"Ａ＝④",null,null,null,null,null,null,"Ｂ＝⑤－⑦",null,null,null,null,null,null,"Ａ＋Ｂ",null,null,null,null,null,null,"Ｃ＝⑥－⑧",null,null,null,null,null,null,"該当\n月数",null,null,null,"世帯\n月数",null,null,null,"所得割",null,null,null,null,null,null,"均等割",null,null,null,null,null,null,"平等割"]
[null,null,null,null,null,null,null,null,null,null,null,null,null,null,null,null,null,null,null,null,"総所得金額",null,null,null,null,null,null,"控除額",null,null,null,null,null,null,"課税所得",null,null,null,null,null,null,"所得割",null,null,null,null,null,null,"均等割",null,null,null,null,null,null,"合　計",null,null,null,null,null,null,"平等割",null,null,null,null,null,null,"均等割",null,null,null,null,null,null,"平等割",null,null,null,null,null,null,"所得割",null,null,null,null,null,null,"均等割",null,null,null,null,null,null,"合　計",null,null,null,null,null,null,"平等割",null,null,null,null,null,null,null,null,null,null,null,null,null,null,null,null,null,null,null,null,null,null,null,null,null,null,null,null,null,null,null,null,null,null,null,null,null,null,null,null,null,null,null,null,null,4,null,null,5,null,null,6,null,null,7,null,null,8,null,null,9,null,null,10,null,null,11,null,null,12,null,null,1,null,null,2,null,null,3,null,null,"月数計",null,null,null,"備考",null,null,null,null,null,null,null,null,null,null,null,null,null,null,null,null,null,null,null,null,null,null,null,null,null,null,4,null,null,5,null,null,6,null,null,7,null,null,8,null,null,9,null,null,10,null,null,11,null,null,12,null,null,13,null,null,14,null,null,15]
[null,1,null,{"$f":"IF($DH34=\"\",\"\",$D13)","v":""},null,null,null,null,null,null,{"$f":"IF($DH34=\"\",\"\",IF($K13=\"\",\"\",SUM($K13)))","v":""},null,null,null,null,null,null,{"$f":"IF($DH34=\"\",\"\",IF($R13=\"\",\"\",SUM($R13)))","v":""},null,null,{"$f":"IF($DH34=\"\",\"\",IF($DC13=\"\",\"\",SUM($DC13)))","v":""},null,null,null,null,null,null,{"$f":"IF($DH34=\"\",\"\",IF($U34=\"\",\"\",基礎控除!H3))","v":""},null,null,null,null,null,null,{"$f":"IF($DH34=\"\",\"\",IF($U34=\"\",\"\",IF(SUM($U34)>SUM($AB34),SUM($U34)-SUM($AB34),0)))","v":""},null,null,null,null,null,null,{"$f":"IF($DH34=\"\",\"\",ROUNDDOWN(SUM(AI34)*SUM($U$25)/100,0))","v":""},null,null,null,null,null,null,{"$f":"IF($DH34=\"\",\"\",SUM($U$27))","v":""},null,null,null,null,null,null,{"$f":"IF(SUM(AP34:BC34)=0,\"\",SUM(AP34:BC34))","v":""},null,null,null,null,null,null,{"$f":"IF($DL34=\"\",\"\",SUM($U$28))","v":""},null,null,null,null,null,null,{"$f":"IF($AU$5=\"\",\"\",IF($DH34=\"\",\"\",ROUNDDOWN(SUM($U$27)*SUM(IF($AU$5=\"２割軽減世帯\",2,IF($AU$5=\"５割軽減世帯\",5,IF($AU$5=\"７割軽減世帯\",7,\"\"))))/10,0)))","v":""},null,null,null,null,null,null,{"$f":"IF($AU$5=\"\",\"\",IF($DL34=\"\",\"\",ROUNDDOWN(SUM($U$28)*SUM(IF($AU$5=\"２割軽減世帯\",2,IF($AU$5=\"５割軽減世帯\",5,IF($AU$5=\"７割軽減世帯\",7,\"\"))))/10,0)))","v":""},null,null,null,null,null,null,{"$f":"IF($DH34=\"\",\"\",SUM($AP34))","v":""},null,null,null,null,null,null,{"$f":"IF($DH34=\"\",\"\",SUM($AW34)-SUM($BR34))","v":""},null,null,null,null,null,null,{"$f":"IF(SUM(CF34:CS34)=0,\"\",SUM(CF34:CS34))","v":""},null,null,null,null,null,null,{"$f":"IF($DL34=\"\",\"\",SUM($BK34)-SUM($BY34)-SUM(DA30))","v":""},null,null,null,null,null,null,{"$f":"IF(GE34=\"\",\"\",SUM(GE34))","v":""},null,null,null,{"$f":"IF($GI$13=\"\",\"\",SUM(GE46))","v":""},null,null,null,{"$f":"IF($DH34=\"\",\"\",ROUNDDOWN(SUM($CF34)*SUM($DH34)/12,0))","v":""},null,null,null,null,null,null,{"$f":"IF($DH34=\"\",\"\",IF(未就学児!F6=\"\",ROUNDDOWN(SUM($CM34)*SUM($DH34)/12,0),(ROUNDDOWN(SUM($CM34)*SUM($DH34)/12,0))*0.5))","v":""},null,null,null,null,null,null,{"$f":"IF($DL34=\"\",\"\",ROUNDDOWN(SUM($DA34)*SUM($DL34)/12,0))","v":""},null,null,null,null,null,null,{"$f":"IF(未就学児!$F6=1,\"←未就学児\",\"\")","v":""},null,null,null,null,null,null,null,null,null,{"$f":"IF(NZ13=\"\",\"\",IF(NZ13<75,IF(HJ34=\"○\",\"○\",\"\"),\"\"))","v":""},null,null,{"$f":"IF(OC13=\"\",\"\",IF(OC13<75,IF(HM34=\"○\",\"○\",\"\"),\"\"))","v":""},null,null,{"$f":"IF(OF13=\"\",\"\",IF(OF13<75,IF(HP34=\"○\",\"○\",\"\"),\"\"))","v":""},null,null,{"$f":"IF(OI13=\"\",\"\",IF(OI13<75,IF(HS34=\"○\",\"○\",\"\"),\"\"))","v":""},null,null,{"$f":"IF(OL13=\"\",\"\",IF(OL13<75,IF(HV34=\"○\",\"○\",\"\"),\"\"))","v":""},null,null,{"$f":"IF(OO13=\"\",\"\",IF(OO13<75,IF(HY34=\"○\",\"○\",\"\"),\"\"))","v":""},null,null,{"$f":"IF(OR13=\"\",\"\",IF(OR13<75,IF(IB34=\"○\",\"○\",\"\"),\"\"))","v":""},null,null,{"$f":"IF(OU13=\"\",\"\",IF(OU13<75,IF(IE34=\"○\",\"○\",\"\"),\"\"))","v":""},null,null,{"$f":"IF(OX13=\"\",\"\",IF(OX13<75,IF(IH34=\"○\",\"○\",\"\"),\"\"))","v":""},null,null,{"$f":"IF(PA13=\"\",\"\",IF(PA13<75,IF(IK34=\"○\",\"○\",\"\"),\"\"))","v":""},null,null,{"$f":"IF(PD13=\"\",\"\",IF(PD13<75,IF(IN34=\"○\",\"○\",\"\"),\"\"))","v":""},null,null,{"$f":"IF(PG13=\"\",\"\",IF(PG13<75,IF(IQ34=\"○\",\"○\",\"\"),\"\"))","v":""},null,null,{"$f":"IF(COUNTIF(EU34:GD34,\"○\")=0,\"\",COUNTIF(EU34:GD34,\"○\"))","v":""},null,null,null,{"$f":"IF(SUM(PJ13)=12,\"国保に該当しない。\",IF(OR(SUM(GE13)=SUM(PN13),SUM(PJ13)=0),\"\",\"年度途中から後期高齢者医療制度移行あり。\"))","v":""},null,null,null,null,null,null,null,null,null,null,null,null,null,null,null,null,null,null,null,null,null,null,null,null,null,null,{"$f":"IF(NZ13=\"\",\"\",IF($PR13>HJ$33,\"○\",\"\"))","v":""},null,null,{"$f":"IF(OC13=\"\",\"\",IF($PR13>HM$33,\"○\",\"\"))","v":""},null,null,{"$f":"IF(OF13=\"\",\"\",IF($PR13>HP$33,\"○\",\"\"))","v":""},null,null,{"$f":"IF(OI13=\"\",\"\",IF($PR13>HS$33,\"○\",\"\"))","v":""},null,null,{"$f":"IF(OL13=\"\",\"\",IF($PR13>HV$33,\"○\",\"\"))","v":""},null,null,{"$f":"IF(OO13=\"\",\"\",IF($PR13>HY$33,\"○\",\"\"))","v":""},null,null,{"$f":"IF(OR13=\"\",\"\",IF($PR13>IB$33,\"○\",\"\"))","v":""},null,null,{"$f":"IF(OU13=\"\",\"\",IF($PR13>IE$33,\"○\",\"\"))","v":""},null,null,{"$f":"IF(OX13=\"\",\"\",IF($PR13>IH$33,\"○\",\"\"))","v":""},null,null,{"$f":"IF(PA13=\"\",\"\",IF($PR13>IK$33,\"○\",\"\"))","v":""},null,null,{"$f":"IF(PD13=\"\",\"\",IF($PR13>IN$33,\"○\",\"\"))","v":""},null,null,{"$f":"IF(PG13=\"\",\"\",IF($PR13>IQ$33,\"○\",\"\"))","v":""}]
[null,2,null,"",null,null,null,null,null,null,"",null,null,null,null,null,null,"",null,null,"",null,null,null,null,null,null,{"$f":"IF($DH35=\"\",\"\",IF($U35=\"\",\"\",基礎控除!H4))","v":""},null,null,null,null,null,null,"",null,null,null,null,null,null,"",null,null,null,null,null,null,"",null,null,null,null,null,null,"",null,null,null,null,null,null,null,null,null,null,null,null,null,"",null,null,null,null,null,null,null,null,null,null,null,null,null,"",null,null,null,null,null,null,"",null,null,null,null,null,null,"",null,null,null,null,null,null,null,null,null,null,null,null,null,{"$f":"IF(GE35=\"\",\"\",SUM(GE35))","v":""},null,null,null,null,null,null,null,"",null,null,null,null,null,null,{"$f":"IF($DH35=\"\",\"\",IF(未就学児!F7=\"\",ROUNDDOWN(SUM($CM35)*SUM($DH35)/12,0),(ROUNDDOWN(SUM($CM35)*SUM($DH35)/12,0))*0.5))","v":""},null,null,null,null,null,null,null,null,null,null,null,null,null,{"$f":"IF(未就学児!$F7=1,\"←未就学児\",\"\")","v":""},null,null,null,null,null,null,null,null,null,{"$f":"IF(NZ14=\"\",\"\",IF(NZ14<75,IF(HJ35=\"○\",\"○\",\"\"),\"\"))","v":""},null,null,{"$f":"IF(OC14=\"\",\"\",IF(OC14<75,IF(HM35=\"○\",\"○\",\"\"),\"\"))","v":""},null,null,{"$f":"IF(OF14=\"\",\"\",IF(OF14<75,IF(HP35=\"○\",\"○\",\"\"),\"\"))","v":""},null,null,{"$f":"IF(OI14=\"\",\"\",IF(OI14<75,IF(HS35=\"○\",\"○\",\"\"),\"\"))","v":""},null,null,{"$f":"IF(OL14=\"\",\"\",IF(OL14<75,IF(HV35=\"○\",\"○\",\"\"),\"\"))","v":""},null,null,{"$f":"IF(OO14=\"\",\"\",IF(OO14<75,IF(HY35=\"○\",\"○\",\"\"),\"\"))","v":""},null,null,{"$f":"IF(OR14=\"\",\"\",IF(OR14<75,IF(IB35=\"○\",\"○\",\"\"),\"\"))","v":""},null,null,{"$f":"IF(OU14=\"\",\"\",IF(OU14<75,IF(IE35=\"○\",\"○\",\"\"),\"\"))","v":""},null,null,{"$f":"IF(OX14=\"\",\"\",IF(OX14<75,IF(IH35=\"○\",\"○\",\"\"),\"\"))","v":""},null,null,{"$f":"IF(PA14=\"\",\"\",IF(PA14<75,IF(IK35=\"○\",\"○\",\"\"),\"\"))","v":""},null,null,{"$f":"IF(PD14=\"\",\"\",IF(PD14<75,IF(IN35=\"○\",\"○\",\"\"),\"\"))","v":""},null,null,{"$f":"IF(PG14=\"\",\"\",IF(PG14<75,IF(IQ35=\"○\",\"○\",\"\"),\"\"))","v":""},null,null,{"$f":"IF(COUNTIF(EU35:GD35,\"○\")=0,\"\",COUNTIF(EU35:GD35,\"○\"))","v":""},null,null,null,"",null,null,null,null,null,null,null,null,null,null,null,null,null,null,null,null,null,null,null,null,null,null,null,null,null,null,{"$f":"IF(NZ14=\"\",\"\",IF($PR14>HJ$33,\"○\",\"\"))","v":""},null,null,{"$f":"IF(OC14=\"\",\"\",IF($PR14>HM$33,\"○\",\"\"))","v":""},null,null,{"$f":"IF(OF14=\"\",\"\",IF($PR14>HP$33,\"○\",\"\"))","v":""},null,null,{"$f":"IF(OI14=\"\",\"\",IF($PR14>HS$33,\"○\",\"\"))","v":""},null,null,{"$f":"IF(OL14=\"\",\"\",IF($PR14>HV$33,\"○\",\"\"))","v":""},null,null,{"$f":"IF(OO14=\"\",\"\",IF($PR14>HY$33,\"○\",\"\"))","v":""},null,null,{"$f":"IF(OR14=\"\",\"\",IF($PR14>IB$33,\"○\",\"\"))","v":""},null,null,{"$f":"IF(OU14=\"\",\"\",IF($PR14>IE$33,\"○\",\"\"))","v":""},null,null,{"$f":"IF(OX14=\"\",\"\",IF($PR14>IH$33,\"○\",\"\"))","v":""},null,null,{"$f":"IF(PA14=\"\",\"\",IF($PR14>IK$33,\"○\",\"\"))","v":""},null,null,{"$f":"IF(PD14=\"\",\"\",IF($PR14>IN$33,\"○\",\"\"))","v":""},null,null,{"$f":"IF(PG14=\"\",\"\",IF($PR14>IQ$33,\"○\",\"\"))","v":""}]
[null,3,null,"",null,null,null,null,null,null,"",null,null,null,null,null,null,"",null,null,"",null,null,null,null,null,null,{"$f":"IF($DH36=\"\",\"\",IF($U36=\"\",\"\",基礎控除!H5))","v":""},null,null,null,null,null,null,"",null,null,null,null,null,null,"",null,null,null,null,null,null,"",null,null,null,null,null,null,"",null,null,null,null,null,null,null,null,null,null,null,null,null,"",null,null,null,null,null,null,null,null,null,null,null,null,null,"",null,null,null,null,null,null,"",null,null,null,null,null,null,"",null,null,null,null,null,null,null,null,null,null,null,null,null,{"$f":"IF(GE36=\"\",\"\",SUM(GE36))","v":""},null,null,null,null,null,null,null,"",null,null,null,null,null,null,{"$f":"IF($DH36=\"\",\"\",IF(未就学児!F8=\"\",ROUNDDOWN(SUM($CM36)*SUM($DH36)/12,0),(ROUNDDOWN(SUM($CM36)*SUM($DH36)/12,0))*0.5))","v":""},null,null,null,null,null,null,null,null,null,null,null,null,null,{"$f":"IF(未就学児!$F8=1,\"←未就学児\",\"\")","v":""},null,null,null,null,null,null,null,null,null,{"$f":"IF(NZ15=\"\",\"\",IF(NZ15<75,IF(HJ36=\"○\",\"○\",\"\"),\"\"))","v":""},null,null,{"$f":"IF(OC15=\"\",\"\",IF(OC15<75,IF(HM36=\"○\",\"○\",\"\"),\"\"))","v":""},null,null,{"$f":"IF(OF15=\"\",\"\",IF(OF15<75,IF(HP36=\"○\",\"○\",\"\"),\"\"))","v":""},null,null,{"$f":"IF(OI15=\"\",\"\",IF(OI15<75,IF(HS36=\"○\",\"○\",\"\"),\"\"))","v":""},null,null,{"$f":"IF(OL15=\"\",\"\",IF(OL15<75,IF(HV36=\"○\",\"○\",\"\"),\"\"))","v":""},null,null,{"$f":"IF(OO15=\"\",\"\",IF(OO15<75,IF(HY36=\"○\",\"○\",\"\"),\"\"))","v":""},null,null,{"$f":"IF(OR15=\"\",\"\",IF(OR15<75,IF(IB36=\"○\",\"○\",\"\"),\"\"))","v":""},null,null,{"$f":"IF(OU15=\"\",\"\",IF(OU15<75,IF(IE36=\"○\",\"○\",\"\"),\"\"))","v":""},null,null,{"$f":"IF(OX15=\"\",\"\",IF(OX15<75,IF(IH36=\"○\",\"○\",\"\"),\"\"))","v":""},null,null,{"$f":"IF(PA15=\"\",\"\",IF(PA15<75,IF(IK36=\"○\",\"○\",\"\"),\"\"))","v":""},null,null,{"$f":"IF(PD15=\"\",\"\",IF(PD15<75,IF(IN36=\"○\",\"○\",\"\"),\"\"))","v":""},null,null,{"$f":"IF(PG15=\"\",\"\",IF(PG15<75,IF(IQ36=\"○\",\"○\",\"\"),\"\"))","v":""},null,null,{"$f":"IF(COUNTIF(EU36:GD36,\"○\")=0,\"\",COUNTIF(EU36:GD36,\"○\"))","v":""},null,null,null,"",null,null,null,null,null,null,null,null,null,null,null,null,null,null,null,null,null,null,null,null,null,null,null,null,null,null,{"$f":"IF(NZ15=\"\",\"\",IF($PR15>HJ$33,\"○\",\"\"))","v":""},null,null,{"$f":"IF(OC15=\"\",\"\",IF($PR15>HM$33,\"○\",\"\"))","v":""},null,null,{"$f":"IF(OF15=\"\",\"\",IF($PR15>HP$33,\"○\",\"\"))","v":""},null,null,{"$f":"IF(OI15=\"\",\"\",IF($PR15>HS$33,\"○\",\"\"))","v":""},null,null,{"$f":"IF(OL15=\"\",\"\",IF($PR15>HV$33,\"○\",\"\"))","v":""},null,null,{"$f":"IF(OO15=\"\",\"\",IF($PR15>HY$33,\"○\",\"\"))","v":""},null,null,{"$f":"IF(OR15=\"\",\"\",IF($PR15>IB$33,\"○\",\"\"))","v":""},null,null,{"$f":"IF(OU15=\"\",\"\",IF($PR15>IE$33,\"○\",\"\"))","v":""},null,null,{"$f":"IF(OX15=\"\",\"\",IF($PR15>IH$33,\"○\",\"\"))","v":""},null,null,{"$f":"IF(PA15=\"\",\"\",IF($PR15>IK$33,\"○\",\"\"))","v":""},null,null,{"$f":"IF(PD15=\"\",\"\",IF($PR15>IN$33,\"○\",\"\"))","v":""},null,null,{"$f":"IF(PG15=\"\",\"\",IF($PR15>IQ$33,\"○\",\"\"))","v":""}]
[null,4,null,"",null,null,null,null,null,null,"",null,null,null,null,null,null,"",null,null,"",null,null,null,null,null,null,{"$f":"IF($DH37=\"\",\"\",IF($U37=\"\",\"\",基礎控除!H6))","v":""},null,null,null,null,null,null,"",null,null,null,null,null,null,"",null,null,null,null,null,null,"",null,null,null,null,null,null,"",null,null,null,null,null,null,null,null,null,null,null,null,null,"",null,null,null,null,null,null,null,null,null,null,null,null,null,"",null,null,null,null,null,null,"",null,null,null,null,null,null,"",null,null,null,null,null,null,null,null,null,null,null,null,null,"",null,null,null,null,null,null,null,"",null,null,null,null,null,null,{"$f":"IF($DH37=\"\",\"\",IF(未就学児!F9=\"\",ROUNDDOWN(SUM($CM37)*SUM($DH37)/12,0),(ROUNDDOWN(SUM($CM37)*SUM($DH37)/12,0))*0.5))","v":""},null,null,null,null,null,null,null,null,null,null,null,null,null,{"$f":"IF(未就学児!$F9=1,\"←未就学児\",\"\")","v":""},null,null,null,null,null,null,null,null,null,"",null,null,"",null,null,"",null,null,"",null,null,"",null,null,"",null,null,"",null,null,"",null,null,"",null,null,"",null,null,"",null,null,"",null,null,"",null,null,null,"",null,null,null,null,null,null,null,null,null,null,null,null,null,null,null,null,null,null,null,null,null,null,null,null,null,null,"",null,null,"",null,null,"",null,null,"",null,null,"",null,null,"",null,null,"",null,null,"",null,null,"",null,null,"",null,null,"",null,null,""]
[null,5,null,"",null,null,null,null,null,null,"",null,null,null,null,null,null,"",null,null,"",null,null,null,null,null,null,{"$f":"IF($DH38=\"\",\"\",IF($U38=\"\",\"\",基礎控除!H7))","v":""},null,null,null,null,null,null,"",null,null,null,null,null,null,"",null,null,null,null,null,null,"",null,null,null,null,null,null,"",null,null,null,null,null,null,null,null,null,null,null,null,null,"",null,null,null,null,null,null,null,null,null,null,null,null,null,"",null,null,null,null,null,null,"",null,null,null,null,null,null,"",null,null,null,null,null,null,null,null,null,null,null,null,null,"",null,null,null,null,null,null,null,"",null,null,null,null,null,null,{"$f":"IF($DH38=\"\",\"\",IF(未就学児!F10=\"\",ROUNDDOWN(SUM($CM38)*SUM($DH38)/12,0),(ROUNDDOWN(SUM($CM38)*SUM($DH38)/12,0))*0.5))","v":""},null,null,null,null,null,null,null,null,null,null,null,null,null,{"$f":"IF(未就学児!$F10=1,\"←未就学児\",\"\")","v":""},null,null,null,null,null,null,null,null,null,"",null,null,"",null,null,"",null,null,"",null,null,"",null,null,"",null,null,"",null,null,"",null,null,"",null,null,"",null,null,"",null,null,"",null,null,"",null,null,null,"",null,null,null,null,null,null,null,null,null,null,null,null,null,null,null,null,null,null,null,null,null,null,null,null,null,null,"",null,null,"",null,null,"",null,null,"",null,null,"",null,null,"",null,null,"",null,null,"",null,null,"",null,null,"",null,null,"",null,null,""]
[null,6,null,"",null,null,null,null,null,null,"",null,null,null,null,null,null,"",null,null,"",null,null,null,null,null,null,{"$f":"IF($DH39=\"\",\"\",IF($U39=\"\",\"\",基礎控除!H8))","v":""},null,null,null,null,null,null,"",null,null,null,null,null,null,"",null,null,null,null,null,null,"",null,null,null,null,null,null,"",null,null,null,null,null,null,null,null,null,null,null,null,null,"",null,null,null,null,null,null,null,null,null,null,null,null,null,"",null,null,null,null,null,null,"",null,null,null,null,null,null,"",null,null,null,null,null,null,null,null,null,null,null,null,null,"",null,null,null,null,null,null,null,"",null,null,null,null,null,null,{"$f":"IF($DH39=\"\",\"\",IF(未就学児!F11=\"\",ROUNDDOWN(SUM($CM39)*SUM($DH39)/12,0),(ROUNDDOWN(SUM($CM39)*SUM($DH39)/12,0))*0.5))","v":""},null,null,null,null,null,null,null,null,null,null,null,null,null,{"$f":"IF(未就学児!$F11=1,\"←未就学児\",\"\")","v":""},null,null,null,null,null,null,null,null,null,"",null,null,"",null,null,"",null,null,"",null,null,"",null,null,"",null,null,"",null,null,"",null,null,"",null,null,"",null,null,"",null,null,"",null,null,"",null,null,null,"",null,null,null,null,null,null,null,null,null,null,null,null,null,null,null,null,null,null,null,null,null,null,null,null,null,null,"",null,null,"",null,null,"",null,null,"",null,null,"",null,null,"",null,null,"",null,null,"",null,null,"",null,null,"",null,null,"",null,null,""]
[null,7,null,"",null,null,null,null,null,null,"",null,null,null,null,null,null,"",null,null,"",null,null,null,null,null,null,{"$f":"IF($DH40=\"\",\"\",IF($U40=\"\",\"\",基礎控除!H9))","v":""},null,null,null,null,null,null,"",null,null,null,null,null,null,"",null,null,null,null,null,null,"",null,null,null,null,null,null,"",null,null,null,null,null,null,null,null,null,null,null,null,null,"",null,null,null,null,null,null,null,null,null,null,null,null,null,"",null,null,null,null,null,null,"",null,null,null,null,null,null,"",null,null,null,null,null,null,null,null,null,null,null,null,null,"",null,null,null,null,null,null,null,"",null,null,null,null,null,null,{"$f":"IF($DH40=\"\",\"\",IF(未就学児!F12=\"\",ROUNDDOWN(SUM($CM40)*SUM($DH40)/12,0),(ROUNDDOWN(SUM($CM40)*SUM($DH40)/12,0))*0.5))","v":""},null,null,null,null,null,null,null,null,null,null,null,null,null,{"$f":"IF(未就学児!$F12=1,\"←未就学児\",\"\")","v":""},null,null,null,null,null,null,null,null,null,"",null,null,"",null,null,"",null,null,"",null,null,"",null,null,"",null,null,"",null,null,"",null,null,"",null,null,"",null,null,"",null,null,"",null,null,"",null,null,null,"",null,null,null,null,null,null,null,null,null,null,null,null,null,null,null,null,null,null,null,null,null,null,null,null,null,null,"",null,null,"",null,null,"",null,null,"",null,null,"",null,null,"",null,null,"",null,null,"",null,null,"",null,null,"",null,null,"",null,null,""]
[null,8,null,"",null,null,null,null,null,null,"",null,null,null,null,null,null,"",null,null,"",null,null,null,null,null,null,{"$f":"IF($DH41=\"\",\"\",IF($U41=\"\",\"\",基礎控除!H10))","v":""},null,null,null,null,null,null,"",null,null,null,null,null,null,"",null,null,null,null,null,null,"",null,null,null,null,null,null,"",null,null,null,null,null,null,null,null,null,null,null,null,null,"",null,null,null,null,null,null,null,null,null,null,null,null,null,"",null,null,null,null,null,null,"",null,null,null,null,null,null,"",null,null,null,null,null,null,null,null,null,null,null,null,null,"",null,null,null,null,null,null,null,"",null,null,null,null,null,null,{"$f":"IF($DH41=\"\",\"\",IF(未就学児!F13=\"\",ROUNDDOWN(SUM($CM41)*SUM($DH41)/12,0),(ROUNDDOWN(SUM($CM41)*SUM($DH41)/12,0))*0.5))","v":""},null,null,null,null,null,null,null,null,null,null,null,null,null,{"$f":"IF(未就学児!$F13=1,\"←未就学児\",\"\")","v":""},null,null,null,null,null,null,null,null,null,"",null,null,"",null,null,"",null,null,"",null,null,"",null,null,"",null,null,"",null,null,"",null,null,"",null,null,"",null,null,"",null,null,"",null,null,"",null,null,null,"",null,null,null,null,null,null,null,null,null,null,null,null,null,null,null,null,null,null,null,null,null,null,null,null,null,null,"",null,null,"",null,null,"",null,null,"",null,null,"",null,null,"",null,null,"",null,null,"",null,null,"",null,null,"",null,null,"",null,null,""]
[null,9,null,"",null,null,null,null,null,null,"",null,null,null,null,null,null,"",null,null,"",null,null,null,null,null,null,{"$f":"IF($DH42=\"\",\"\",IF($U42=\"\",\"\",基礎控除!H11))","v":""},null,null,null,null,null,null,"",null,null,null,null,null,null,"",null,null,null,null,null,null,"",null,null,null,null,null,null,"",null,null,null,null,null,null,null,null,null,null,null,null,null,"",null,null,null,null,null,null,null,null,null,null,null,null,null,"",null,null,null,null,null,null,"",null,null,null,null,null,null,"",null,null,null,null,null,null,null,null,null,null,null,null,null,"",null,null,null,null,null,null,null,"",null,null,null,null,null,null,{"$f":"IF($DH42=\"\",\"\",IF(未就学児!F14=\"\",ROUNDDOWN(SUM($CM42)*SUM($DH42)/12,0),(ROUNDDOWN(SUM($CM42)*SUM($DH42)/12,0))*0.5))","v":""},null,null,null,null,null,null,null,null,null,null,null,null,null,{"$f":"IF(未就学児!$F14=1,\"←未就学児\",\"\")","v":""},null,null,null,null,null,null,null,null,null,"",null,null,"",null,null,"",null,null,"",null,null,"",null,null,"",null,null,"",null,null,"",null,null,"",null,null,"",null,null,"",null,null,"",null,null,"",null,null,null,"",null,null,null,null,null,null,null,null,null,null,null,null,null,null,null,null,null,null,null,null,null,null,null,null,null,null,"",null,null,"",null,null,"",null,null,"",null,null,"",null,null,"",null,null,"",null,null,"",null,null,"",null,null,"",null,null,"",null,null,""]
[null,10,null,"",null,null,null,null,null,null,"",null,null,null,null,null,null,"",null,null,"",null,null,null,null,null,null,{"$f":"IF($DH43=\"\",\"\",IF($U43=\"\",\"\",基礎控除!H12))","v":""},null,null,null,null,null,null,"",null,null,null,null,null,null,"",null,null,null,null,null,null,"",null,null,null,null,null,null,"",null,null,null,null,null,null,null,null,null,null,null,null,null,"",null,null,null,null,null,null,null,null,null,null,null,null,null,"",null,null,null,null,null,null,"",null,null,null,null,null,null,"",null,null,null,null,null,null,null,null,null,null,null,null,null,"",null,null,null,null,null,null,null,"",null,null,null,null,null,null,{"$f":"IF($DH43=\"\",\"\",IF(未就学児!F15=\"\",ROUNDDOWN(SUM($CM43)*SUM($DH43)/12,0),(ROUNDDOWN(SUM($CM43)*SUM($DH43)/12,0))*0.5))","v":""},null,null,null,null,null,null,null,null,null,null,null,null,null,{"$f":"IF(未就学児!$F15=1,\"←未就学児\",\"\")","v":""},null,null,null,null,null,null,null,null,null,"",null,null,"",null,null,"",null,null,"",null,null,"",null,null,"",null,null,"",null,null,"",null,null,"",null,null,"",null,null,"",null,null,"",null,null,"",null,null,null,"",null,null,null,null,null,null,null,null,null,null,null,null,null,null,null,null,null,null,null,null,null,null,null,null,null,null,"",null,null,"",null,null,"",null,null,"",null,null,"",null,null,"",null,null,"",null,null,"",null,null,"",null,null,"",null,null,"",null,null,""]
[null,null,null,"合計",null,null,null,null,null,null,null,null,null,null,null,null,null,null,null,null,{"$f":"SUM(U34:AA43)","v":0},null,null,null,null,null,null,"*********",null,null,null,null,null,null,{"$f":"SUM(AI34:AO43)","v":0},null,null,null,null,null,null,{"$f":"SUM(AP34:AV43)","v":0},null,null,null,null,null,null,{"$f":"SUM(AW34:BC43)","v":0},null,null,null,null,null,null,{"$f":"SUM(BD34:BJ43)","v":0},null,null,null,null,null,null,{"$f":"SUM(BK34:BQ43)","v":0},null,null,null,null,null,null,{"$f":"SUM(BR34:BX43)","v":0},null,null,null,null,null,null,{"$f":"SUM(BY34:CE43)","v":0},null,null,null,null,null,null,{"$f":"SUM(CF34:CL43)","v":0},null,null,null,null,null,null,{"$f":"SUM(CM34:CS43)","v":0},null,null,null,null,null,null,{"$f":"SUM(CT34:CZ43)","v":0},null,null,null,null,null,null,{"$f":"SUM(DA34:DG43)","v":0},null,null,null,null,null,null,null,null,null,null,null,null,null,null,{"$f":"SUM(DP34:DV43)","v":0},null,null,null,null,null,null,{"$f":"SUM(DW34:EC43)","v":0},null,null,null,null,null,null,{"$f":"SUM(ED34:EJ43)","v":0},null,null,null,null,null,null,null,null,null,null,null,null,null,null,null,null,{"$f":"SUMPRODUCT((EU34:EW43=\"○\")*1)","v":0},null,null,{"$f":"SUMPRODUCT((EX34:EZ43=\"○\")*1)","v":0},null,null,{"$f":"SUMPRODUCT((FA34:FC43=\"○\")*1)","v":0},null,null,{"$f":"SUMPRODUCT((FD34:FF43=\"○\")*1)","v":0},null,null,{"$f":"SUMPRODUCT((FG34:FI43=\"○\")*1)","v":0},null,null,{"$f":"SUMPRODUCT((FJ34:FL43=\"○\")*1)","v":0},null,null,{"$f":"SUMPRODUCT((FM34:FO43=\"○\")*1)","v":0},null,null,{"$f":"SUMPRODUCT((FP34:FR43=\"○\")*1)","v":0},null,null,{"$f":"SUMPRODUCT((FS34:FU43=\"○\")*1)","v":0},null,null,{"$f":"SUMPRODUCT((FV34:FX43=\"○\")*1)","v":0},null,null,{"$f":"SUMPRODUCT((FY34:GA43=\"○\")*1)","v":0},null,null,{"$f":"SUMPRODUCT((GB34:GD43=\"○\")*1)","v":0},null,null,"***"]
[null,null,null,null,null,null,null,null,null,null,null,null,null,null,null,null,null,null,null,null,null,null,null,null,null,null,null,null,null,null,null,null,null,null,null,null,null,null,null,null,null,null,null,null,null,null,null,null,null,null,null,null,null,null,null,null,null,null,null,null,null,null,{"$f":"IF(ROUNDDOWN(SUM(BD44:BQ44),-2)>SUM($U$29),SUM($U$29),ROUNDDOWN(SUM(BD44:BQ44),-2))","v":0},null,null,null,null,null,null,"※特例措置の軽減含む↑",null,null,null,null,null,null,null,null,null,null,null,null,null,null,null,null,null,null,null,null,null,null,null,null,null,null,null,null,null,null,null,null,null,"合計（Ａ＋Ｂ＋Ｃ）→",{"$f":"SUM(CT44:DG44)","v":0},null,null,null,null,null,null,null,null,null,null,null,null,null,null,null,null,null,null,null,null,null,null,null,null,null,null,null,"合計（Ａ＋Ｂ＋Ｃ）→",{"$f":"SUM(DP44:EJ44)","v":0},null,null,null,null,null,null,null,null,null,null,null,null,null,null,null,null,{"$f":"SUM(NZ23)","v":0},null,null,{"$f":"SUM(OC23)","v":0},null,null,{"$f":"SUM(OF23)","v":0},null,null,{"$f":"SUM(OI23)","v":0},null,null,{"$f":"SUM(OL23)","v":0},null,null,{"$f":"SUM(OO23)","v":0},null,null,{"$f":"SUM(OR23)","v":0},null,null,{"$f":"SUM(OU23)","v":0},null,null,{"$f":"SUM(OX23)","v":0},null,null,{"$f":"SUM(PA23)","v":0},null,null,{"$f":"SUM(PD23)","v":0},null,null,{"$f":"SUM(PG23)","v":0},null,null,{"$f":"IF(SUM(GE23)=1,\"\",SUM(EU45:GD45))","v":0}]
[null,null,null,null,null,null,null,null,null,null,null,null,null,null,null,null,null,null,null,null,null,null,null,null,null,null,null,null,null,null,null,null,null,null,null,null,null,null,null,null,null,null,null,null,null,null,null,null,null,null,null,null,null,null,null,null,null,null,null,null,null,null,null,null,null,null,null,null,null,null,null,null,null,null,null,null,null,null,null,null,null,null,null,null,null,null,null,null,null,null,null,null,null,null,null,null,null,null,null,null,null,null,null,"Ｄ　限度額以下（百円未満切捨て）→",{"$f":"IF(ROUNDDOWN(SUM(DA45),-2)>SUM($U$29),SUM($U$29),ROUNDDOWN(SUM(DA45),-2))","v":0},null,null,null,null,null,null,null,null,null,null,null,null,null,null,null,null,null,null,null,null,null,null,null,null,null,null,null,"Ｄ　限度額以下（百円未満切捨て）→",{"$f":"IF(ROUNDDOWN(SUM(ED45),-2)>SUM($U$29),SUM($U$29),ROUNDDOWN(SUM(ED45),-2))","v":0},null,null,null,null,null,null,null,null,null,null,null,null,null,null,null,null,{"$f":"IF(SUMPRODUCT((EU34:EW43=\"○\")*1)>0,1,\"\")","v":""},null,null,{"$f":"IF(SUMPRODUCT((EX34:EZ43=\"○\")*1)>0,1,\"\")","v":""},null,null,{"$f":"IF(SUMPRODUCT((FA34:FC43=\"○\")*1)>0,1,\"\")","v":""},null,null,{"$f":"IF(SUMPRODUCT((FD34:FF43=\"○\")*1)>0,1,\"\")","v":""},null,null,{"$f":"IF(SUMPRODUCT((FG34:FI43=\"○\")*1)>0,1,\"\")","v":""},null,null,{"$f":"IF(SUMPRODUCT((FJ34:FL43=\"○\")*1)>0,1,\"\")","v":""},null,null,{"$f":"IF(SUMPRODUCT((FM34:FO43=\"○\")*1)>0,1,\"\")","v":""},null,null,{"$f":"IF(SUMPRODUCT((FP34:FR43=\"○\")*1)>0,1,\"\")","v":""},null,null,{"$f":"IF(SUMPRODUCT((FS34:FU43=\"○\")*1)>0,1,\"\")","v":""},null,null,{"$f":"IF(SUMPRODUCT((FV34:FX43=\"○\")*1)>0,1,\"\")","v":""},null,null,{"$f":"IF(SUMPRODUCT((FY34:GA43=\"○\")*1)>0,1,\"\")","v":""},null,null,{"$f":"IF(SUMPRODUCT((GB34:GD43=\"○\")*1)>0,1,\"\")","v":""},null,null,{"$f":"SUM(EU46:GD46)","v":0}]
[null,null,null,null,null,null,null,null,null,null,null,null,null,null,null,null,null,null,null,null,null,null,null,null,null,null,null,null,null,null,null,null,null,null,null,null,null,null,null,null,null,null,null,null,null,null,null,null,null,null,null,null,null,null,null,null,null,null,null,null,null,null,null,null,null,null,null,null,null,null,null,null,null,null,null,null,null,null,null,null,null,null,null,null,null,null,null,null,null,null,null,null,null,null,null,null,null,null,null,null,null,null,null,"限度超過額→",{"$f":"IF(ROUNDDOWN(SUM(DA45),-2)>SUM(DA46),SUM(DA45)-SUM(DA46),0)","v":0},null,null,null,null,null,null,null,null,null,null,null,null,null,null,null,null,null,null,null,null,null,null,null,null,null,null,null,"限度超過額→",{"$f":"IF(ROUNDDOWN(SUM(ED45),-2)>SUM(ED46),SUM(ED45)-SUM(ED46),0)","v":0}]
[]
[null,"後期高齢者\n支援金分",null,null,null,null,null,null,null,null,"所得割",null,null,null,null,"率",null,null,null,null,3.02,null,null,null,null,null,{"$f":"\"（前年の総所得金額－基礎控除額）×\"&IF(U49=\"\",\"\",U49)&\"％\"","v":"（前年の総所得金額－基礎控除額）×3.02％"}]
[null,null,null,null,null,null,null,null,null,null,null,null,null,null,null,"控除額",null,null,null,null,"基礎控除"]
[null,null,null,null,null,null,null,null,null,null,"均等割",null,null,null,null,null,null,null,null,null,15600,null,null,null,null,null,"←１人当たり"]
[null,null,null,null,null,null,null,null,null,null,"限度額",null,null,null,null,null,null,null,null,null,260000]
[null,null,null,null,null,null,null,null,null,null,null,null,null,null,null,null,null,null,null,null,null,null,null,null,null,null,null,null,null,null,null,null,null,null,null,null,null,null,null,null,null,null,null,null,null,null,null,null,null,null,null,null,null,null,null,null,null,null,null,null,null,null,null,null,null,null,null,null,null,{"$f":"IF($AU$5=\"\",\"\",$AU$5)","v":""}]
[null,null,null,"該当者",null,null,null,null,null,null,null,null,null,null,null,null,null,null,null,null,"課税総所得金額",null,null,null,null,null,null,null,null,null,null,null,null,null,null,null,null,null,null,null,null,"算出額（全体）",null,null,null,null,null,null,null,null,null,null,null,null,null,null,null,null,null,null,null,null,null,null,null,null,null,null,null,"軽減額(2･5･7割額)",null,null,null,null,null,null,null,null,null,null,null,null,null,"軽減後(2･5･7割後)",null,null,null,null,null,null,null,null,null,null,null,null,null,null,null,null,null,null,null,null,null,null,null,null,null,null,null,"月数",null,null,null,null,null,null,null,"月割後"]
[null,null,null,"氏　名",null,null,null,null,null,null,"生年月日",null,null,null,null,null,null,"年齢",null,null,"①",null,null,null,null,null,null,"②",null,null,null,null,null,null,"③（①－②）",null,null,null,null,null,null,{"$f":"\"④(③×\"&DBCS(U49)&\"%)\"","v":"④(③×３．０２%)"},null,null,null,null,null,null,"⑤",null,null,null,null,null,null,"④＋⑤",null,null,null,null,null,null,null,null,null,null,null,null,null,"⑦",null,null,null,null,null,null,null,null,null,null,null,null,null,"Ａ＝④",null,null,null,null,null,null,"Ｂ＝⑤－⑦",null,null,null,null,null,null,"Ａ＋Ｂ",null,null,null,null,null,null,null,null,null,null,null,null,null,"該当\n月数",null,null,null,"世帯\n月数",null,null,null,"所得割",null,null,null,null,null,null,"均等割"]
[null,null,null,null,null,null,null,null,null,null,null,null,null,null,null,null,null,null,null,null,"総所得金額",null,null,null,null,null,null,"控除額",null,null,null,null,null,null,"課税所得",null,null,null,null,null,null,"所得割",null,null,null,null,null,null,"均等割",null,null,null,null,null,null,"合　計",null,null,null,null,null,null,null,null,null,null,null,null,null,"均等割",null,null,null,null,null,null,null,null,null,null,null,null,null,"所得割",null,null,null,null,null,null,"均等割",null,null,null,null,null,null,"合　計",null,null,null,null,null,null,null,null,null,null,null,null,null,null,null,null,null,null,null,null,null,null,null,null,null,null,null,null,null,null,null,null,null,null,null,null,null,null,null,null,null,null,null,null,null,null,null,null,null,null,null,null,4,null,null,5,null,null,6,null,null,7,null,null,8,null,null,9,null,null,10,null,null,11,null,null,12,null,null,1,null,null,2,null,null,3,null,null,"月数計",null,null,null,"備考"]
[null,1,null,{"$f":"IF($DH57=\"\",\"\",$D13)","v":""},null,null,null,null,null,null,{"$f":"IF($DH57=\"\",\"\",IF($K13=\"\",\"\",SUM($K13)))","v":""},null,null,null,null,null,null,{"$f":"IF($DH57=\"\",\"\",IF($R13=\"\",\"\",SUM($R13)))","v":""},null,null,{"$f":"IF($DH57=\"\",\"\",IF($DC13=\"\",\"\",SUM($DC13)))","v":""},null,null,null,null,null,null,{"$f":"IF($DH57=\"\",\"\",IF($U57=\"\",\"\",基礎控除!H3))","v":""},null,null,null,null,null,null,{"$f":"IF($DH57=\"\",\"\",IF($U57=\"\",\"\",IF(SUM($U57)>SUM($AB57),SUM($U57)-SUM($AB57),0)))","v":""},null,null,null,null,null,null,{"$f":"IF($DH57=\"\",\"\",ROUNDDOWN(SUM(AI57)*SUM($U$49)/100,0))","v":""},null,null,null,null,null,null,{"$f":"IF($DH57=\"\",\"\",SUM($U$51))","v":""},null,null,null,null,null,null,{"$f":"IF(SUM(AP57:BC57)=0,\"\",SUM(AP57:BC57))","v":""},null,null,null,null,null,null,null,null,null,null,null,null,null,{"$f":"IF($AU$5=\"\",\"\",IF($DH57=\"\",\"\",ROUNDDOWN(SUM($U$51)*SUM(IF($AU$5=\"２割軽減世帯\",2,IF($AU$5=\"５割軽減世帯\",5,IF($AU$5=\"７割軽減世帯\",7,\"\"))))/10,0)))","v":""},null,null,null,null,null,null,null,null,null,null,null,null,null,{"$f":"IF($DH57=\"\",\"\",SUM($AP57))","v":""},null,null,null,null,null,null,{"$f":"IF($DH57=\"\",\"\",SUM($AW57)-SUM($BR57))","v":""},null,null,null,null,null,null,{"$f":"IF(SUM(CF57:CS57)=0,\"\",SUM(CF57:CS57))","v":""},null,null,null,null,null,null,null,null,null,null,null,null,null,{"$f":"IF(GE57=\"\",\"\",SUM(GE57))","v":""},null,null,null,null,null,null,null,{"$f":"IF($DH57=\"\",\"\",ROUNDDOWN(SUM($CF57)*SUM($DH57)/12,0))","v":""},null,null,null,null,null,null,{"$f":"IF($DH57=\"\",\"\",IF(未就学児!F6=\"\",ROUNDDOWN(SUM($CM57)*SUM($DH57)/12,0),ROUNDDOWN(SUM($CM57)*SUM($DH57)/12,0)*0.5))","v":""},null,null,null,null,null,null,null,null,null,null,null,null,null,{"$f":"IF(未就学児!$F6=1,\"←未就学児\",\"\")","v":""},null,null,null,null,null,null,null,null,null,{"$f":"IF(NZ13=\"\",\"\",IF(NZ13<75,IF(HJ34=\"○\",\"○\",\"\"),\"\"))","v":""},null,null,{"$f":"IF(OC13=\"\",\"\",IF(OC13<75,IF(HM34=\"○\",\"○\",\"\"),\"\"))","v":""},null,null,{"$f":"IF(OF13=\"\",\"\",IF(OF13<75,IF(HP34=\"○\",\"○\",\"\"),\"\"))","v":""},null,null,{"$f":"IF(OI13=\"\",\"\",IF(OI13<75,IF(HS34=\"○\",\"○\",\"\"),\"\"))","v":""},null,null,{"$f":"IF(OL13=\"\",\"\",IF(OL13<75,IF(HV34=\"○\",\"○\",\"\"),\"\"))","v":""},null,null,{"$f":"IF(OO13=\"\",\"\",IF(OO13<75,IF(HY34=\"○\",\"○\",\"\"),\"\"))","v":""},null,null,{"$f":"IF(OR13=\"\",\"\",IF(OR13<75,IF(IB34=\"○\",\"○\",\"\"),\"\"))","v":""},null,null,{"$f":"IF(OU13=\"\",\"\",IF(OU13<75,IF(IE34=\"○\",\"○\",\"\"),\"\"))","v":""},null,null,{"$f":"IF(OX13=\"\",\"\",IF(OX13<75,IF(IH34=\"○\",\"○\",\"\"),\"\"))","v":""},null,null,{"$f":"IF(PA13=\"\",\"\",IF(PA13<75,IF(IK34=\"○\",\"○\",\"\"),\"\"))","v":""},null,null,{"$f":"IF(PD13=\"\",\"\",IF(PD13<75,IF(IN34=\"○\",\"○\",\"\"),\"\"))","v":""},null,null,{"$f":"IF(PG13=\"\",\"\",IF(PG13<75,IF(IQ34=\"○\",\"○\",\"\"),\"\"))","v":""},null,null,{"$f":"IF(COUNTIF(EU57:GD57,\"○\")=0,\"\",COUNTIF(EU57:GD57,\"○\"))","v":""},null,null,null,{"$f":"IF(SUM(PJ13)=12,\"国保に該当しない。\",IF(OR(SUM(GE13)=SUM(PN13),SUM(PJ13)=0),\"\",\"年度途中から後期高齢者医療制度移行あり。\"))","v":""}]
[null,2,null,"",null,null,null,null,null,null,"",null,null,null,null,null,null,"",null,null,"",null,null,null,null,null,null,{"$f":"IF($DH58=\"\",\"\",IF($U58=\"\",\"\",基礎控除!H4))","v":""},null,null,null,null,null,null,"",null,null,null,null,null,null,"",null,null,null,null,null,null,"",null,null,null,null,null,null,"",null,null,null,null,null,null,null,null,null,null,null,null,null,"",null,null,null,null,null,null,null,null,null,null,null,null,null,"",null,null,null,null,null,null,"",null,null,null,null,null,null,"",null,null,null,null,null,null,null,null,null,null,null,null,null,{"$f":"IF(GE58=\"\",\"\",SUM(GE58))","v":""},null,null,null,null,null,null,null,"",null,null,null,null,null,null,{"$f":"IF($DH58=\"\",\"\",IF(未就学児!F7=\"\",ROUNDDOWN(SUM($CM58)*SUM($DH58)/12,0),ROUNDDOWN(SUM($CM58)*SUM($DH58)/12,0)*0.5))","v":""},null,null,null,null,null,null,null,null,null,null,null,null,null,{"$f":"IF(未就学児!$F7=1,\"←未就学児\",\"\")","v":""},null,null,null,null,null,null,null,null,null,{"$f":"IF(NZ14=\"\",\"\",IF(NZ14<75,IF(HJ35=\"○\",\"○\",\"\"),\"\"))","v":""},null,null,{"$f":"IF(OC14=\"\",\"\",IF(OC14<75,IF(HM35=\"○\",\"○\",\"\"),\"\"))","v":""},null,null,{"$f":"IF(OF14=\"\",\"\",IF(OF14<75,IF(HP35=\"○\",\"○\",\"\"),\"\"))","v":""},null,null,{"$f":"IF(OI14=\"\",\"\",IF(OI14<75,IF(HS35=\"○\",\"○\",\"\"),\"\"))","v":""},null,null,{"$f":"IF(OL14=\"\",\"\",IF(OL14<75,IF(HV35=\"○\",\"○\",\"\"),\"\"))","v":""},null,null,{"$f":"IF(OO14=\"\",\"\",IF(OO14<75,IF(HY35=\"○\",\"○\",\"\"),\"\"))","v":""},null,null,{"$f":"IF(OR14=\"\",\"\",IF(OR14<75,IF(IB35=\"○\",\"○\",\"\"),\"\"))","v":""},null,null,{"$f":"IF(OU14=\"\",\"\",IF(OU14<75,IF(IE35=\"○\",\"○\",\"\"),\"\"))","v":""},null,null,{"$f":"IF(OX14=\"\",\"\",IF(OX14<75,IF(IH35=\"○\",\"○\",\"\"),\"\"))","v":""},null,null,{"$f":"IF(PA14=\"\",\"\",IF(PA14<75,IF(IK35=\"○\",\"○\",\"\"),\"\"))","v":""},null,null,{"$f":"IF(PD14=\"\",\"\",IF(PD14<75,IF(IN35=\"○\",\"○\",\"\"),\"\"))","v":""},null,null,{"$f":"IF(PG14=\"\",\"\",IF(PG14<75,IF(IQ35=\"○\",\"○\",\"\"),\"\"))","v":""},null,null,{"$f":"IF(COUNTIF(EU58:GD58,\"○\")=0,\"\",COUNTIF(EU58:GD58,\"○\"))","v":""},null,null,null,""]
[null,3,null,"",null,null,null,null,null,null,"",null,null,null,null,null,null,"",null,null,"",null,null,null,null,null,null,{"$f":"IF($DH59=\"\",\"\",IF($U59=\"\",\"\",基礎控除!H5))","v":""},null,null,null,null,null,null,"",null,null,null,null,null,null,"",null,null,null,null,null,null,"",null,null,null,null,null,null,"",null,null,null,null,null,null,null,null,null,null,null,null,null,"",null,null,null,null,null,null,null,null,null,null,null,null,null,"",null,null,null,null,null,null,"",null,null,null,null,null,null,"",null,null,null,null,null,null,null,null,null,null,null,null,null,{"$f":"IF(GE59=\"\",\"\",SUM(GE59))","v":""},null,null,null,null,null,null,null,"",null,null,null,null,null,null,{"$f":"IF($DH59=\"\",\"\",IF(未就学児!F8=\"\",ROUNDDOWN(SUM($CM59)*SUM($DH59)/12,0),ROUNDDOWN(SUM($CM59)*SUM($DH59)/12,0)*0.5))","v":""},null,null,null,null,null,null,null,null,null,null,null,null,null,{"$f":"IF(未就学児!$F8=1,\"←未就学児\",\"\")","v":""},null,null,null,null,null,null,null,null,null,{"$f":"IF(NZ15=\"\",\"\",IF(NZ15<75,IF(HJ36=\"○\",\"○\",\"\"),\"\"))","v":""},null,null,{"$f":"IF(OC15=\"\",\"\",IF(OC15<75,IF(HM36=\"○\",\"○\",\"\"),\"\"))","v":""},null,null,{"$f":"IF(OF15=\"\",\"\",IF(OF15<75,IF(HP36=\"○\",\"○\",\"\"),\"\"))","v":""},null,null,{"$f":"IF(OI15=\"\",\"\",IF(OI15<75,IF(HS36=\"○\",\"○\",\"\"),\"\"))","v":""},null,null,{"$f":"IF(OL15=\"\",\"\",IF(OL15<75,IF(HV36=\"○\",\"○\",\"\"),\"\"))","v":""},null,null,{"$f":"IF(OO15=\"\",\"\",IF(OO15<75,IF(HY36=\"○\",\"○\",\"\"),\"\"))","v":""},null,null,{"$f":"IF(OR15=\"\",\"\",IF(OR15<75,IF(IB36=\"○\",\"○\",\"\"),\"\"))","v":""},null,null,{"$f":"IF(OU15=\"\",\"\",IF(OU15<75,IF(IE36=\"○\",\"○\",\"\"),\"\"))","v":""},null,null,{"$f":"IF(OX15=\"\",\"\",IF(OX15<75,IF(IH36=\"○\",\"○\",\"\"),\"\"))","v":""},null,null,{"$f":"IF(PA15=\"\",\"\",IF(PA15<75,IF(IK36=\"○\",\"○\",\"\"),\"\"))","v":""},null,null,{"$f":"IF(PD15=\"\",\"\",IF(PD15<75,IF(IN36=\"○\",\"○\",\"\"),\"\"))","v":""},null,null,{"$f":"IF(PG15=\"\",\"\",IF(PG15<75,IF(IQ36=\"○\",\"○\",\"\"),\"\"))","v":""},null,null,{"$f":"IF(COUNTIF(EU59:GD59,\"○\")=0,\"\",COUNTIF(EU59:GD59,\"○\"))","v":""},null,null,null,""]
[null,4,null,"",null,null,null,null,null,null,"",null,null,null,null,null,null,"",null,null,"",null,null,null,null,null,null,{"$f":"IF($DH60=\"\",\"\",IF($U60=\"\",\"\",基礎控除!H6))","v":""},null,null,null,null,null,null,"",null,null,null,null,null,null,"",null,null,null,null,null,null,"",null,null,null,null,null,null,"",null,null,null,null,null,null,null,null,null,null,null,null,null,"",null,null,null,null,null,null,null,null,null,null,null,null,null,"",null,null,null,null,null,null,"",null,null,null,null,null,null,"",null,null,null,null,null,null,null,null,null,null,null,null,null,"",null,null,null,null,null,null,null,"",null,null,null,null,null,null,{"$f":"IF($DH60=\"\",\"\",IF(未就学児!F9=\"\",ROUNDDOWN(SUM($CM60)*SUM($DH60)/12,0),ROUNDDOWN(SUM($CM60)*SUM($DH60)/12,0)*0.5))","v":""},null,null,null,null,null,null,null,null,null,null,null,null,null,{"$f":"IF(未就学児!$F9=1,\"←未就学児\",\"\")","v":""},null,null,null,null,null,null,null,null,null,"",null,null,"",null,null,"",null,null,"",null,null,"",null,null,"",null,null,"",null,null,"",null,null,"",null,null,"",null,null,"",null,null,"",null,null,"",null,null,null,""]
[null,5,null,"",null,null,null,null,null,null,"",null,null,null,null,null,null,"",null,null,"",null,null,null,null,null,null,{"$f":"IF($DH61=\"\",\"\",IF($U61=\"\",\"\",基礎控除!H7))","v":""},null,null,null,null,null,null,"",null,null,null,null,null,null,"",null,null,null,null,null,null,"",null,null,null,null,null,null,"",null,null,null,null,null,null,null,null,null,null,null,null,null,"",null,null,null,null,null,null,null,null,null,null,null,null,null,"",null,null,null,null,null,null,"",null,null,null,null,null,null,"",null,null,null,null,null,null,null,null,null,null,null,null,null,"",null,null,null,null,null,null,null,"",null,null,null,null,null,null,{"$f":"IF($DH61=\"\",\"\",IF(未就学児!F10=\"\",ROUNDDOWN(SUM($CM61)*SUM($DH61)/12,0),ROUNDDOWN(SUM($CM61)*SUM($DH61)/12,0)*0.5))","v":""},null,null,null,null,null,null,null,null,null,null,null,null,null,{"$f":"IF(未就学児!$F10=1,\"←未就学児\",\"\")","v":""},null,null,null,null,null,null,null,null,null,"",null,null,"",null,null,"",null,null,"",null,null,"",null,null,"",null,null,"",null,null,"",null,null,"",null,null,"",null,null,"",null,null,"",null,null,"",null,null,null,""]
[null,6,null,"",null,null,null,null,null,null,"",null,null,null,null,null,null,"",null,null,"",null,null,null,null,null,null,{"$f":"IF($DH62=\"\",\"\",IF($U62=\"\",\"\",基礎控除!H8))","v":""},null,null,null,null,null,null,"",null,null,null,null,null,null,"",null,null,null,null,null,null,"",null,null,null,null,null,null,"",null,null,null,null,null,null,null,null,null,null,null,null,null,"",null,null,null,null,null,null,null,null,null,null,null,null,null,"",null,null,null,null,null,null,"",null,null,null,null,null,null,"",null,null,null,null,null,null,null,null,null,null,null,null,null,"",null,null,null,null,null,null,null,"",null,null,null,null,null,null,{"$f":"IF($DH62=\"\",\"\",IF(未就学児!F11=\"\",ROUNDDOWN(SUM($CM62)*SUM($DH62)/12,0),ROUNDDOWN(SUM($CM62)*SUM($DH62)/12,0)*0.5))","v":""},null,null,null,null,null,null,null,null,null,null,null,null,null,{"$f":"IF(未就学児!$F11=1,\"←未就学児\",\"\")","v":""},null,null,null,null,null,null,null,null,null,"",null,null,"",null,null,"",null,null,"",null,null,"",null,null,"",null,null,"",null,null,"",null,null,"",null,null,"",null,null,"",null,null,"",null,null,"",null,null,null,""]
[null,7,null,"",null,null,null,null,null,null,"",null,null,null,null,null,null,"",null,null,"",null,null,null,null,null,null,{"$f":"IF($DH63=\"\",\"\",IF($U63=\"\",\"\",基礎控除!H9))","v":""},null,null,null,null,null,null,"",null,null,null,null,null,null,"",null,null,null,null,null,null,"",null,null,null,null,null,null,"",null,null,null,null,null,null,null,null,null,null,null,null,null,"",null,null,null,null,null,null,null,null,null,null,null,null,null,"",null,null,null,null,null,null,"",null,null,null,null,null,null,"",null,null,null,null,null,null,null,null,null,null,null,null,null,"",null,null,null,null,null,null,null,"",null,null,null,null,null,null,{"$f":"IF($DH63=\"\",\"\",IF(未就学児!F12=\"\",ROUNDDOWN(SUM($CM63)*SUM($DH63)/12,0),ROUNDDOWN(SUM($CM63)*SUM($DH63)/12,0)*0.5))","v":""},null,null,null,null,null,null,null,null,null,null,null,null,null,{"$f":"IF(未就学児!$F12=1,\"←未就学児\",\"\")","v":""},null,null,null,null,null,null,null,null,null,"",null,null,"",null,null,"",null,null,"",null,null,"",null,null,"",null,null,"",null,null,"",null,null,"",null,null,"",null,null,"",null,null,"",null,null,"",null,null,null,""]
[null,8,null,"",null,null,null,null,null,null,"",null,null,null,null,null,null,"",null,null,"",null,null,null,null,null,null,{"$f":"IF($DH64=\"\",\"\",IF($U64=\"\",\"\",基礎控除!H10))","v":""},null,null,null,null,null,null,"",null,null,null,null,null,null,"",null,null,null,null,null,null,"",null,null,null,null,null,null,"",null,null,null,null,null,null,null,null,null,null,null,null,null,"",null,null,null,null,null,null,null,null,null,null,null,null,null,"",null,null,null,null,null,null,"",null,null,null,null,null,null,"",null,null,null,null,null,null,null,null,null,null,null,null,null,"",null,null,null,null,null,null,null,"",null,null,null,null,null,null,{"$f":"IF($DH64=\"\",\"\",IF(未就学児!F13=\"\",ROUNDDOWN(SUM($CM64)*SUM($DH64)/12,0),ROUNDDOWN(SUM($CM64)*SUM($DH64)/12,0)*0.5))","v":""},null,null,null,null,null,null,null,null,null,null,null,null,null,{"$f":"IF(未就学児!$F13=1,\"←未就学児\",\"\")","v":""},null,null,null,null,null,null,null,null,null,"",null,null,"",null,null,"",null,null,"",null,null,"",null,null,"",null,null,"",null,null,"",null,null,"",null,null,"",null,null,"",null,null,"",null,null,"",null,null,null,""]
[null,9,null,"",null,null,null,null,null,null,"",null,null,null,null,null,null,"",null,null,"",null,null,null,null,null,null,{"$f":"IF($DH65=\"\",\"\",IF($U65=\"\",\"\",基礎控除!H11))","v":""},null,null,null,null,null,null,"",null,null,null,null,null,null,"",null,null,null,null,null,null,"",null,null,null,null,null,null,"",null,null,null,null,null,null,null,null,null,null,null,null,null,"",null,null,null,null,null,null,null,null,null,null,null,null,null,"",null,null,null,null,null,null,"",null,null,null,null,null,null,"",null,null,null,null,null,null,null,null,null,null,null,null,null,"",null,null,null,null,null,null,null,"",null,null,null,null,null,null,{"$f":"IF($DH65=\"\",\"\",IF(未就学児!F14=\"\",ROUNDDOWN(SUM($CM65)*SUM($DH65)/12,0),ROUNDDOWN(SUM($CM65)*SUM($DH65)/12,0)*0.5))","v":""},null,null,null,null,null,null,null,null,null,null,null,null,null,{"$f":"IF(未就学児!$F14=1,\"←未就学児\",\"\")","v":""},null,null,null,null,null,null,null,null,null,"",null,null,"",null,null,"",null,null,"",null,null,"",null,null,"",null,null,"",null,null,"",null,null,"",null,null,"",null,null,"",null,null,"",null,null,"",null,null,null,""]
[null,10,null,"",null,null,null,null,null,null,"",null,null,null,null,null,null,"",null,null,"",null,null,null,null,null,null,{"$f":"IF($DH66=\"\",\"\",IF($U66=\"\",\"\",基礎控除!H12))","v":""},null,null,null,null,null,null,"",null,null,null,null,null,null,"",null,null,null,null,null,null,"",null,null,null,null,null,null,"",null,null,null,null,null,null,null,null,null,null,null,null,null,"",null,null,null,null,null,null,null,null,null,null,null,null,null,"",null,null,null,null,null,null,"",null,null,null,null,null,null,"",null,null,null,null,null,null,null,null,null,null,null,null,null,"",null,null,null,null,null,null,null,"",null,null,null,null,null,null,{"$f":"IF($DH66=\"\",\"\",IF(未就学児!F15=\"\",ROUNDDOWN(SUM($CM66)*SUM($DH66)/12,0),ROUNDDOWN(SUM($CM66)*SUM($DH66)/12,0)*0.5))","v":""},null,null,null,null,null,null,null,null,null,null,null,null,null,{"$f":"IF(未就学児!$F15=1,\"←未就学児\",\"\")","v":""},null,null,null,null,null,null,null,null,null,"",null,null,"",null,null,"",null,null,"",null,null,"",null,null,"",null,null,"",null,null,"",null,null,"",null,null,"",null,null,"",null,null,"",null,null,"",null,null,null,""]
[null,null,null,"合計",null,null,null,null,null,null,null,null,null,null,null,null,null,null,null,null,{"$f":"SUM(U57:AA66)","v":0},null,null,null,null,null,null,"*********",null,null,null,null,null,null,{"$f":"SUM(AI57:AO66)","v":0},null,null,null,null,null,null,{"$f":"SUM(AP57:AV66)","v":0},null,null,null,null,null,null,{"$f":"SUM(AW57:BC66)","v":0},null,null,null,null,null,null,{"$f":"SUM(BD57:BJ66)","v":0},null,null,null,null,null,null,null,null,null,null,null,null,null,{"$f":"SUM(BR57:BX66)","v":0},null,null,null,null,null,null,null,null,null,null,null,null,null,{"$f":"SUM(CF57:CL66)","v":0},null,null,null,null,null,null,{"$f":"SUM(CM57:CS66)","v":0},null,null,null,null,null,null,{"$f":"SUM(CT57:CZ66)","v":0},null,null,null,null,null,null,null,null,null,null,null,null,null,null,null,null,null,null,null,null,null,{"$f":"SUM(DP57:DV66)","v":0},null,null,null,null,null,null,{"$f":"SUM(DW57:EC66)","v":0},null,null,null,null,null,null,null,null,null,null,null,null,null,null,null,null,null,null,null,null,null,null,null,{"$f":"SUMPRODUCT((EU57:EU66=\"○\")*1)","v":0},null,null,{"$f":"SUMPRODUCT((EX57:EX66=\"○\")*1)","v":0},null,null,{"$f":"SUMPRODUCT((FA57:FA66=\"○\")*1)","v":0},null,null,{"$f":"SUMPRODUCT((FD57:FD66=\"○\")*1)","v":0},null,null,{"$f":"SUMPRODUCT((FG57:FG66=\"○\")*1)","v":0},null,null,{"$f":"SUMPRODUCT((FJ57:FJ66=\"○\")*1)","v":0},null,null,{"$f":"SUMPRODUCT((FM57:FM66=\"○\")*1)","v":0},null,null,{"$f":"SUMPRODUCT((FP57:FP66=\"○\")*1)","v":0},null,null,{"$f":"SUMPRODUCT((FS57:FS66=\"○\")*1)","v":0},null,null,{"$f":"SUMPRODUCT((FV57:FV66=\"○\")*1)","v":0},null,null,{"$f":"SUMPRODUCT((FY57:FY66=\"○\")*1)","v":0},null,null,{"$f":"SUMPRODUCT((GB57:GB66=\"○\")*1)","v":0},null,null,"***"]
[null,null,null,null,null,null,null,null,null,null,null,null,null,null,null,null,null,null,null,null,null,null,null,null,null,null,null,null,null,null,null,null,null,null,null,null,null,null,null,null,null,null,null,null,null,null,null,null,null,null,null,null,null,null,null,null,null,null,null,null,null,null,{"$f":"IF(ROUNDDOWN(SUM(BD67:BQ67),-2)>SUM($U$52),SUM($U$52),ROUNDDOWN(SUM(BD67:BQ67),-2))","v":0},null,null,null,null,null,null,null,null,null,null,null,null,null,null,null,null,null,null,null,null,null,null,null,null,null,null,null,null,null,null,null,null,null,null,null,null,null,null,null,null,"合計（Ａ＋Ｂ＋Ｃ）→",{"$f":"SUM(CT67:DG67)","v":0},null,null,null,null,null,null,null,null,null,null,null,null,null,null,null,null,null,null,null,null,null,null,null,null,null,null,null,"合計（Ａ＋Ｂ＋Ｃ）→",{"$f":"SUM(DP67:EJ67)","v":0}]
[null,null,null,null,null,null,null,null,null,null,null,null,null,null,null,null,null,null,null,null,null,null,null,null,null,null,null,null,null,null,null,null,null,null,null,null,null,null,null,null,null,null,null,null,null,null,null,null,null,null,null,null,null,null,null,null,null,null,null,null,null,null,null,null,null,null,null,null,null,null,null,null,null,null,null,null,null,null,null,null,null,null,null,null,null,null,null,null,null,null,null,null,null,null,null,null,null,null,null,null,null,null,null,"Ｄ　限度額以下（百円未満切捨て）→",{"$f":"IF(ROUNDDOWN(SUM(DA68),-2)>SUM($U$52),SUM($U$52),ROUNDDOWN(SUM(DA68),-2))","v":0},null,null,null,null,null,null,null,null,null,null,null,null,null,null,null,null,null,null,null,null,null,null,null,null,null,null,null,"Ｄ　限度額以下（百円未満切捨て）→",{"$f":"IF(ROUNDDOWN(SUM(ED68),-2)>SUM($U$52),SUM($U$52),ROUNDDOWN(SUM(ED68),-2))","v":0}]
[null,null,null,null,null,null,null,null,null,null,null,null,null,null,null,null,null,null,null,null,null,null,null,null,null,null,null,null,null,null,null,null,null,null,null,null,null,null,null,null,null,null,null,null,null,null,null,null,null,null,null,null,null,null,null,null,null,null,null,null,null,null,null,null,null,null,null,null,null,null,null,null,null,null,null,null,null,null,null,null,null,null,null,null,null,null,null,null,null,null,null,null,null,null,null,null,null,null,null,null,null,null,null,"限度超過額→",{"$f":"IF(ROUNDDOWN(SUM(DA68),-2)>SUM(DA69),SUM(DA68)-SUM(DA69),0)","v":0},null,null,null,null,null,null,null,null,null,null,null,null,null,null,null,null,null,null,null,null,null,null,null,null,null,null,null,"限度超過額→",{"$f":"IF(ROUNDDOWN(SUM(ED68),-2)>SUM(ED69),SUM(ED68)-SUM(ED69),0)","v":0}]
[]
[null,"介護保険分",null,null,null,null,null,null,null,null,"所得割",null,null,null,null,"率",null,null,null,null,2.57,null,null,null,null,null,{"$f":"\"（前年の総所得金額－基礎控除額）×\"&IF(U72=\"\",\"\",U72)&\"％\"","v":"（前年の総所得金額－基礎控除額）×2.57％"}]
[null,null,null,null,null,null,null,null,null,null,null,null,null,null,null,"控除額",null,null,null,null,"基礎控除"]
[null,null,null,null,null,null,null,null,null,null,"均等割",null,null,null,null,null,null,null,null,null,18000,null,null,null,null,null,"←１人当たり"]
[null,null,null,null,null,null,null,null,null,null,"限度額",null,null,null,null,null,null,null,null,null,170000]
[null,null,null,null,null,null,null,null,null,null,null,null,null,null,null,null,null,null,null,null,null,null,null,null,null,null,null,null,null,null,null,null,null,null,null,null,null,null,null,null,null,null,null,null,null,null,null,null,null,null,null,null,null,null,null,null,null,null,null,null,null,null,null,null,null,null,null,null,null,{"$f":"IF($AU$5=\"\",\"\",$AU$5)","v":""}]
[null,null,null,"該当者",null,null,null,null,null,null,null,null,null,null,null,null,null,null,null,null,"課税総所得金額",null,null,null,null,null,null,null,null,null,null,null,null,null,null,null,null,null,null,null,null,"算出額（全体）",null,null,null,null,null,null,null,null,null,null,null,null,null,null,null,null,null,null,null,null,null,null,null,null,null,null,null,"軽減額(2･5･7割額)",null,null,null,null,null,null,null,null,null,null,null,null,null,"軽減後(2･5･7割後)",null,null,null,null,null,null,null,null,null,null,null,null,null,null,null,null,null,null,null,null,null,null,null,null,null,null,null,"月数",null,null,null,null,null,null,null,"月割後"]
[null,null,null,"氏　名",null,null,null,null,null,null,"生年月日",null,null,null,null,null,null,"年齢",null,null,"①",null,null,null,null,null,null,"②",null,null,null,null,null,null,"③（①－②）",null,null,null,null,null,null,{"$f":"\"④(③×\"&DBCS(U72)&\"%)\"","v":"④(③×２．５７%)"},null,null,null,null,null,null,"⑤",null,null,null,null,null,null,"④＋⑤",null,null,null,null,null,null,null,null,null,null,null,null,null,"⑦",null,null,null,null,null,null,null,null,null,null,null,null,null,"Ａ＝④",null,null,null,null,null,null,"Ｂ＝⑤－⑦",null,null,null,null,null,null,"Ａ＋Ｂ",null,null,null,null,null,null,null,null,null,null,null,null,null,"該当\n月数",null,null,null,"世帯\n月数",null,null,null,"所得割",null,null,null,null,null,null,"均等割"]
[null,null,null,null,null,null,null,null,null,null,null,null,null,null,null,null,null,null,null,null,"総所得金額",null,null,null,null,null,null,"控除額",null,null,null,null,null,null,"課税所得",null,null,null,null,null,null,"所得割",null,null,null,null,null,null,"均等割",null,null,null,null,null,null,"合　計",null,null,null,null,null,null,null,null,null,null,null,null,null,"均等割",null,null,null,null,null,null,null,null,null,null,null,null,null,"所得割",null,null,null,null,null,null,"均等割",null,null,null,null,null,null,"合　計",null,null,null,null,null,null,null,null,null,null,null,null,null,null,null,null,null,null,null,null,null,null,null,null,null,null,null,null,null,null,null,null,null,null,null,null,null,null,null,null,null,null,null,null,null,null,null,null,null,null,null,null,4,null,null,5,null,null,6,null,null,7,null,null,8,null,null,9,null,null,10,null,null,11,null,null,12,null,null,1,null,null,2,null,null,3,null,null,"月数計",null,null,null,"備考"]
[null,1,null,{"$f":"IF($DH80=\"\",\"\",$D13)","v":""},null,null,null,null,null,null,{"$f":"IF($DH80=\"\",\"\",IF($K13=\"\",\"\",SUM($K13)))","v":""},null,null,null,null,null,null,{"$f":"IF($DH80=\"\",\"\",IF($R13=\"\",\"\",SUM($R13)))","v":""},null,null,{"$f":"IF($DH80=\"\",\"\",IF($DC13=\"\",\"\",SUM($DC13)))","v":""},null,null,null,null,null,null,{"$f":"IF($DH80=\"\",\"\",IF($U80=\"\",\"\",基礎控除!H3))","v":""},null,null,null,null,null,null,{"$f":"IF($DH80=\"\",\"\",IF($U80=\"\",\"\",IF(SUM($U80)>SUM($AB80),SUM($U80)-SUM($AB80),0)))","v":""},null,null,null,null,null,null,{"$f":"IF($DH80=\"\",\"\",ROUNDDOWN(SUM(AI80)*SUM($U$72)/100,0))","v":""},null,null,null,null,null,null,{"$f":"IF($DH80=\"\",\"\",SUM($U$74))","v":""},null,null,null,null,null,null,{"$f":"IF(SUM(AP80:BC80)=0,\"\",SUM(AP80:BC80))","v":""},null,null,null,null,null,null,null,null,null,null,null,null,null,{"$f":"IF($AU$5=\"\",\"\",IF($DH80=\"\",\"\",ROUNDDOWN(SUM($U$74)*SUM(IF($AU$5=\"２割軽減世帯\",2,IF($AU$5=\"５割軽減世帯\",5,IF($AU$5=\"７割軽減世帯\",7,\"\"))))/10,0)))","v":""},null,null,null,null,null,null,null,null,null,null,null,null,null,{"$f":"IF($DH80=\"\",\"\",SUM($AP80))","v":""},null,null,null,null,null,null,{"$f":"IF($DH80=\"\",\"\",SUM($AW80)-SUM($BR80))","v":""},null,null,null,null,null,null,{"$f":"IF(SUM(CF80:CS80)=0,\"\",SUM(CF80:CS80))","v":""},null,null,null,null,null,null,null,null,null,null,null,null,null,{"$f":"IF(GE80=\"\",\"\",SUM(GE80))","v":""},null,null,null,null,null,null,null,{"$f":"IF($DH80=\"\",\"\",ROUNDDOWN(SUM($CF80)*SUM($DH80)/12,0))","v":""},null,null,null,null,null,null,{"$f":"IF($DH80=\"\",\"\",ROUNDDOWN(SUM($CM80)*SUM($DH80)/12,0))","v":""},null,null,null,null,null,null,null,null,null,null,null,null,null,null,null,null,null,null,null,null,null,null,null,{"$f":"IF(MC13=\"\",\"\",IF(AND(MC13>=40,MC13<65),IF(HJ34=\"○\",\"○\",\"\"),\"\"))","v":""},null,null,{"$f":"IF(MF13=\"\",\"\",IF(AND(MF13>=40,MF13<65),IF(HM34=\"○\",\"○\",\"\"),\"\"))","v":""},null,null,{"$f":"IF(MI13=\"\",\"\",IF(AND(MI13>=40,MI13<65),IF(HP34=\"○\",\"○\",\"\"),\"\"))","v":""},null,null,{"$f":"IF(ML13=\"\",\"\",IF(AND(ML13>=40,ML13<65),IF(HS34=\"○\",\"○\",\"\"),\"\"))","v":""},null,null,{"$f":"IF(MO13=\"\",\"\",IF(AND(MO13>=40,MO13<65),IF(HV34=\"○\",\"○\",\"\"),\"\"))","v":""},null,null,{"$f":"IF(MR13=\"\",\"\",IF(AND(MR13>=40,MR13<65),IF(HY34=\"○\",\"○\",\"\"),\"\"))","v":""},null,null,{"$f":"IF(MU13=\"\",\"\",IF(AND(MU13>=40,MU13<65),IF(IB34=\"○\",\"○\",\"\"),\"\"))","v":""},null,null,{"$f":"IF(MX13=\"\",\"\",IF(AND(MX13>=40,MX13<65),IF(IE34=\"○\",\"○\",\"\"),\"\"))","v":""},null,null,{"$f":"IF(NA13=\"\",\"\",IF(AND(NA13>=40,NA13<65),IF(IH34=\"○\",\"○\",\"\"),\"\"))","v":""},null,null,{"$f":"IF(ND13=\"\",\"\",IF(AND(ND13>=40,ND13<65),IF(IK34=\"○\",\"○\",\"\"),\"\"))","v":""},null,null,{"$f":"IF(NG13=\"\",\"\",IF(AND(NG13>=40,NG13<65),IF(IN34=\"○\",\"○\",\"\"),\"\"))","v":""},null,null,{"$f":"IF(NJ13=\"\",\"\",IF(AND(NJ13>=40,NJ13<65),IF(IQ34=\"○\",\"○\",\"\"),\"\"))","v":""},null,null,{"$f":"IF(COUNTIF(EU80:GD80,\"○\")=0,\"\",COUNTIF(EU80:GD80,\"○\"))","v":""},null,null,null,{"$f":"IF(AND(SUM(GE13)<>0,SUM(GE80)=0),\"介護該当なし。\",IF(AND(COUNTIF(MC13:NL13,\">=40\")>0,COUNTIF(MC13:NL13,\">=40\")<12),\"年度途中から介護保険料該当。\",IF(SUM(GE13)=SUM(GE80),\"\",\"年度途中から介護保険料は別に納める。\")))","v":""}]
[null,2,null,"",null,null,null,null,null,null,"",null,null,null,null,null,null,"",null,null,"",null,null,null,null,null,null,{"$f":"IF($DH81=\"\",\"\",IF($U81=\"\",\"\",基礎控除!H4))","v":""},null,null,null,null,null,null,"",null,null,null,null,null,null,"",null,null,null,null,null,null,"",null,null,null,null,null,null,"",null,null,null,null,null,null,null,null,null,null,null,null,null,"",null,null,null,null,null,null,null,null,null,null,null,null,null,"",null,null,null,null,null,null,"",null,null,null,null,null,null,"",null,null,null,null,null,null,null,null,null,null,null,null,null,{"$f":"IF(GE81=\"\",\"\",SUM(GE81))","v":""},null,null,null,null,null,null,null,"",null,null,null,null,null,null,"",null,null,null,null,null,null,null,null,null,null,null,null,null,null,null,null,null,null,null,null,null,null,null,{"$f":"IF(MC14=\"\",\"\",IF(AND(MC14>=40,MC14<65),IF(HJ35=\"○\",\"○\",\"\"),\"\"))","v":""},null,null,{"$f":"IF(MF14=\"\",\"\",IF(AND(MF14>=40,MF14<65),IF(HM35=\"○\",\"○\",\"\"),\"\"))","v":""},null,null,{"$f":"IF(MI14=\"\",\"\",IF(AND(MI14>=40,MI14<65),IF(HP35=\"○\",\"○\",\"\"),\"\"))","v":""},null,null,{"$f":"IF(ML14=\"\",\"\",IF(AND(ML14>=40,ML14<65),IF(HS35=\"○\",\"○\",\"\"),\"\"))","v":""},null,null,{"$f":"IF(MO14=\"\",\"\",IF(AND(MO14>=40,MO14<65),IF(HV35=\"○\",\"○\",\"\"),\"\"))","v":""},null,null,{"$f":"IF(MR14=\"\",\"\",IF(AND(MR14>=40,MR14<65),IF(HY35=\"○\",\"○\",\"\"),\"\"))","v":""},null,null,{"$f":"IF(MU14=\"\",\"\",IF(AND(MU14>=40,MU14<65),IF(IB35=\"○\",\"○\",\"\"),\"\"))","v":""},null,null,{"$f":"IF(MX14=\"\",\"\",IF(AND(MX14>=40,MX14<65),IF(IE35=\"○\",\"○\",\"\"),\"\"))","v":""},null,null,{"$f":"IF(NA14=\"\",\"\",IF(AND(NA14>=40,NA14<65),IF(IH35=\"○\",\"○\",\"\"),\"\"))","v":""},null,null,{"$f":"IF(ND14=\"\",\"\",IF(AND(ND14>=40,ND14<65),IF(IK35=\"○\",\"○\",\"\"),\"\"))","v":""},null,null,{"$f":"IF(NG14=\"\",\"\",IF(AND(NG14>=40,NG14<65),IF(IN35=\"○\",\"○\",\"\"),\"\"))","v":""},null,null,{"$f":"IF(NJ14=\"\",\"\",IF(AND(NJ14>=40,NJ14<65),IF(IQ35=\"○\",\"○\",\"\"),\"\"))","v":""},null,null,{"$f":"IF(COUNTIF(EU81:GD81,\"○\")=0,\"\",COUNTIF(EU81:GD81,\"○\"))","v":""},null,null,null,""]
[null,3,null,"",null,null,null,null,null,null,"",null,null,null,null,null,null,"",null,null,"",null,null,null,null,null,null,{"$f":"IF($DH82=\"\",\"\",IF($U82=\"\",\"\",基礎控除!H5))","v":""},null,null,null,null,null,null,"",null,null,null,null,null,null,"",null,null,null,null,null,null,"",null,null,null,null,null,null,"",null,null,null,null,null,null,null,null,null,null,null,null,null,"",null,null,null,null,null,null,null,null,null,null,null,null,null,"",null,null,null,null,null,null,"",null,null,null,null,null,null,"",null,null,null,null,null,null,null,null,null,null,null,null,null,{"$f":"IF(GE82=\"\",\"\",SUM(GE82))","v":""},null,null,null,null,null,null,null,"",null,null,null,null,null,null,"",null,null,null,null,null,null,null,null,null,null,null,null,null,null,null,null,null,null,null,null,null,null,null,{"$f":"IF(MC15=\"\",\"\",IF(AND(MC15>=40,MC15<65),IF(HJ36=\"○\",\"○\",\"\"),\"\"))","v":""},null,null,{"$f":"IF(MF15=\"\",\"\",IF(AND(MF15>=40,MF15<65),IF(HM36=\"○\",\"○\",\"\"),\"\"))","v":""},null,null,{"$f":"IF(MI15=\"\",\"\",IF(AND(MI15>=40,MI15<65),IF(HP36=\"○\",\"○\",\"\"),\"\"))","v":""},null,null,{"$f":"IF(ML15=\"\",\"\",IF(AND(ML15>=40,ML15<65),IF(HS36=\"○\",\"○\",\"\"),\"\"))","v":""},null,null,{"$f":"IF(MO15=\"\",\"\",IF(AND(MO15>=40,MO15<65),IF(HV36=\"○\",\"○\",\"\"),\"\"))","v":""},null,null,{"$f":"IF(MR15=\"\",\"\",IF(AND(MR15>=40,MR15<65),IF(HY36=\"○\",\"○\",\"\"),\"\"))","v":""},null,null,{"$f":"IF(MU15=\"\",\"\",IF(AND(MU15>=40,MU15<65),IF(IB36=\"○\",\"○\",\"\"),\"\"))","v":""},null,null,{"$f":"IF(MX15=\"\",\"\",IF(AND(MX15>=40,MX15<65),IF(IE36=\"○\",\"○\",\"\"),\"\"))","v":""},null,null,{"$f":"IF(NA15=\"\",\"\",IF(AND(NA15>=40,NA15<65),IF(IH36=\"○\",\"○\",\"\"),\"\"))","v":""},null,null,{"$f":"IF(ND15=\"\",\"\",IF(AND(ND15>=40,ND15<65),IF(IK36=\"○\",\"○\",\"\"),\"\"))","v":""},null,null,{"$f":"IF(NG15=\"\",\"\",IF(AND(NG15>=40,NG15<65),IF(IN36=\"○\",\"○\",\"\"),\"\"))","v":""},null,null,{"$f":"IF(NJ15=\"\",\"\",IF(AND(NJ15>=40,NJ15<65),IF(IQ36=\"○\",\"○\",\"\"),\"\"))","v":""},null,null,{"$f":"IF(COUNTIF(EU82:GD82,\"○\")=0,\"\",COUNTIF(EU82:GD82,\"○\"))","v":""},null,null,null,""]
[null,4,null,"",null,null,null,null,null,null,"",null,null,null,null,null,null,"",null,null,"",null,null,null,null,null,null,{"$f":"IF($DH83=\"\",\"\",IF($U83=\"\",\"\",基礎控除!H6))","v":""},null,null,null,null,null,null,"",null,null,null,null,null,null,"",null,null,null,null,null,null,"",null,null,null,null,null,null,"",null,null,null,null,null,null,null,null,null,null,null,null,null,"",null,null,null,null,null,null,null,null,null,null,null,null,null,"",null,null,null,null,null,null,"",null,null,null,null,null,null,"",null,null,null,null,null,null,null,null,null,null,null,null,null,"",null,null,null,null,null,null,null,"",null,null,null,null,null,null,"",null,null,null,null,null,null,null,null,null,null,null,null,null,null,null,null,null,null,null,null,null,null,null,"",null,null,"",null,null,"",null,null,"",null,null,"",null,null,"",null,null,"",null,null,"",null,null,"",null,null,"",null,null,"",null,null,"",null,null,"",null,null,null,""]
[null,5,null,"",null,null,null,null,null,null,"",null,null,null,null,null,null,"",null,null,"",null,null,null,null,null,null,{"$f":"IF($DH84=\"\",\"\",IF($U84=\"\",\"\",基礎控除!H7))","v":""},null,null,null,null,null,null,"",null,null,null,null,null,null,"",null,null,null,null,null,null,"",null,null,null,null,null,null,"",null,null,null,null,null,null,null,null,null,null,null,null,null,"",null,null,null,null,null,null,null,null,null,null,null,null,null,"",null,null,null,null,null,null,"",null,null,null,null,null,null,"",null,null,null,null,null,null,null,null,null,null,null,null,null,"",null,null,null,null,null,null,null,"",null,null,null,null,null,null,"",null,null,null,null,null,null,null,null,null,null,null,null,null,null,null,null,null,null,null,null,null,null,null,"",null,null,"",null,null,"",null,null,"",null,null,"",null,null,"",null,null,"",null,null,"",null,null,"",null,null,"",null,null,"",null,null,"",null,null,"",null,null,null,""]
[null,6,null,"",null,null,null,null,null,null,"",null,null,null,null,null,null,"",null,null,"",null,null,null,null,null,null,{"$f":"IF($DH85=\"\",\"\",IF($U85=\"\",\"\",基礎控除!H8))","v":""},null,null,null,null,null,null,"",null,null,null,null,null,null,"",null,null,null,null,null,null,"",null,null,null,null,null,null,"",null,null,null,null,null,null,null,null,null,null,null,null,null,"",null,null,null,null,null,null,null,null,null,null,null,null,null,"",null,null,null,null,null,null,"",null,null,null,null,null,null,"",null,null,null,null,null,null,null,null,null,null,null,null,null,"",null,null,null,null,null,null,null,"",null,null,null,null,null,null,"",null,null,null,null,null,null,null,null,null,null,null,null,null,null,null,null,null,null,null,null,null,null,null,"",null,null,"",null,null,"",null,null,"",null,null,"",null,null,"",null,null,"",null,null,"",null,null,"",null,null,"",null,null,"",null,null,"",null,null,"",null,null,null,""]
[null,7,null,"",null,null,null,null,null,null,"",null,null,null,null,null,null,"",null,null,"",null,null,null,null,null,null,{"$f":"IF($DH86=\"\",\"\",IF($U86=\"\",\"\",基礎控除!H9))","v":""},null,null,null,null,null,null,"",null,null,null,null,null,null,"",null,null,null,null,null,null,"",null,null,null,null,null,null,"",null,null,null,null,null,null,null,null,null,null,null,null,null,"",null,null,null,null,null,null,null,null,null,null,null,null,null,"",null,null,null,null,null,null,"",null,null,null,null,null,null,"",null,null,null,null,null,null,null,null,null,null,null,null,null,"",null,null,null,null,null,null,null,"",null,null,null,null,null,null,"",null,null,null,null,null,null,null,null,null,null,null,null,null,null,null,null,null,null,null,null,null,null,null,"",null,null,"",null,null,"",null,null,"",null,null,"",null,null,"",null,null,"",null,null,"",null,null,"",null,null,"",null,null,"",null,null,"",null,null,"",null,null,null,""]
[null,8,null,"",null,null,null,null,null,null,"",null,null,null,null,null,null,"",null,null,"",null,null,null,null,null,null,{"$f":"IF($DH87=\"\",\"\",IF($U87=\"\",\"\",基礎控除!H10))","v":""},null,null,null,null,null,null,"",null,null,null,null,null,null,"",null,null,null,null,null,null,"",null,null,null,null,null,null,"",null,null,null,null,null,null,null,null,null,null,null,null,null,"",null,null,null,null,null,null,null,null,null,null,null,null,null,"",null,null,null,null,null,null,"",null,null,null,null,null,null,"",null,null,null,null,null,null,null,null,null,null,null,null,null,"",null,null,null,null,null,null,null,"",null,null,null,null,null,null,"",null,null,null,null,null,null,null,null,null,null,null,null,null,null,null,null,null,null,null,null,null,null,null,"",null,null,"",null,null,"",null,null,"",null,null,"",null,null,"",null,null,"",null,null,"",null,null,"",null,null,"",null,null,"",null,null,"",null,null,"",null,null,null,""]
[null,9,null,"",null,null,null,null,null,null,"",null,null,null,null,null,null,"",null,null,"",null,null,null,null,null,null,{"$f":"IF($DH88=\"\",\"\",IF($U88=\"\",\"\",基礎控除!H11))","v":""},null,null,null,null,null,null,"",null,null,null,null,null,null,"",null,null,null,null,null,null,"",null,null,null,null,null,null,"",null,null,null,null,null,null,null,null,null,null,null,null,null,"",null,null,null,null,null,null,null,null,null,null,null,null,null,"",null,null,null,null,null,null,"",null,null,null,null,null,null,"",null,null,null,null,null,null,null,null,null,null,null,null,null,"",null,null,null,null,null,null,null,"",null,null,null,null,null,null,"",null,null,null,null,null,null,null,null,null,null,null,null,null,null,null,null,null,null,null,null,null,null,null,"",null,null,"",null,null,"",null,null,"",null,null,"",null,null,"",null,null,"",null,null,"",null,null,"",null,null,"",null,null,"",null,null,"",null,null,"",null,null,null,""]
[null,10,null,"",null,null,null,null,null,null,"",null,null,null,null,null,null,"",null,null,"",null,null,null,null,null,null,{"$f":"IF($DH89=\"\",\"\",IF($U89=\"\",\"\",基礎控除!H12))","v":""},null,null,null,null,null,null,"",null,null,null,null,null,null,"",null,null,null,null,null,null,"",null,null,null,null,null,null,"",null,null,null,null,null,null,null,null,null,null,null,null,null,"",null,null,null,null,null,null,null,null,null,null,null,null,null,"",null,null,null,null,null,null,"",null,null,null,null,null,null,"",null,null,null,null,null,null,null,null,null,null,null,null,null,"",null,null,null,null,null,null,null,"",null,null,null,null,null,null,"",null,null,null,null,null,null,null,null,null,null,null,null,null,null,null,null,null,null,null,null,null,null,null,"",null,null,"",null,null,"",null,null,"",null,null,"",null,null,"",null,null,"",null,null,"",null,null,"",null,null,"",null,null,"",null,null,"",null,null,"",null,null,null,""]
[null,null,null,"合計",null,null,null,null,null,null,null,null,null,null,null,null,null,null,null,null,{"$f":"SUM(U80:AA89)","v":0},null,null,null,null,null,null,"*********",null,null,null,null,null,null,{"$f":"SUM(AI80:AO89)","v":0},null,null,null,null,null,null,{"$f":"SUM(AP80:AV89)","v":0},null,null,null,null,null,null,{"$f":"SUM(AW80:BC89)","v":0},null,null,null,null,null,null,{"$f":"SUM(BD80:BJ89)","v":0},null,null,null,null,null,null,null,null,null,null,null,null,null,{"$f":"SUM(BR80:BX89)","v":0},null,null,null,null,null,null,null,null,null,null,null,null,null,{"$f":"SUM(CF80:CL89)","v":0},null,null,null,null,null,null,{"$f":"SUM(CM80:CS89)","v":0},null,null,null,null,null,null,{"$f":"SUM(CT80:CZ89)","v":0},null,null,null,null,null,null,null,null,null,null,null,null,null,null,null,null,null,null,null,null,null,{"$f":"SUM(DP80:DV89)","v":0},null,null,null,null,null,null,{"$f":"SUM(DW80:EC89)","v":0},null,null,null,null,null,null,null,null,null,null,null,null,null,null,null,null,null,null,null,null,null,null,null,{"$f":"SUMPRODUCT((EU80:EU89=\"○\")*1)","v":0},null,null,{"$f":"SUMPRODUCT((EX80:EX89=\"○\")*1)","v":0},null,null,{"$f":"SUMPRODUCT((FA80:FA89=\"○\")*1)","v":0},null,null,{"$f":"SUMPRODUCT((FD80:FD89=\"○\")*1)","v":0},null,null,{"$f":"SUMPRODUCT((FG80:FG89=\"○\")*1)","v":0},null,null,{"$f":"SUMPRODUCT((FJ80:FJ89=\"○\")*1)","v":0},null,null,{"$f":"SUMPRODUCT((FM80:FM89=\"○\")*1)","v":0},null,null,{"$f":"SUMPRODUCT((FP80:FP89=\"○\")*1)","v":0},null,null,{"$f":"SUMPRODUCT((FS80:FS89=\"○\")*1)","v":0},null,null,{"$f":"SUMPRODUCT((FV80:FV89=\"○\")*1)","v":0},null,null,{"$f":"SUMPRODUCT((FY80:FY89=\"○\")*1)","v":0},null,null,{"$f":"SUMPRODUCT((GB80:GB89=\"○\")*1)","v":0},null,null,"***"]
[null,null,null,null,null,null,null,null,null,null,null,null,null,null,null,null,null,null,null,null,null,null,null,null,null,null,null,null,null,null,null,null,null,null,null,null,null,null,null,null,null,null,null,null,null,null,null,null,null,null,null,null,null,null,null,null,null,null,null,null,null,null,{"$f":"IF(ROUNDDOWN(SUM(BD90:BQ90),-2)>SUM($U$75),SUM($U$75),ROUNDDOWN(SUM(BD90:BQ90),-2))","v":0},null,null,null,null,null,null,null,null,null,null,null,null,null,null,null,null,null,null,null,null,null,null,null,null,null,null,null,null,null,null,null,null,null,null,null,null,null,null,null,null,"合計（Ａ＋Ｂ＋Ｃ）→",{"$f":"SUM(CT90:DG90)","v":0},null,null,null,null,null,null,null,null,null,null,null,null,null,null,null,null,null,null,null,null,null,null,null,null,null,null,null,"合計（Ａ＋Ｂ＋Ｃ）→",{"$f":"SUM(DP90:EJ90)","v":0}]
[null,null,null,null,null,null,null,null,null,null,null,null,null,null,null,null,null,null,null,null,null,null,null,null,null,null,null,null,null,null,null,null,null,null,null,null,null,null,null,null,null,null,null,null,null,null,null,null,null,null,null,null,null,null,null,null,null,null,null,null,null,null,null,null,null,null,null,null,null,null,null,null,null,null,null,null,null,null,null,null,null,null,null,null,null,null,null,null,null,null,null,null,null,null,null,null,null,null,null,null,null,null,null,"Ｄ　限度額以下（百円未満切捨て）→",{"$f":"IF(ROUNDDOWN(SUM(DA91),-2)>SUM($U$75),SUM($U$75),ROUNDDOWN(SUM(DA91),-2))","v":0},null,null,null,null,null,null,null,null,null,null,null,null,null,null,null,null,null,null,null,null,null,null,null,null,null,null,null,"Ｄ　限度額以下（百円未満切捨て）→",{"$f":"IF(ROUNDDOWN(SUM(ED91),-2)>SUM($U$75),SUM($U$75),ROUNDDOWN(SUM(ED91),-2))","v":0}]
[null,null,null,null,null,null,null,null,null,null,null,null,null,null,null,null,null,null,null,null,null,null,null,null,null,null,null,null,null,null,null,null,null,null,null,null,null,null,null,null,null,null,null,null,null,null,null,null,null,null,null,null,null,null,null,null,null,null,null,null,null,null,null,null,null,null,null,null,null,null,null,null,null,null,null,null,null,null,null,null,null,null,null,null,null,null,null,null,null,null,null,null,null,null,null,null,null,null,null,null,null,null,null,"限度超過額→",{"$f":"IF(ROUNDDOWN(SUM(DA91),-2)>SUM(DA92),SUM(DA91)-SUM(DA92),0)","v":0},null,null,null,null,null,null,null,null,null,null,null,null,null,null,null,null,null,null,null,null,null,null,null,null,null,null,null,"限度超過額→",{"$f":"IF(ROUNDDOWN(SUM(ED91),-2)>SUM(ED92),SUM(ED91)-SUM(ED92),0)","v":0}]
[]
[null,"子ども子育て\n支援納付金分",null,null,null,null,null,null,null,null,"所得割",null,null,null,null,"率",null,null,null,null,0.31,null,null,null,null,null,{"$f":"\"（前年の総所得金額－基礎控除額）×\"&IF(U95=\"\",\"\",U95)&\"％\"","v":"（前年の総所得金額－基礎控除額）×0.31％"}]
[null,null,null,null,null,null,null,null,null,null,null,null,null,null,null,"控除額",null,null,null,null,"基礎控除"]
[null,null,null,null,null,null,null,null,null,null,"均等割",null,null,null,null,null,null,null,null,null,1600,null,null,null,null,null,"←１人当たり"]
[null,null,null,null,null,null,null,null,null,null,"18歳以上均等割",null,null,null,null,null,null,null,null,null,100,null,null,null,null,null,"←１人当たり"]
[null,null,null,null,null,null,null,null,null,null,"限度額",null,null,null,null,null,null,null,null,null,30000]
[null,null,null,null,null,null,null,null,null,null,null,null,null,null,null,null,null,null,null,null,null,null,null,null,null,null,null,null,null,null,null,null,null,null,null,null,null,null,null,null,null,null,null,null,null,null,null,null,null,null,null,null,null,null,null,null,null,null,null,null,null,null,null,null,null,null,null,null,null,{"$f":"IF($AU$5=\"\",\"\",$AU$5)","v":""}]
[null,null,null,"該当者",null,null,null,null,null,null,null,null,null,null,null,null,null,null,null,null,"課税総所得金額",null,null,null,null,null,null,null,null,null,null,null,null,null,null,null,null,null,null,null,null,"算出額（全体）",null,null,null,null,null,null,null,null,null,null,null,null,null,null,null,null,null,null,null,null,null,null,null,null,null,null,null,"軽減額(2･5･7割額)",null,null,null,null,null,null,null,null,null,null,null,null,null,"軽減後(2･5･7割後)",null,null,null,null,null,null,null,null,null,null,null,null,null,null,null,null,null,null,null,null,null,null,null,null,null,null,null,"月数",null,null,null,null,null,null,null,"月割後"]
[null,null,null,"氏　名",null,null,null,null,null,null,"生年月日",null,null,null,null,null,null,"年齢",null,null,"①",null,null,null,null,null,null,"②",null,null,null,null,null,null,"③（①－②）",null,null,null,null,null,null,{"$f":"\"④(③×\"&DBCS(U95)&\"%)\"","v":"④(③×０．３１%)"},null,null,null,null,null,null,"⑤",null,null,null,null,null,null,"④＋⑤",null,null,null,null,null,null,"⑥",null,null,null,null,null,null,"⑦",null,null,null,null,null,null,"⑧",null,null,null,null,null,null,"Ａ＝④",null,null,null,null,null,null,"Ｂ＝⑤－⑦",null,null,null,null,null,null,"Ａ＋Ｂ",null,null,null,null,null,null,"Ｃ＝⑥－⑧",null,null,null,null,null,null,"該当\n月数",null,null,null,"世帯\n月数",null,null,null,"所得割",null,null,null,null,null,null,"均等割",null,null,null,null,null,null,"18歳以上均等割"]
[null,null,null,null,null,null,null,null,null,null,null,null,null,null,null,null,null,null,null,null,"総所得金額",null,null,null,null,null,null,"控除額",null,null,null,null,null,null,"課税所得",null,null,null,null,null,null,"所得割",null,null,null,null,null,null,"均等割",null,null,null,null,null,null,"合　計",null,null,null,null,null,null,"18歳以上均等割",null,null,null,null,null,null,"均等割",null,null,null,null,null,null,"18歳以上均等割",null,null,null,null,null,null,"所得割",null,null,null,null,null,null,"均等割",null,null,null,null,null,null,"合　計",null,null,null,null,null,null,"18歳以上均等割",null,null,null,null,null,null,null,null,null,null,null,null,null,null,null,null,null,null,null,null,null,null,null,null,null,null,null,null,null,null,null,null,null,null,null,null,null,null,null,null,null,null,null,null,null,4,null,null,5,null,null,6,null,null,7,null,null,8,null,null,9,null,null,10,null,null,11,null,null,12,null,null,1,null,null,2,null,null,3,null,null,"月数計",null,null,null,"備考"]
[null,1,null,{"$f":"IF($DH104=\"\",\"\",$D13)","v":""},null,null,null,null,null,null,{"$f":"IF($DH104=\"\",\"\",IF($K13=\"\",\"\",SUM($K13)))","v":""},null,null,null,null,null,null,{"$f":"IF($DH104=\"\",\"\",IF($R13=\"\",\"\",SUM($R13)))","v":""},null,null,{"$f":"IF($DH104=\"\",\"\",IF($DC13=\"\",\"\",SUM($DC13)))","v":""},null,null,null,null,null,null,{"$f":"IF($DH104=\"\",\"\",IF($U104=\"\",\"\",基礎控除!H3))","v":""},null,null,null,null,null,null,{"$f":"IF($DH104=\"\",\"\",IF($U104=\"\",\"\",IF(SUM($U104)>SUM($AB104),SUM($U104)-SUM($AB104),0)))","v":""},null,null,null,null,null,null,{"$f":"IF($DH104=\"\",\"\",ROUNDDOWN(SUM(AI104)*SUM($U$95)/100,0))","v":""},null,null,null,null,null,null,{"$f":"IF($DH104=\"\",\"\",SUM($U$97))","v":""},null,null,null,null,null,null,{"$f":"IF(SUM(AP104:BC104)=0,\"\",SUM(AP104:BC104))","v":""},null,null,null,null,null,null,{"$f":"IF(OR($DH104=\"\",$EK104<>\"\"),\"\",SUM($U$98))","v":""},null,null,null,null,null,null,{"$f":"IF($AU$5=\"\",\"\",IF($DH104=\"\",\"\",ROUNDDOWN(SUM($U$97)*SUM(IF($AU$5=\"２割軽減世帯\",2,IF($AU$5=\"５割軽減世帯\",5,IF($AU$5=\"７割軽減世帯\",7,\"\"))))/10,0)))","v":""},null,null,null,null,null,null,{"$f":"IF($AU$5=\"\",\"\",IF($DH104=\"\",\"\",ROUNDDOWN(SUM($U$98)*SUM(IF($AU$5=\"２割軽減世帯\",2,IF($AU$5=\"５割軽減世帯\",5,IF($AU$5=\"７割軽減世帯\",7,\"\"))))/10,0)))","v":""},null,null,null,null,null,null,{"$f":"IF($DH104=\"\",\"\",SUM($AP104))","v":""},null,null,null,null,null,null,{"$f":"IF($DH104=\"\",\"\",SUM($AW104)-SUM($BR104))","v":""},null,null,null,null,null,null,{"$f":"IF(SUM(CF104:CS104)=0,\"\",SUM(CF104:CS104))","v":""},null,null,null,null,null,null,{"$f":"IF($DH104=\"\",\"\",SUM($BK104)-SUM($BY104))","v":""},null,null,null,null,null,null,{"$f":"IF(GE104=\"\",\"\",SUM(GE104))","v":""},null,null,null,null,null,null,null,{"$f":"IF($DH104=\"\",\"\",ROUNDDOWN(SUM($CF104)*SUM($DH104)/12,0))","v":""},null,null,null,null,null,null,{"$f":"IF($DH104=\"\",\"\",IF(未就学児!G6=\"\",IF(未就学児!F6=\"\",ROUNDDOWN(SUM($CM104)*SUM($DH104)/12,0),(ROUNDDOWN(SUM($CM104)*SUM($DH104)/12,0))*0.5),\"\"))","v":""},null,null,null,null,null,null,{"$f":"IF($DH104=\"\",\"\",IF(未就学児!G6=\"\",ROUNDDOWN(SUM($DA104)*SUM($DH104)/12,0),\"\"))","v":""},null,null,null,null,null,null,{"$f":"IF(未就学児!$F6=1,\"←未就学児\",IF(未就学児!$G6=1,\"←18歳未満\",\"\"))","v":""},null,null,null,null,null,null,null,null,null,{"$f":"IF(NZ13=\"\",\"\",IF(NZ13<75,IF(HJ34=\"○\",\"○\",\"\"),\"\"))","v":""},null,null,{"$f":"IF(OC13=\"\",\"\",IF(OC13<75,IF(HM34=\"○\",\"○\",\"\"),\"\"))","v":""},null,null,{"$f":"IF(OF13=\"\",\"\",IF(OF13<75,IF(HP34=\"○\",\"○\",\"\"),\"\"))","v":""},null,null,{"$f":"IF(OI13=\"\",\"\",IF(OI13<75,IF(HS34=\"○\",\"○\",\"\"),\"\"))","v":""},null,null,{"$f":"IF(OL13=\"\",\"\",IF(OL13<75,IF(HV34=\"○\",\"○\",\"\"),\"\"))","v":""},null,null,{"$f":"IF(OO13=\"\",\"\",IF(OO13<75,IF(HY34=\"○\",\"○\",\"\"),\"\"))","v":""},null,null,{"$f":"IF(OR13=\"\",\"\",IF(OR13<75,IF(IB34=\"○\",\"○\",\"\"),\"\"))","v":""},null,null,{"$f":"IF(OU13=\"\",\"\",IF(OU13<75,IF(IE34=\"○\",\"○\",\"\"),\"\"))","v":""},null,null,{"$f":"IF(OX13=\"\",\"\",IF(OX13<75,IF(IH34=\"○\",\"○\",\"\"),\"\"))","v":""},null,null,{"$f":"IF(PA13=\"\",\"\",IF(PA13<75,IF(IK34=\"○\",\"○\",\"\"),\"\"))","v":""},null,null,{"$f":"IF(PD13=\"\",\"\",IF(PD13<75,IF(IN34=\"○\",\"○\",\"\"),\"\"))","v":""},null,null,{"$f":"IF(PG13=\"\",\"\",IF(PG13<75,IF(IQ34=\"○\",\"○\",\"\"),\"\"))","v":""},null,null,{"$f":"IF(COUNTIF(EU104:GD104,\"○\")=0,\"\",COUNTIF(EU104:GD104,\"○\"))","v":""},null,null,null,{"$f":"IF(SUM(PJ13)=12,\"国保に該当しない。\",IF(OR(SUM(GE13)=SUM(PN13),SUM(PJ13)=0),\"\",\"年度途中から後期高齢者医療制度移行あり。\"))","v":""}]
[null,2,null,"",null,null,null,null,null,null,"",null,null,null,null,null,null,"",null,null,"",null,null,null,null,null,null,{"$f":"IF($DH105=\"\",\"\",IF($U105=\"\",\"\",基礎控除!H4))","v":""},null,null,null,null,null,null,"",null,null,null,null,null,null,"",null,null,null,null,null,null,"",null,null,null,null,null,null,{"$f":"IF(SUM(AP105:BC105)=0,\"\",SUM(AP105:BC105))","v":""},null,null,null,null,null,null,"",null,null,null,null,null,null,"",null,null,null,null,null,null,{"$f":"IF($AU$5=\"\",\"\",IF($DH105=\"\",\"\",ROUNDDOWN(SUM($U$98)*SUM(IF($AU$5=\"２割軽減世帯\",2,IF($AU$5=\"５割軽減世帯\",5,IF($AU$5=\"７割軽減世帯\",7,\"\"))))/10,0)))","v":""},null,null,null,null,null,null,"",null,null,null,null,null,null,"",null,null,null,null,null,null,{"$f":"IF(SUM(CF105:CS105)=0,\"\",SUM(CF105:CS105))","v":""},null,null,null,null,null,null,{"$f":"IF($DH105=\"\",\"\",SUM($BK105)-SUM($BY105))","v":""},null,null,null,null,null,null,"",null,null,null,null,null,null,null,"",null,null,null,null,null,null,{"$f":"IF($DH105=\"\",\"\",IF(未就学児!G7=\"\",IF(未就学児!F7=\"\",ROUNDDOWN(SUM($CM105)*SUM($DH105)/12,0),(ROUNDDOWN(SUM($CM105)*SUM($DH105)/12,0))*0.5),\"\"))","v":""},null,null,null,null,null,null,{"$f":"IF($DH105=\"\",\"\",IF(未就学児!G7=\"\",ROUNDDOWN(SUM($DA105)*SUM($DH105)/12,0),\"\"))","v":""},null,null,null,null,null,null,{"$f":"IF(未就学児!$F7=1,\"←未就学児\",IF(未就学児!$G7=1,\"←18歳未満\",\"\"))","v":""},null,null,null,null,null,null,null,null,null,"",null,null,"",null,null,"",null,null,"",null,null,"",null,null,"",null,null,"",null,null,"",null,null,"",null,null,"",null,null,"",null,null,"",null,null,"",null,null,null,""]
[null,3,null,"",null,null,null,null,null,null,"",null,null,null,null,null,null,"",null,null,"",null,null,null,null,null,null,{"$f":"IF($DH106=\"\",\"\",IF($U106=\"\",\"\",基礎控除!H5))","v":""},null,null,null,null,null,null,"",null,null,null,null,null,null,"",null,null,null,null,null,null,"",null,null,null,null,null,null,"",null,null,null,null,null,null,"",null,null,null,null,null,null,"",null,null,null,null,null,null,"",null,null,null,null,null,null,"",null,null,null,null,null,null,"",null,null,null,null,null,null,"",null,null,null,null,null,null,"",null,null,null,null,null,null,"",null,null,null,null,null,null,null,"",null,null,null,null,null,null,{"$f":"IF($DH106=\"\",\"\",IF(未就学児!G8=\"\",IF(未就学児!F8=\"\",ROUNDDOWN(SUM($CM106)*SUM($DH106)/12,0),(ROUNDDOWN(SUM($CM106)*SUM($DH106)/12,0))*0.5),\"\"))","v":""},null,null,null,null,null,null,{"$f":"IF($DH106=\"\",\"\",IF(未就学児!G8=\"\",ROUNDDOWN(SUM($DA106)*SUM($DH106)/12,0),\"\"))","v":""},null,null,null,null,null,null,{"$f":"IF(未就学児!$F8=1,\"←未就学児\",IF(未就学児!$G8=1,\"←18歳未満\",\"\"))","v":""},null,null,null,null,null,null,null,null,null,"",null,null,"",null,null,"",null,null,"",null,null,"",null,null,"",null,null,"",null,null,"",null,null,"",null,null,"",null,null,"",null,null,"",null,null,"",null,null,null,""]
[null,4,null,"",null,null,null,null,null,null,"",null,null,null,null,null,null,"",null,null,"",null,null,null,null,null,null,{"$f":"IF($DH107=\"\",\"\",IF($U107=\"\",\"\",基礎控除!H6))","v":""},null,null,null,null,null,null,"",null,null,null,null,null,null,"",null,null,null,null,null,null,"",null,null,null,null,null,null,"",null,null,null,null,null,null,"",null,null,null,null,null,null,"",null,null,null,null,null,null,"",null,null,null,null,null,null,"",null,null,null,null,null,null,"",null,null,null,null,null,null,"",null,null,null,null,null,null,"",null,null,null,null,null,null,"",null,null,null,null,null,null,null,"",null,null,null,null,null,null,{"$f":"IF($DH107=\"\",\"\",IF(未就学児!G9=\"\",IF(未就学児!F9=\"\",ROUNDDOWN(SUM($CM107)*SUM($DH107)/12,0),(ROUNDDOWN(SUM($CM107)*SUM($DH107)/12,0))*0.5),\"\"))","v":""},null,null,null,null,null,null,{"$f":"IF($DH107=\"\",\"\",IF(未就学児!G9=\"\",ROUNDDOWN(SUM($DA107)*SUM($DH107)/12,0),\"\"))","v":""},null,null,null,null,null,null,{"$f":"IF(未就学児!$F9=1,\"←未就学児\",IF(未就学児!$G9=1,\"←18歳未満\",\"\"))","v":""},null,null,null,null,null,null,null,null,null,"",null,null,"",null,null,"",null,null,"",null,null,"",null,null,"",null,null,"",null,null,"",null,null,"",null,null,"",null,null,"",null,null,"",null,null,"",null,null,null,""]
[null,5,null,"",null,null,null,null,null,null,"",null,null,null,null,null,null,"",null,null,"",null,null,null,null,null,null,{"$f":"IF($DH108=\"\",\"\",IF($U108=\"\",\"\",基礎控除!H7))","v":""},null,null,null,null,null,null,"",null,null,null,null,null,null,"",null,null,null,null,null,null,"",null,null,null,null,null,null,"",null,null,null,null,null,null,"",null,null,null,null,null,null,"",null,null,null,null,null,null,"",null,null,null,null,null,null,"",null,null,null,null,null,null,"",null,null,null,null,null,null,"",null,null,null,null,null,null,"",null,null,null,null,null,null,"",null,null,null,null,null,null,null,"",null,null,null,null,null,null,{"$f":"IF($DH108=\"\",\"\",IF(未就学児!G10=\"\",IF(未就学児!F10=\"\",ROUNDDOWN(SUM($CM108)*SUM($DH108)/12,0),(ROUNDDOWN(SUM($CM108)*SUM($DH108)/12,0))*0.5),\"\"))","v":""},null,null,null,null,null,null,{"$f":"IF($DH108=\"\",\"\",IF(未就学児!G10=\"\",ROUNDDOWN(SUM($DA108)*SUM($DH108)/12,0),\"\"))","v":""},null,null,null,null,null,null,{"$f":"IF(未就学児!$F10=1,\"←未就学児\",IF(未就学児!$G10=1,\"←18歳未満\",\"\"))","v":""},null,null,null,null,null,null,null,null,null,"",null,null,"",null,null,"",null,null,"",null,null,"",null,null,"",null,null,"",null,null,"",null,null,"",null,null,"",null,null,"",null,null,"",null,null,"",null,null,null,""]
[null,6,null,"",null,null,null,null,null,null,"",null,null,null,null,null,null,"",null,null,"",null,null,null,null,null,null,{"$f":"IF($DH109=\"\",\"\",IF($U109=\"\",\"\",基礎控除!H8))","v":""},null,null,null,null,null,null,"",null,null,null,null,null,null,"",null,null,null,null,null,null,"",null,null,null,null,null,null,"",null,null,null,null,null,null,"",null,null,null,null,null,null,"",null,null,null,null,null,null,"",null,null,null,null,null,null,"",null,null,null,null,null,null,"",null,null,null,null,null,null,"",null,null,null,null,null,null,"",null,null,null,null,null,null,"",null,null,null,null,null,null,null,"",null,null,null,null,null,null,{"$f":"IF($DH109=\"\",\"\",IF(未就学児!G11=\"\",IF(未就学児!F11=\"\",ROUNDDOWN(SUM($CM109)*SUM($DH109)/12,0),(ROUNDDOWN(SUM($CM109)*SUM($DH109)/12,0))*0.5),\"\"))","v":""},null,null,null,null,null,null,{"$f":"IF($DH109=\"\",\"\",IF(未就学児!G11=\"\",ROUNDDOWN(SUM($DA109)*SUM($DH109)/12,0),\"\"))","v":""},null,null,null,null,null,null,{"$f":"IF(未就学児!$F11=1,\"←未就学児\",IF(未就学児!$G11=1,\"←18歳未満\",\"\"))","v":""},null,null,null,null,null,null,null,null,null,"",null,null,"",null,null,"",null,null,"",null,null,"",null,null,"",null,null,"",null,null,"",null,null,"",null,null,"",null,null,"",null,null,"",null,null,"",null,null,null,""]
[null,7,null,"",null,null,null,null,null,null,"",null,null,null,null,null,null,"",null,null,"",null,null,null,null,null,null,{"$f":"IF($DH110=\"\",\"\",IF($U110=\"\",\"\",基礎控除!H9))","v":""},null,null,null,null,null,null,"",null,null,null,null,null,null,"",null,null,null,null,null,null,"",null,null,null,null,null,null,"",null,null,null,null,null,null,"",null,null,null,null,null,null,"",null,null,null,null,null,null,"",null,null,null,null,null,null,"",null,null,null,null,null,null,"",null,null,null,null,null,null,"",null,null,null,null,null,null,"",null,null,null,null,null,null,"",null,null,null,null,null,null,null,"",null,null,null,null,null,null,{"$f":"IF($DH110=\"\",\"\",IF(未就学児!G12=\"\",IF(未就学児!F12=\"\",ROUNDDOWN(SUM($CM110)*SUM($DH110)/12,0),(ROUNDDOWN(SUM($CM110)*SUM($DH110)/12,0))*0.5),\"\"))","v":""},null,null,null,null,null,null,{"$f":"IF($DH110=\"\",\"\",IF(未就学児!G12=\"\",ROUNDDOWN(SUM($DA110)*SUM($DH110)/12,0),\"\"))","v":""},null,null,null,null,null,null,{"$f":"IF(未就学児!$F12=1,\"←未就学児\",IF(未就学児!$G12=1,\"←18歳未満\",\"\"))","v":""},null,null,null,null,null,null,null,null,null,"",null,null,"",null,null,"",null,null,"",null,null,"",null,null,"",null,null,"",null,null,"",null,null,"",null,null,"",null,null,"",null,null,"",null,null,"",null,null,null,""]
[null,8,null,"",null,null,null,null,null,null,"",null,null,null,null,null,null,"",null,null,"",null,null,null,null,null,null,{"$f":"IF($DH111=\"\",\"\",IF($U111=\"\",\"\",基礎控除!H10))","v":""},null,null,null,null,null,null,"",null,null,null,null,null,null,"",null,null,null,null,null,null,"",null,null,null,null,null,null,"",null,null,null,null,null,null,"",null,null,null,null,null,null,"",null,null,null,null,null,null,"",null,null,null,null,null,null,"",null,null,null,null,null,null,"",null,null,null,null,null,null,"",null,null,null,null,null,null,"",null,null,null,null,null,null,"",null,null,null,null,null,null,null,"",null,null,null,null,null,null,{"$f":"IF($DH111=\"\",\"\",IF(未就学児!G13=\"\",IF(未就学児!F13=\"\",ROUNDDOWN(SUM($CM111)*SUM($DH111)/12,0),(ROUNDDOWN(SUM($CM111)*SUM($DH111)/12,0))*0.5),\"\"))","v":""},null,null,null,null,null,null,{"$f":"IF($DH111=\"\",\"\",IF(未就学児!G13=\"\",ROUNDDOWN(SUM($DA111)*SUM($DH111)/12,0),\"\"))","v":""},null,null,null,null,null,null,{"$f":"IF(未就学児!$F13=1,\"←未就学児\",IF(未就学児!$G13=1,\"←18歳未満\",\"\"))","v":""},null,null,null,null,null,null,null,null,null,"",null,null,"",null,null,"",null,null,"",null,null,"",null,null,"",null,null,"",null,null,"",null,null,"",null,null,"",null,null,"",null,null,"",null,null,"",null,null,null,""]
[null,9,null,"",null,null,null,null,null,null,"",null,null,null,null,null,null,"",null,null,"",null,null,null,null,null,null,{"$f":"IF($DH112=\"\",\"\",IF($U112=\"\",\"\",基礎控除!H11))","v":""},null,null,null,null,null,null,"",null,null,null,null,null,null,"",null,null,null,null,null,null,"",null,null,null,null,null,null,"",null,null,null,null,null,null,"",null,null,null,null,null,null,"",null,null,null,null,null,null,"",null,null,null,null,null,null,"",null,null,null,null,null,null,"",null,null,null,null,null,null,"",null,null,null,null,null,null,"",null,null,null,null,null,null,"",null,null,null,null,null,null,null,"",null,null,null,null,null,null,{"$f":"IF($DH112=\"\",\"\",IF(未就学児!G14=\"\",IF(未就学児!F14=\"\",ROUNDDOWN(SUM($CM112)*SUM($DH112)/12,0),(ROUNDDOWN(SUM($CM112)*SUM($DH112)/12,0))*0.5),\"\"))","v":""},null,null,null,null,null,null,{"$f":"IF($DH112=\"\",\"\",IF(未就学児!G14=\"\",ROUNDDOWN(SUM($DA112)*SUM($DH112)/12,0),\"\"))","v":""},null,null,null,null,null,null,{"$f":"IF(未就学児!$F14=1,\"←未就学児\",IF(未就学児!$G14=1,\"←18歳未満\",\"\"))","v":""},null,null,null,null,null,null,null,null,null,"",null,null,"",null,null,"",null,null,"",null,null,"",null,null,"",null,null,"",null,null,"",null,null,"",null,null,"",null,null,"",null,null,"",null,null,"",null,null,null,""]
[null,10,null,"",null,null,null,null,null,null,"",null,null,null,null,null,null,"",null,null,"",null,null,null,null,null,null,{"$f":"IF($DH113=\"\",\"\",IF($U113=\"\",\"\",基礎控除!H12))","v":""},null,null,null,null,null,null,"",null,null,null,null,null,null,"",null,null,null,null,null,null,"",null,null,null,null,null,null,"",null,null,null,null,null,null,"",null,null,null,null,null,null,"",null,null,null,null,null,null,"",null,null,null,null,null,null,"",null,null,null,null,null,null,"",null,null,null,null,null,null,"",null,null,null,null,null,null,"",null,null,null,null,null,null,"",null,null,null,null,null,null,null,"",null,null,null,null,null,null,{"$f":"IF($DH113=\"\",\"\",IF(未就学児!G15=\"\",IF(未就学児!F15=\"\",ROUNDDOWN(SUM($CM113)*SUM($DH113)/12,0),(ROUNDDOWN(SUM($CM113)*SUM($DH113)/12,0))*0.5),\"\"))","v":""},null,null,null,null,null,null,{"$f":"IF($DH113=\"\",\"\",IF(未就学児!G15=\"\",ROUNDDOWN(SUM($DA113)*SUM($DH113)/12,0),\"\"))","v":""},null,null,null,null,null,null,{"$f":"IF(未就学児!$F15=1,\"←未就学児\",IF(未就学児!$G15=1,\"←18歳未満\",\"\"))","v":""},null,null,null,null,null,null,null,null,null,"",null,null,"",null,null,"",null,null,"",null,null,"",null,null,"",null,null,"",null,null,"",null,null,"",null,null,"",null,null,"",null,null,"",null,null,"",null,null,null,""]
[null,null,null,"合計",null,null,null,null,null,null,null,null,null,null,null,null,null,null,null,null,{"$f":"SUM(U104:AA113)","v":0},null,null,null,null,null,null,"*********",null,null,null,null,null,null,{"$f":"SUM(AI104:AO113)","v":0},null,null,null,null,null,null,{"$f":"SUM(AP104:AV113)","v":0},null,null,null,null,null,null,{"$f":"SUM(AW104:BC113)","v":0},null,null,null,null,null,null,{"$f":"SUM(BD104:BJ113)","v":0},null,null,null,null,null,null,{"$f":"SUM(BK104:BQ113)","v":0},null,null,null,null,null,null,{"$f":"SUM(BR104:BX113)","v":0},null,null,null,null,null,null,{"$f":"SUM(BY104:CE113)","v":0},null,null,null,null,null,null,{"$f":"SUM(CF104:CL113)","v":0},null,null,null,null,null,null,{"$f":"SUM(CM104:CS113)","v":0},null,null,null,null,null,null,{"$f":"SUM(CT104:CZ113)","v":0},null,null,null,null,null,null,{"$f":"SUM(DA104:DG113)","v":0},null,null,null,null,null,null,null,null,null,null,null,null,null,null,{"$f":"SUM(DP104:DV113)","v":0},null,null,null,null,null,null,{"$f":"SUM(DW104:EC113)","v":0},null,null,null,null,null,null,{"$f":"SUM(ED104:EJ113)","v":0},null,null,null,null,null,null,null,null,null,null,null,null,null,null,null,null,{"$f":"SUMPRODUCT((EU104:EW113=\"○\")*1)","v":0},null,null,{"$f":"SUMPRODUCT((EX104:EZ113=\"○\")*1)","v":0},null,null,{"$f":"SUMPRODUCT((FA104:FC113=\"○\")*1)","v":0},null,null,{"$f":"SUMPRODUCT((FD104:FF113=\"○\")*1)","v":0},null,null,{"$f":"SUMPRODUCT((FG104:FI113=\"○\")*1)","v":0},null,null,{"$f":"SUMPRODUCT((FJ104:FL113=\"○\")*1)","v":0},null,null,{"$f":"SUMPRODUCT((FM104:FO113=\"○\")*1)","v":0},null,null,{"$f":"SUMPRODUCT((FP104:FR113=\"○\")*1)","v":0},null,null,{"$f":"SUMPRODUCT((FS104:FU113=\"○\")*1)","v":0},null,null,{"$f":"SUMPRODUCT((FV104:FX113=\"○\")*1)","v":0},null,null,{"$f":"SUMPRODUCT((FY104:GA113=\"○\")*1)","v":0},null,null,{"$f":"SUMPRODUCT((GB104:GD113=\"○\")*1)","v":0},null,null,"***"]
[null,null,null,null,null,null,null,null,null,null,null,null,null,null,null,null,null,null,null,null,null,null,null,null,null,null,null,null,null,null,null,null,null,null,null,null,null,null,null,null,null,null,null,null,null,null,null,null,null,null,null,null,null,null,null,null,null,null,null,null,null,null,{"$f":"IF(ROUNDDOWN(SUM(BD114:BQ114),-2)>SUM($U$29),SUM($U$29),ROUNDDOWN(SUM(BD114:BQ114),-2))","v":0},null,null,null,null,null,null,null,null,null,null,null,null,null,null,null,null,null,null,null,null,null,null,null,null,null,null,null,null,null,null,null,null,null,null,null,null,null,null,null,null,"合計（Ａ＋Ｂ＋Ｃ）→",{"$f":"SUM(CT114:DG114)","v":0},null,null,null,null,null,null,null,null,null,null,null,null,null,null,null,null,null,null,null,null,null,null,null,null,null,null,null,"合計（Ａ＋Ｂ＋Ｃ）→",{"$f":"SUM(DP114:EJ114)","v":0}]
[null,null,null,null,null,null,null,null,null,null,null,null,null,null,null,null,null,null,null,null,null,null,null,null,null,null,null,null,null,null,null,null,null,null,null,null,null,null,null,null,null,null,null,null,null,null,null,null,null,null,null,null,null,null,null,null,null,null,null,null,null,null,null,null,null,null,null,null,null,null,null,null,null,null,null,null,null,null,null,null,null,null,null,null,null,null,null,null,null,null,null,null,null,null,null,null,null,null,null,null,null,null,null,"Ｄ　限度額以下（百円未満切捨て）→",{"$f":"IF(ROUNDDOWN(SUM(DA115),-2)>SUM($U$99),SUM($U$99),ROUNDDOWN(SUM(DA115),-2))","v":0},null,null,null,null,null,null,null,null,null,null,null,null,null,null,null,null,null,null,null,null,null,null,null,null,null,null,null,"Ｄ　限度額以下（百円未満切捨て）→",{"$f":"IF(ROUNDDOWN(SUM(ED115),-2)>SUM($U$99),SUM($U$99),ROUNDDOWN(SUM(ED115),-2))","v":0}]
[null,null,null,null,null,null,null,null,null,null,null,null,null,null,null,null,null,null,null,null,null,null,null,null,null,null,null,null,null,null,null,null,null,null,null,null,null,null,null,null,null,null,null,null,null,null,null,null,null,null,null,null,null,null,null,null,null,null,null,null,null,null,null,null,null,null,null,null,null,null,null,null,null,null,null,null,null,null,null,null,null,null,null,null,null,null,null,null,null,null,null,null,null,null,null,null,null,null,null,null,null,null,null,"限度超過額→",{"$f":"IF(ROUNDDOWN(SUM(DA115),-2)>SUM(DA116),SUM(DA115)-SUM(DA116),0)","v":0},null,null,null,null,null,null,null,null,null,null,null,null,null,null,null,null,null,null,null,null,null,null,null,null,null,null,null,"限度超過額→",{"$f":"IF(ROUNDDOWN(SUM(ED115),-2)>SUM(ED116),SUM(ED115)-SUM(ED116),0)","v":0}]
[]
[null,"個人別明細"]
[]
[null,null,null,null,null,null,null,null,null,null,null,null,null,null,null,null,null,"税率等",null,null,"医療保険分",null,null,null,null,null,null,null,null,null,null,null,null,null,null,null,null,null,null,null,null,null,null,null,null,null,null,null,null,null,null,null,"後期高齢者支援金分",null,null,null,null,null,null,null,null,null,null,null,null,null,null,null,null,null,null,null,null,null,null,null,"介護保険分",null,null,null,null,null,null,null,null,null,null,null,null,null,null,null,null,null,null,null,null,null,null,null,"子ども・子育て支援金分",null,null,null,null,null,null,null,null,null,null,null,null,null,null,null,null,null,null,null,null,null,null,null,null,null,null,null,null,null,null,null,"課税限度額"]
[null,null,null,null,null,null,null,null,null,null,null,null,null,null,null,null,null,null,null,null,"所得割",null,null,null,null,null,null,null,"均等割",null,null,null,null,null,null,null,"平等割",null,null,null,null,null,null,null,"限度額",null,null,null,null,null,null,null,"所得割",null,null,null,null,null,null,null,"均等割",null,null,null,null,null,null,null,"限度額",null,null,null,null,null,null,null,"所得割",null,null,null,null,null,null,null,"均等割",null,null,null,null,null,null,null,"限度額",null,null,null,null,null,null,null,"所得割",null,null,null,null,null,null,null,"均等割",null,null,null,null,null,null,null,"18歳以上均等割",null,null,null,null,null,null,null,"限度額"]
[null,null,null,null,null,null,null,null,null,null,null,null,null,null,null,null,null,null,null,null,{"$f":"+IF(U25=\"\",\"\",U25&\"％\")","v":"7.77％"},null,null,null,null,null,null,null,{"$f":"+IF(U27=\"\",\"\",TEXT(U27,\"#,###\"))","v":"23,500"},null,null,null,null,null,null,null,{"$f":"+IF(U28=\"\",\"\",TEXT(U28,\"#,###\"))","v":"27,800"},null,null,null,null,null,null,null,{"$f":"+IF(U29=\"\",\"\",TEXT(U29,\"#,###\"))","v":"670,000"},null,null,null,null,null,null,null,{"$f":"+IF(U49=\"\",\"\",U49&\"％\")","v":"3.02％"},null,null,null,null,null,null,null,{"$f":"+IF(U51=\"\",\"\",TEXT(U51,\"#,###\"))","v":"15,600"},null,null,null,null,null,null,null,{"$f":"+IF(U52=\"\",\"\",TEXT(U52,\"#,###\"))","v":"260,000"},null,null,null,null,null,null,null,{"$f":"+IF(U72=\"\",\"\",U72&\"％\")","v":"2.57％"},null,null,null,null,null,null,null,{"$f":"+IF(U74=\"\",\"\",TEXT(U74,\"#,###\"))","v":"18,000"},null,null,null,null,null,null,null,{"$f":"+IF(U75=\"\",\"\",TEXT(U75,\"#,###\"))","v":"170,000"},null,null,null,null,null,null,null,{"$f":"+IF(U95=\"\",\"\",U95&\"％\")","v":"0.31％"},null,null,null,null,null,null,null,{"$f":"+IF(U97=\"\",\"\",TEXT(U97,\"#,###\"))","v":"1,600"},null,null,null,null,null,null,null,{"$f":"+IF(U98=\"\",\"\",TEXT(U98,\"#,###\"))","v":"100"},null,null,null,null,null,null,null,{"$f":"+IF(U99=\"\",\"\",TEXT(U99,\"#,###\"))","v":"30,000"},null,null,null,null,null,null,null,{"$f":"+TEXT(U29+U52+U75+U99,\"#,###\")","v":"1,130,000"}]
[]
[null,null,null,"該当者",null,null,null,null,null,null,null,null,null,null,null,null,null,null,null,null,"医療保険分",null,null,null,null,null,null,null,null,null,null,null,null,null,null,null,null,null,null,null,null,null,null,null,null,null,null,null,null,null,null,null,"後期高齢者支援金分",null,null,null,null,null,null,null,null,null,null,null,null,null,null,null,null,null,null,null,null,null,null,null,"介護保険分",null,null,null,null,null,null,null,null,null,null,null,null,null,null,null,null,null,null,null,null,null,null,null,"子ども・子育て支援金分",null,null,null,null,null,null,null,null,null,null,null,null,null,null,null,null,null,null,null,null,null,null,null,null,null,null,null,null,null,null,null,"合計"]
[null,null,null,"氏　名",null,null,null,null,null,null,"生年月日",null,null,null,null,null,null,"年齢",null,null,"所得割",null,null,null,null,null,null,null,"均等割",null,null,null,null,null,null,null,"平等割",null,null,null,null,null,null,null,"計",null,null,null,null,null,null,null,"所得割",null,null,null,null,null,null,null,"均等割",null,null,null,null,null,null,null,"計",null,null,null,null,null,null,null,"所得割",null,null,null,null,null,null,null,"均等割",null,null,null,null,null,null,null,"計",null,null,null,null,null,null,null,"所得割",null,null,null,null,null,null,null,"均等割",null,null,null,null,null,null,null,"18歳以上\n均等割",null,null,null,null,null,null,null,"計"]
[]
[null,1,null,{"$f":"IF($D13=\"\",\"\",$D13)","v":""},null,null,null,null,null,null,{"$f":"+IF($K13=\"\",\"\",$K13)","v":""},null,null,null,null,null,null,{"$f":"IF($R13=\"\",\"\",$R13)","v":""},null,null,{"$f":"IF($DP34=\"\",\"\",$DP34)","v":""},null,null,null,null,null,null,null,{"$f":"IF($DW34=\"\",\"\",$DW34)","v":""},null,null,null,null,null,null,null,null,null,null,null,null,null,null,null,{"$f":"+IF(AND(U128=\"\",AC128=\"\"),\"\",SUM(U128:AR128))","v":""},null,null,null,null,null,null,null,{"$f":"IF($DP57=\"\",\"\",$DP57)","v":""},null,null,null,null,null,null,null,{"$f":"IF($DW57=\"\",\"\",$DW57)","v":""},null,null,null,null,null,null,null,{"$f":"+IF(AND(BA128=\"\",BI128=\"\"),\"\",SUM(BA128:BP128))","v":""},null,null,null,null,null,null,null,{"$f":"IF($DP80=\"\",\"\",$DP80)","v":""},null,null,null,null,null,null,null,{"$f":"IF($DW80=\"\",\"\",$DW80)","v":""},null,null,null,null,null,null,null,{"$f":"+IF(AND(BY128=\"\",CG128=\"\"),\"\",SUM(BY128:CN128))","v":""},null,null,null,null,null,null,null,{"$f":"IF($DP104=\"\",\"\",$DP104)","v":""},null,null,null,null,null,null,null,{"$f":"IF($DW104=\"\",\"\",$DW104)","v":""},null,null,null,null,null,null,null,{"$f":"IF($ED104=\"\",\"\",$ED104)","v":""},null,null,null,null,null,null,null,{"$f":"+IF(AND(CW128=\"\",DE128=\"\",DM128=\"\"),\"\",SUM(CW128:DT128))","v":""},null,null,null,null,null,null,null,{"$f":"+IF(AND(AS128=\"\",BQ128=\"\",CO128=\"\",DU128=\"\"),\"\",SUM(AS128,BQ128,CO128,DU128))","v":""}]
[null,2,null,"",null,null,null,null,null,null,"",null,null,null,null,null,null,"",null,null,"",null,null,null,null,null,null,null,"",null,null,null,null,null,null,null,null,null,null,null,null,null,null,null,{"$f":"+IF(AND(U129=\"\",AC129=\"\"),\"\",SUM(U129:AC129))","v":""},null,null,null,null,null,null,null,"",null,null,null,null,null,null,null,"",null,null,null,null,null,null,null,{"$f":"+IF(AND(BA129=\"\",BI129=\"\"),\"\",SUM(BA129:BP129))","v":""},null,null,null,null,null,null,null,"",null,null,null,null,null,null,null,"",null,null,null,null,null,null,null,{"$f":"+IF(AND(BY129=\"\",CG129=\"\"),\"\",SUM(BY129:CN129))","v":""},null,null,null,null,null,null,null,"",null,null,null,null,null,null,null,"",null,null,null,null,null,null,null,"",null,null,null,null,null,null,null,{"$f":"+IF(AND(CW129=\"\",DE129=\"\",DM129=\"\"),\"\",SUM(CW129:DT129))","v":""},null,null,null,null,null,null,null,{"$f":"+IF(AND(AS129=\"\",BQ129=\"\",CO129=\"\",DU129=\"\"),\"\",SUM(AS129,BQ129,CO129,DU129))","v":""}]
[null,3,null,"",null,null,null,null,null,null,"",null,null,null,null,null,null,"",null,null,"",null,null,null,null,null,null,null,"",null,null,null,null,null,null,null,null,null,null,null,null,null,null,null,"",null,null,null,null,null,null,null,"",null,null,null,null,null,null,null,"",null,null,null,null,null,null,null,"",null,null,null,null,null,null,null,"",null,null,null,null,null,null,null,"",null,null,null,null,null,null,null,"",null,null,null,null,null,null,null,"",null,null,null,null,null,null,null,"",null,null,null,null,null,null,null,"",null,null,null,null,null,null,null,"",null,null,null,null,null,null,null,""]
[null,4,null,"",null,null,null,null,null,null,"",null,null,null,null,null,null,"",null,null,"",null,null,null,null,null,null,null,"",null,null,null,null,null,null,null,null,null,null,null,null,null,null,null,"",null,null,null,null,null,null,null,"",null,null,null,null,null,null,null,"",null,null,null,null,null,null,null,"",null,null,null,null,null,null,null,"",null,null,null,null,null,null,null,"",null,null,null,null,null,null,null,"",null,null,null,null,null,null,null,"",null,null,null,null,null,null,null,"",null,null,null,null,null,null,null,"",null,null,null,null,null,null,null,"",null,null,null,null,null,null,null,""]
[null,5,null,"",null,null,null,null,null,null,"",null,null,null,null,null,null,"",null,null,"",null,null,null,null,null,null,null,"",null,null,null,null,null,null,null,null,null,null,null,null,null,null,null,"",null,null,null,null,null,null,null,"",null,null,null,null,null,null,null,"",null,null,null,null,null,null,null,"",null,null,null,null,null,null,null,"",null,null,null,null,null,null,null,"",null,null,null,null,null,null,null,"",null,null,null,null,null,null,null,"",null,null,null,null,null,null,null,"",null,null,null,null,null,null,null,"",null,null,null,null,null,null,null,"",null,null,null,null,null,null,null,""]
[null,6,null,"",null,null,null,null,null,null,"",null,null,null,null,null,null,"",null,null,"",null,null,null,null,null,null,null,"",null,null,null,null,null,null,null,null,null,null,null,null,null,null,null,"",null,null,null,null,null,null,null,"",null,null,null,null,null,null,null,"",null,null,null,null,null,null,null,"",null,null,null,null,null,null,null,"",null,null,null,null,null,null,null,"",null,null,null,null,null,null,null,"",null,null,null,null,null,null,null,"",null,null,null,null,null,null,null,"",null,null,null,null,null,null,null,"",null,null,null,null,null,null,null,"",null,null,null,null,null,null,null,""]
[null,7,null,"",null,null,null,null,null,null,"",null,null,null,null,null,null,"",null,null,"",null,null,null,null,null,null,null,"",null,null,null,null,null,null,null,null,null,null,null,null,null,null,null,"",null,null,null,null,null,null,null,"",null,null,null,null,null,null,null,"",null,null,null,null,null,null,null,"",null,null,null,null,null,null,null,"",null,null,null,null,null,null,null,"",null,null,null,null,null,null,null,"",null,null,null,null,null,null,null,"",null,null,null,null,null,null,null,"",null,null,null,null,null,null,null,"",null,null,null,null,null,null,null,"",null,null,null,null,null,null,null,""]
[null,8,null,"",null,null,null,null,null,null,"",null,null,null,null,null,null,"",null,null,"",null,null,null,null,null,null,null,"",null,null,null,null,null,null,null,null,null,null,null,null,null,null,null,"",null,null,null,null,null,null,null,"",null,null,null,null,null,null,null,"",null,null,null,null,null,null,null,"",null,null,null,null,null,null,null,"",null,null,null,null,null,null,null,"",null,null,null,null,null,null,null,"",null,null,null,null,null,null,null,"",null,null,null,null,null,null,null,"",null,null,null,null,null,null,null,"",null,null,null,null,null,null,null,"",null,null,null,null,null,null,null,""]
[null,9,null,"",null,null,null,null,null,null,"",null,null,null,null,null,null,"",null,null,"",null,null,null,null,null,null,null,"",null,null,null,null,null,null,null,null,null,null,null,null,null,null,null,"",null,null,null,null,null,null,null,"",null,null,null,null,null,null,null,"",null,null,null,null,null,null,null,"",null,null,null,null,null,null,null,"",null,null,null,null,null,null,null,"",null,null,null,null,null,null,null,"",null,null,null,null,null,null,null,"",null,null,null,null,null,null,null,"",null,null,null,null,null,null,null,"",null,null,null,null,null,null,null,"",null,null,null,null,null,null,null,""]
[null,10,null,"",null,null,null,null,null,null,"",null,null,null,null,null,null,"",null,null,"",null,null,null,null,null,null,null,"",null,null,null,null,null,null,null,null,null,null,null,null,null,null,null,"",null,null,null,null,null,null,null,"",null,null,null,null,null,null,null,"",null,null,null,null,null,null,null,"",null,null,null,null,null,null,null,"",null,null,null,null,null,null,null,"",null,null,null,null,null,null,null,"",null,null,null,null,null,null,null,"",null,null,null,null,null,null,null,"",null,null,null,null,null,null,null,"",null,null,null,null,null,null,null,"",null,null,null,null,null,null,null,""]
[null,null,null,"合計",null,null,null,null,null,null,null,null,null,null,null,null,null,null,null,null,{"$f":"+SUM(U128:AB137)","v":0},null,null,null,null,null,null,null,{"$f":"+SUM(AC128:AJ137)","v":0},null,null,null,null,null,null,null,{"$f":"IF($ED34=\"\",\"\",$ED34)","v":""},null,null,null,null,null,null,null,{"$f":"+SUM(U138:AR138)","v":0},null,null,null,null,null,null,null,{"$f":"+SUM(BA128:BH137)","v":0},null,null,null,null,null,null,null,{"$f":"+SUM(BI128:BP137)","v":0},null,null,null,null,null,null,null,{"$f":"+SUM(BA138:BP138)","v":0},null,null,null,null,null,null,null,{"$f":"+SUM(BY128:CF137)","v":0},null,null,null,null,null,null,null,{"$f":"+SUM(CG128:CN137)","v":0},null,null,null,null,null,null,null,{"$f":"+SUM(BY138:CN138)","v":0},null,null,null,null,null,null,null,{"$f":"+SUM(CW128:DD137)","v":0},null,null,null,null,null,null,null,{"$f":"+SUM(DE128:DL137)","v":0},null,null,null,null,null,null,null,{"$f":"+SUM(DM128:DT137)","v":0},null,null,null,null,null,null,null,{"$f":"+SUM(CW138:DT138)","v":0},null,null,null,null,null,null,null,{"$f":"+SUM(AS138,BQ138,CO138,DU138)","v":0}]
[null,null,null,null,null,null,null,null,null,null,null,null,null,null,null,null,null,null,null,null,null,null,null,null,null,null,null,null,null,null,null,null,null,null,null,null,null,null,null,null,null,null,null,"調整後の額→",{"$f":"+ED46","v":0},null,null,null,null,null,null,null,null,null,null,null,null,null,null,null,null,null,null,null,null,null,null,"調整後の額→",{"$f":"+ED69","v":0},null,null,null,null,null,null,null,null,null,null,null,null,null,null,null,null,null,null,null,null,null,null,"調整後の額→",{"$f":"+ED92","v":0},null,null,null,null,null,null,null,null,null,null,null,null,null,null,null,null,null,null,null,null,null,null,null,null,null,null,null,null,null,null,"調整後の額→",{"$f":"+ED116","v":0},null,null,null,null,null,null,null,{"$f":"+SUM(AS139,BQ139,CO139,DU139)","v":0}]
[]
[]
[]
[]
[]
[]
[]
[null,null,null,{"$f":"\"令和\"&DBCS(基本項目!$B$3)&\"年度　国民健康保険税　簡易計算（概算）\"","v":"令和８年度　国民健康保険税　簡易計算（概算）"}]
[]
[null,null,null,"医療保険分",null,null,null,null,null,null,null,null,null,null,null,null,null,null,null,null,null,null,null,null,null,"後期高齢者\n支援金分",null,null,null,null,null,null,null,null,null,null,null,null,null,null,null,null,null,null,null,null,null,"介護保険分",null,null,null,null,null,null,null,null,null,null,null,null,null,null,null,null,null,null,null,null,null,"子ども・子育て\n支援納付金分",null,null,null,null,null,null,null,null,null,null,null,null,null,null,null,null,null,null,null,null,null,"合計",null,null,null,null,null,null,null,null,null,null,null,null,null,null,null,null,null,null,null,null,null,null,"試算した結果は、実際の保険料額を保証するものではございません。\n参考としてご利用ください。"]
[]
[]
[]
[null,null,null,{"$f":"SUM(入力!ED46)","v":0},null,null,null,null,null,null,null,null,null,null,null,null,null,null,null,null,null,null,null,null,null,{"$f":"SUM(入力!ED69)","v":0},null,null,null,null,null,null,null,null,null,null,null,null,null,null,null,null,null,null,null,null,null,{"$f":"SUM(入力!ED92)","v":0},null,null,null,null,null,null,null,null,null,null,null,null,null,null,null,null,null,null,null,null,null,{"$f":"SUM(入力!ED116)","v":0},null,null,null,null,null,null,null,null,null,null,null,null,null,null,null,null,null,null,null,null,null,{"$f":"SUM(D153:CM154)","v":0}]
[]
[]
[null,null,null,"納期",null,null,null,null,null,null,null,null,null,null,null,"保険税",null,null,null,null,null,null,null,null,null,null,null,null,null,null,null,null,"納期限",null,null,null,null,null,null,null,null,null,null,null,null,null,null,null,null,null,null,null,null,null,null,null,null,null,"納期",null,null,null,null,null,null,null,null,null,null,null,"保険税",null,null,null,null,null,null,null,null,null,null,null,null,null,null,null,null,"納期限"]
[]
[null,null,null,"第１期",null,null,null,null,null,null,null,null,null,null,null,{"$f":"IF(印刷用【簡易版】!BL4=\"\",\"\",印刷用【簡易版】!BL4)","v":""},null,null,null,null,null,null,null,null,null,null,null,null,null,null,null,null,{"$f":"IF(印刷用【簡易版】!BX4=\"\",\"\",印刷用【簡易版】!BX4)","v":""},null,null,null,null,null,null,null,null,null,null,null,null,null,null,null,null,null,null,null,null,null,null,null,null,null,"第６期",null,null,null,null,null,null,null,null,null,null,null,{"$f":"IF(印刷用【簡易版】!BL9=\"\",\"\",印刷用【簡易版】!BL9)","v":""},null,null,null,null,null,null,null,null,null,null,null,null,null,null,null,null,{"$f":"IF(印刷用【簡易版】!BX9=\"\",\"\",印刷用【簡易版】!BX9)","v":""}]
[]
[null,null,null,"第２期",null,null,null,null,null,null,null,null,null,null,null,{"$f":"IF(印刷用【簡易版】!BL5=\"\",\"\",印刷用【簡易版】!BL5)","v":""},null,null,null,null,null,null,null,null,null,null,null,null,null,null,null,null,{"$f":"IF(印刷用【簡易版】!BX5=\"\",\"\",印刷用【簡易版】!BX5)","v":""},null,null,null,null,null,null,null,null,null,null,null,null,null,null,null,null,null,null,null,null,null,null,null,null,null,"第７期",null,null,null,null,null,null,null,null,null,null,null,{"$f":"IF(印刷用【簡易版】!CU4=\"\",\"\",印刷用【簡易版】!CU4)","v":""},null,null,null,null,null,null,null,null,null,null,null,null,null,null,null,null,{"$f":"IF(印刷用【簡易版】!DG4=\"\",\"\",印刷用【簡易版】!DG4)","v":""}]
[]
[null,null,null,"第３期",null,null,null,null,null,null,null,null,null,null,null,{"$f":"IF(印刷用【簡易版】!BL6=\"\",\"\",印刷用【簡易版】!BL6)","v":""},null,null,null,null,null,null,null,null,null,null,null,null,null,null,null,null,{"$f":"IF(印刷用【簡易版】!BX6=\"\",\"\",印刷用【簡易版】!BX6)","v":""},null,null,null,null,null,null,null,null,null,null,null,null,null,null,null,null,null,null,null,null,null,null,null,null,null,"第８期",null,null,null,null,null,null,null,null,null,null,null,{"$f":"IF(印刷用【簡易版】!CU5=\"\",\"\",印刷用【簡易版】!CU5)","v":""},null,null,null,null,null,null,null,null,null,null,null,null,null,null,null,null,{"$f":"IF(印刷用【簡易版】!DG5=\"\",\"\",印刷用【簡易版】!DG5)","v":""}]
[]
[null,null,null,"第４期",null,null,null,null,null,null,null,null,null,null,null,{"$f":"IF(印刷用【簡易版】!BL7=\"\",\"\",印刷用【簡易版】!BL7)","v":""},null,null,null,null,null,null,null,null,null,null,null,null,null,null,null,null,{"$f":"IF(印刷用【簡易版】!BX7=\"\",\"\",印刷用【簡易版】!BX7)","v":""},null,null,null,null,null,null,null,null,null,null,null,null,null,null,null,null,null,null,null,null,null,null,null,null,null,"随時期",null,null,null,null,null,null,null,null,null,null,null,{"$f":"IF(印刷用【簡易版】!CU6=\"\",\"\",印刷用【簡易版】!CU6)","v":""},null,null,null,null,null,null,null,null,null,null,null,null,null,null,null,null,{"$f":"IF(印刷用【簡易版】!DG6=\"\",\"\",印刷用【簡易版】!DG6)","v":""}]
[]
[null,null,null,"第５期",null,null,null,null,null,null,null,null,null,null,null,{"$f":"IF(印刷用【簡易版】!BL8=\"\",\"\",印刷用【簡易版】!BL8)","v":""},null,null,null,null,null,null,null,null,null,null,null,null,null,null,null,null,{"$f":"IF(印刷用【簡易版】!BX8=\"\",\"\",印刷用【簡易版】!BX8)","v":""},null,null,null,null,null,null,null,null,null,null,null,null,null,null,null,null,null,null,null,null,null,null,null,null,null,"合　計",null,null,null,null,null,null,null,null,null,null,null,{"$f":"IF(AND(COUNT(P158:AF167,BS158:CI165)=0,SUM(P158:AF167,BS158:CI165)=0),\"\",SUM(P158:AF167,BS158:CI165))","v":""}]

{"sheet":"印刷用【簡易版】","index":2,"n_rows":27,"n_cols":111,"rows_kept":27,"cut":false,"hidden":true,"merged":[[21,62,21,68],[21,69,21,75],[18,58,18,61],[18,62,18,68],[7,56,7,62],[2,56,2,62],[3,56,3,62],[4,56,4,62],[5,56,5,62],[6,56,6,62],[18,69,18,75],[19,58,19,61],[19,62,19,68],[19,69,19,75],[16,58,16,61],[16,62,16,68],[16,69,16,75],[17,58,17,61],[17,62,17,68],[17,69,17,75],[14,58,14,61],[14,62,14,68],[14,69,14,75],[15,58,15,61],[26,3,26,14],[13,101,13,125],[11,101,12,125],[14,101,14,125],[15,101,15,125],[16,101,16,125],[17,101,17,125],[18,101,18,125],[19,101,19,125],[20,101,20,125],[21,101,21,125],[22,101,22,125],[22,58,22,61],[22,62,22,68],[22,69,22,75],[23,58,24,61],[23,62,23,68],[23,69,23,75],[24,62,24,75],[20,58,20,61],[20,62,20,68],[20,69,20,75],[21,58,21,61],[25,58,25,75],[15,62,15,68],[15,69,15,75],[23,51,23,57],[23,3,24,14],[25,3,25,14],[23,15,24,18],[25,15,25,39],[23,40,24,43],[24,44,24,57],[25,40,25,57],[20,51,20,57],[21,40,21,43],[21,44,21,50],[21,51,21,57],[22,40,22,43],[22,44,22,50],[22,51,22,57],[17,51,17,57],[18,40,18,43],[18,44,18,50],[18,51,18,57],[19,40,19,43],[19,44,19,50],[19,51,19,57],[14,51,14,57],[15,40,15,43],[15,44,15,50],[15,51,15,57],[16,40,16,43],[16,44,16,50],[16,51,16,57],[16,11,16,14],[16,15,16,18],[17,11,17,14],[17,15,17,18],[14,11,14,14],[24,19,24,39],[14,40,14,43],[14,44,14,50],[17,40,17,43],[17,44,17,50],[20,40,20,43],[20,44,20,50],[23,44,23,50],[20,26,20,32],[21,26,21,32],[22,26,22,32],[23,26,23,32],[23,33,23,39],[15,26,15,32],[16,26,16,32],[17,26,17,32],[18,26,18,32],[19,26,19,32],[23,19,23,25],[18,19,18,25],[19,19,19,25],[20,19,20,25],[21,19,21,25],[22,19,22,25],[20,11,20,14],[20,15,20,18],[21,11,21,14],[21,15,21,18],[18,11,18,14],[18,15,18,18],[19,11,19,14],[19,15,19,18],[3,25,3,31],[2,32,2,38],[2,39,2,45],[5,39,5,45],[3,39,3,45],[4,39,4,45],[19,1,19,2],[20,1,20,2],[21,1,21,2],[14,1,14,2],[15,1,15,2],[16,1,16,2],[17,1,17,2],[18,1,18,2],[20,3,20,10],[21,3,21,10],[18,3,18,10],[19,3,19,10],[16,3,16,10],[17,3,17,10],[14,3,14,10],[14,19,14,25],[15,19,15,25],[16,19,16,25],[8,3,8,24],[13,15,13,18],[11,15,11,39],[12,15,12,18],[12,40,12,43],[13,40,13,43],[12,19,12,25],[12,26,12,32],[12,33,12,39],[13,26,13,32],[11,11,12,14],[11,3,12,10],[13,11,13,14],[13,3,13,10],[13,19,13,25],[8,25,8,52],[13,1,13,2],[13,33,22,39],[14,26,14,32],[12,58,12,61],[13,58,13,61],[11,40,11,57],[11,58,11,75],[12,62,12,68],[12,69,12,75],[13,62,13,68],[13,69,13,75],[13,44,13,50],[12,44,12,50],[12,51,12,57],[13,51,13,57],[14,15,14,18],[15,3,15,10],[15,11,15,14],[15,15,15,18],[22,1,22,2],[22,3,22,10],[22,11,22,14],[22,15,22,18],[17,19,17,25],[2,46,2,52],[3,46,3,52],[4,46,4,52],[5,46,5,52],[7,46,7,52],[6,3,6,24],[6,25,6,31],[6,32,6,38],[6,39,6,45],[6,46,6,52],[7,39,7,45],[2,25,2,31],[4,3,4,24],[2,3,2,24],[3,3,3,24],[3,32,3,38],[4,32,4,38],[7,32,7,38],[5,3,5,24],[7,3,7,24],[5,32,5,38],[4,25,4,31],[5,25,5,31],[7,25,7,31],[14,76,14,79],[14,80,14,86],[14,87,14,93],[15,76,15,79],[15,80,15,86],[15,87,15,93],[16,76,16,79],[16,80,16,86],[16,87,16,93],[11,76,11,100],[12,76,12,79],[12,80,12,86],[12,87,12,93],[12,94,12,100],[13,76,13,79],[13,80,13,86],[13,87,13,93],[8,56,8,62],[8,91,8,97],[23,76,24,79],[23,80,23,86],[23,87,23,93],[17,80,17,86],[17,87,17,93],[18,76,18,79],[18,80,18,86],[18,87,18,93],[19,76,19,79],[19,80,19,86],[19,87,19,93],[20,76,20,79],[20,80,20,86],[20,87,20,93],[17,76,17,79],[16,94,16,100],[17,94,17,100],[18,94,18,100],[19,94,19,100],[20,94,20,100],[21,94,21,100],[22,94,22,100],[21,76,21,79],[21,80,21,86],[21,87,21,93],[22,76,22,79],[22,80,22,86],[22,87,22,93],[26,15,26,100],[23,101,26,125],[2,63,2,74],[3,63,3,74],[4,63,4,74],[5,63,5,74],[6,63,6,74],[7,63,7,74],[8,63,8,74],[2,75,2,90],[3,75,3,90],[4,75,4,90],[5,75,5,90],[6,75,6,90],[7,75,7,90],[8,75,8,90],[8,98,8,109],[8,110,8,125],[23,94,23,100],[24,80,24,100],[25,76,25,100],[13,94,13,100],[14,94,14,100],[15,94,15,100],[2,98,2,109],[3,98,3,109],[4,98,4,109],[5,98,5,109],[2,110,2,125],[3,110,3,125],[4,110,4,125],[5,110,5,125],[6,91,7,125],[2,91,2,97],[5,91,5,97],[3,91,3,97],[4,91,4,97]]}
[null,{"$f":"\"令和\"&DBCS(基本項目!$B$3)&\"年度　国民健康保険税　簡易計算（概算）\"","v":"令和８年度　国民健康保険税　簡易計算（概算）"}]
[null,null,"《税率等》"]
[null,null,null,"区分",null,null,null,null,null,null,null,null,null,null,null,null,null,null,null,null,null,null,null,null,null,"医療保険分",null,null,null,null,null,null,"後期高齢者\n支援金分",null,null,null,null,null,null,"介護保険分",null,null,null,null,null,null,"子ども子育て\n支援納付金分",null,null,null,null,null,null,null,null,null,"納期",null,null,null,null,null,null,"保険税",null,null,null,null,null,null,null,null,null,null,null,"納期限",null,null,null,null,null,null,null,null,null,null,null,null,null,null,null,"納期",null,null,null,null,null,null,"保険税",null,null,null,null,null,null,null,null,null,null,null,"納期限"]
[null,null,null,"所得割(％)\n　※（前年の総所得金額－基礎控除額）×率",null,null,null,null,null,null,null,null,null,null,null,null,null,null,null,null,null,null,null,null,null,{"$f":"IF(入力!U25=\"\",\"\",入力!U25)","v":7.77},null,null,null,null,null,null,{"$f":"IF(入力!U49=\"\",\"\",入力!U49)","v":3.02},null,null,null,null,null,null,{"$f":"IF(入力!U72=\"\",\"\",入力!U72)","v":2.57},null,null,null,null,null,null,{"$f":"IF(入力!U95=\"\",\"\",入力!U95)","v":0.31},null,null,null,null,null,null,null,null,null,"第１期",null,null,null,null,null,null,{"$f":"IF(基本項目!$M3=\"\",\"\",SUM(基本項目!$M3))","v":""},null,null,null,null,null,null,null,null,null,null,null,{"$f":"IF($BL4=\"\",\"\",IF(基本項目!$H3=\"\",\"\",基本項目!$H3))","v":""},null,null,null,null,null,null,null,null,null,null,null,null,null,null,null,"第７期",null,null,null,null,null,null,{"$f":"IF(基本項目!$M9=\"\",\"\",SUM(基本項目!$M9))","v":""},null,null,null,null,null,null,null,null,null,null,null,{"$f":"IF($CU4=\"\",\"\",IF(基本項目!$H9=\"\",\"\",基本項目!$H9))","v":""}]
[null,null,null,"均等割(円)　※１人当たり",null,null,null,null,null,null,null,null,null,null,null,null,null,null,null,null,null,null,null,null,null,{"$f":"IF(入力!U27=\"\",\"\",入力!U27)","v":23500},null,null,null,null,null,null,{"$f":"IF(入力!U51=\"\",\"\",入力!U51)","v":15600},null,null,null,null,null,null,{"$f":"IF(入力!U74=\"\",\"\",入力!U74)","v":18000},null,null,null,null,null,null,{"$f":"IF(入力!U97=\"\",\"\",入力!U97)","v":1600},null,null,null,null,null,null,null,null,null,"第２期",null,null,null,null,null,null,{"$f":"IF(基本項目!$M4=\"\",\"\",SUM(基本項目!$M4))","v":""},null,null,null,null,null,null,null,null,null,null,null,{"$f":"IF($BL5=\"\",\"\",IF(基本項目!$H4=\"\",\"\",基本項目!$H4))","v":""},null,null,null,null,null,null,null,null,null,null,null,null,null,null,null,"第８期",null,null,null,null,null,null,{"$f":"IF(基本項目!$M10=\"\",\"\",SUM(基本項目!$M10))","v":""},null,null,null,null,null,null,null,null,null,null,null,{"$f":"IF($CU5=\"\",\"\",IF(基本項目!$H10=\"\",\"\",基本項目!$H10))","v":""}]
[null,null,null,"18歳以上均等割(円)　※１人当たり",null,null,null,null,null,null,null,null,null,null,null,null,null,null,null,null,null,null,null,null,null,null,null,null,null,null,null,null,null,null,null,null,null,null,null,null,null,null,null,null,null,null,{"$f":"IF(入力!U98=\"\",\"\",入力!U98)","v":100},null,null,null,null,null,null,null,null,null,"第３期",null,null,null,null,null,null,{"$f":"IF(基本項目!$M5=\"\",\"\",SUM(基本項目!$M5))","v":""},null,null,null,null,null,null,null,null,null,null,null,{"$f":"IF($BL6=\"\",\"\",IF(基本項目!$H5=\"\",\"\",基本項目!$H5))","v":""},null,null,null,null,null,null,null,null,null,null,null,null,null,null,null,"随時期",null,null,null,null,null,null,{"$f":"IF(基本項目!$M11=\"\",IF(基本項目!$M12=\"\",\"\",SUM(基本項目!$M12)),SUM(基本項目!$M11))","v":""},null,null,null,null,null,null,null,null,null,null,null,{"$f":"IF($CU6=\"\",\"\",IF(基本項目!$M11=\"\",IF(基本項目!$M12=\"\",\"\",基本項目!$H12),基本項目!$H11))","v":""}]
[null,null,null,"平等割(円)　※１世帯当たり",null,null,null,null,null,null,null,null,null,null,null,null,null,null,null,null,null,null,null,null,null,{"$f":"IF(入力!U28=\"\",\"\",入力!U28)","v":27800},null,null,null,null,null,null,null,null,null,null,null,null,null,null,null,null,null,null,null,null,null,null,null,null,null,null,null,null,null,null,"第４期",null,null,null,null,null,null,{"$f":"IF(基本項目!$M6=\"\",\"\",SUM(基本項目!$M6))","v":""},null,null,null,null,null,null,null,null,null,null,null,{"$f":"IF($BL7=\"\",\"\",IF(基本項目!$H6=\"\",\"\",基本項目!$H6))","v":""}]
[null,null,null,"限度額(円)",null,null,null,null,null,null,null,null,null,null,null,null,null,null,null,null,null,null,null,null,null,{"$f":"IF(入力!U29=\"\",\"\",入力!U29)","v":670000},null,null,null,null,null,null,{"$f":"IF(入力!U52=\"\",\"\",入力!U52)","v":260000},null,null,null,null,null,null,{"$f":"IF(入力!U75=\"\",\"\",入力!U75)","v":170000},null,null,null,null,null,null,{"$f":"IF(入力!U99=\"\",\"\",入力!U99)","v":30000},null,null,null,null,null,null,null,null,null,"第５期",null,null,null,null,null,null,{"$f":"IF(基本項目!$M7=\"\",\"\",SUM(基本項目!$M7))","v":""},null,null,null,null,null,null,null,null,null,null,null,{"$f":"IF($BL8=\"\",\"\",IF(基本項目!$H7=\"\",\"\",基本項目!$H7))","v":""}]
[null,null,null,"限度額合計(円)",null,null,null,null,null,null,null,null,null,null,null,null,null,null,null,null,null,null,null,null,null,{"$f":"SUM(Z8:BA8)","v":1130000},null,null,null,null,null,null,null,null,null,null,null,null,null,null,null,null,null,null,null,null,null,null,null,null,null,null,null,null,null,null,"第６期",null,null,null,null,null,null,{"$f":"IF(基本項目!$M8=\"\",\"\",SUM(基本項目!$M8))","v":""},null,null,null,null,null,null,null,null,null,null,null,{"$f":"IF($BL9=\"\",\"\",IF(基本項目!$H8=\"\",\"\",基本項目!$H8))","v":""},null,null,null,null,null,null,null,null,null,null,null,null,null,null,null,"合　計",null,null,null,null,null,null,{"$f":"IF(AND(COUNT(BL4:BW9,CU4:DF8)=0,SUM(BL4:BW9,CU4:DF8)=0),\"\",SUM(BL4:BW9,CU4:DF8))","v":""}]
[]
[null,null,"《軽減及び月割後》"]
[null,null,null,"氏　　名",null,null,null,null,null,null,null,"年齢",null,null,null,"医療保険分",null,null,null,null,null,null,null,null,null,null,null,null,null,null,null,null,null,null,null,null,null,null,null,null,"後期高齢者支援金分",null,null,null,null,null,null,null,null,null,null,null,null,null,null,null,null,null,"介護保険分",null,null,null,null,null,null,null,null,null,null,null,null,null,null,null,null,null,"子ども・子育て支援納付金分",null,null,null,null,null,null,null,null,null,null,null,null,null,null,null,null,null,null,null,null,null,null,null,null,"備考"]
[null,null,null,null,null,null,null,null,null,null,null,null,null,null,null,"月数",null,null,null,"所得割",null,null,null,null,null,null,"均等割",null,null,null,null,null,null,"平等割",null,null,null,null,null,null,"月数",null,null,null,"所得割",null,null,null,null,null,null,"均等割",null,null,null,null,null,null,"月数",null,null,null,"所得割",null,null,null,null,null,null,"均等割",null,null,null,null,null,null,"月数",null,null,null,"所得割",null,null,null,null,null,null,"均等割",null,null,null,null,null,null,"18歳以上\n均等割"]
[null,1,null,{"$f":"IF(入力!$D13=\"\",\"\",入力!$D13)","v":""},null,null,null,null,null,null,null,{"$f":"IF(入力!$R13=\"\",\"\",入力!$R13)","v":""},null,null,null,{"$f":"IF(入力!$DH34=\"\",\"\",入力!$DH34)","v":""},null,null,null,{"$f":"IF(入力!$DP34=\"\",\"\",入力!$DP34)","v":""},null,null,null,null,null,null,{"$f":"IF(入力!$DW34=\"\",\"\",入力!$DW34)","v":""},null,null,null,null,null,null,{"$f":"IF(入力!$ED34=\"\",\"\",入力!$ED34)","v":""},null,null,null,null,null,null,{"$f":"IF(入力!$DH57=\"\",\"\",入力!$DH57)","v":""},null,null,null,{"$f":"IF(入力!$DP57=\"\",\"\",入力!$DP57)","v":""},null,null,null,null,null,null,{"$f":"IF(入力!$DW57=\"\",\"\",入力!$DW57)","v":""},null,null,null,null,null,null,{"$f":"IF(入力!$DH80=\"\",\"\",入力!$DH80)","v":""},null,null,null,{"$f":"IF(入力!$DP80=\"\",\"\",入力!$DP80)","v":""},null,null,null,null,null,null,{"$f":"IF(入力!$DW80=\"\",\"\",入力!$DW80)","v":""},null,null,null,null,null,null,{"$f":"IF(入力!$DH104=\"\",\"\",入力!$DH104)","v":""},null,null,null,{"$f":"IF(入力!$DP104=\"\",\"\",入力!$DP104)","v":""},null,null,null,null,null,null,{"$f":"IF(入力!$DW104=\"\",\"\",入力!$DW104)","v":""},null,null,null,null,null,null,{"$f":"IF(入力!$ED104=\"\",\"\",入力!$ED104)","v":""},null,null,null,null,null,null,{"$f":"IF(入力!GI34=\"\",IF(入力!GI80=\"\",\"\",入力!GI80),入力!GI34)","v":""}]
[null,2,null,{"$f":"IF(入力!$D14=\"\",\"\",入力!$D14)","v":""},null,null,null,null,null,null,null,{"$f":"IF(入力!$R14=\"\",\"\",入力!$R14)","v":""},null,null,null,{"$f":"IF(入力!$DH35=\"\",\"\",入力!$DH35)","v":""},null,null,null,{"$f":"IF(入力!$DP35=\"\",\"\",入力!$DP35)","v":""},null,null,null,null,null,null,{"$f":"IF(入力!$DW35=\"\",\"\",入力!$DW35)","v":""},null,null,null,null,null,null,null,null,null,null,null,null,null,{"$f":"IF(入力!$DH58=\"\",\"\",入力!$DH58)","v":""},null,null,null,{"$f":"IF(入力!$DP58=\"\",\"\",入力!$DP58)","v":""},null,null,null,null,null,null,{"$f":"IF(入力!$DW58=\"\",\"\",入力!$DW58)","v":""},null,null,null,null,null,null,{"$f":"IF(入力!$DH81=\"\",\"\",入力!$DH81)","v":""},null,null,null,{"$f":"IF(入力!$DP81=\"\",\"\",入力!$DP81)","v":""},null,null,null,null,null,null,{"$f":"IF(入力!$DW81=\"\",\"\",入力!$DW81)","v":""},null,null,null,null,null,null,{"$f":"IF(入力!$DH105=\"\",\"\",入力!$DH105)","v":""},null,null,null,{"$f":"IF(入力!$DP105=\"\",\"\",入力!$DP105)","v":""},null,null,null,null,null,null,{"$f":"IF(入力!$DW105=\"\",\"\",入力!$DW105)","v":""},null,null,null,null,null,null,{"$f":"IF(入力!$ED105=\"\",\"\",入力!$ED105)","v":""},null,null,null,null,null,null,{"$f":"IF(入力!GI35=\"\",IF(入力!GI81=\"\",\"\",入力!GI81),入力!GI35)","v":""}]
[null,3,null,{"$f":"IF(入力!$D15=\"\",\"\",入力!$D15)","v":""},null,null,null,null,null,null,null,{"$f":"IF(入力!$R15=\"\",\"\",入力!$R15)","v":""},null,null,null,{"$f":"IF(入力!$DH36=\"\",\"\",入力!$DH36)","v":""},null,null,null,{"$f":"IF(入力!$DP36=\"\",\"\",入力!$DP36)","v":""},null,null,null,null,null,null,{"$f":"IF(入力!$DW36=\"\",\"\",入力!$DW36)","v":""},null,null,null,null,null,null,null,null,null,null,null,null,null,{"$f":"IF(入力!$DH59=\"\",\"\",入力!$DH59)","v":""},null,null,null,{"$f":"IF(入力!$DP59=\"\",\"\",入力!$DP59)","v":""},null,null,null,null,null,null,{"$f":"IF(入力!$DW59=\"\",\"\",入力!$DW59)","v":""},null,null,null,null,null,null,{"$f":"IF(入力!$DH82=\"\",\"\",入力!$DH82)","v":""},null,null,null,{"$f":"IF(入力!$DP82=\"\",\"\",入力!$DP82)","v":""},null,null,null,null,null,null,{"$f":"IF(入力!$DW82=\"\",\"\",入力!$DW82)","v":""},null,null,null,null,null,null,{"$f":"IF(入力!$DH106=\"\",\"\",入力!$DH106)","v":""},null,null,null,{"$f":"IF(入力!$DP106=\"\",\"\",入力!$DP106)","v":""},null,null,null,null,null,null,{"$f":"IF(入力!$DW106=\"\",\"\",入力!$DW106)","v":""},null,null,null,null,null,null,{"$f":"IF(入力!$ED106=\"\",\"\",入力!$ED106)","v":""},null,null,null,null,null,null,{"$f":"IF(入力!GI36=\"\",IF(入力!GI82=\"\",\"\",入力!GI82),入力!GI36)","v":""}]
[null,4,null,{"$f":"IF(入力!$D16=\"\",\"\",入力!$D16)","v":""},null,null,null,null,null,null,null,{"$f":"IF(入力!$R16=\"\",\"\",入力!$R16)","v":""},null,null,null,{"$f":"IF(入力!$DH37=\"\",\"\",入力!$DH37)","v":""},null,null,null,{"$f":"IF(入力!$DP37=\"\",\"\",入力!$DP37)","v":""},null,null,null,null,null,null,{"$f":"IF(入力!$DW37=\"\",\"\",入力!$DW37)","v":""},null,null,null,null,null,null,null,null,null,null,null,null,null,{"$f":"IF(入力!$DH60=\"\",\"\",入力!$DH60)","v":""},null,null,null,{"$f":"IF(入力!$DP60=\"\",\"\",入力!$DP60)","v":""},null,null,null,null,null,null,{"$f":"IF(入力!$DW60=\"\",\"\",入力!$DW60)","v":""},null,null,null,null,null,null,{"$f":"IF(入力!$DH83=\"\",\"\",入力!$DH83)","v":""},null,null,null,{"$f":"IF(入力!$DP83=\"\",\"\",入力!$DP83)","v":""},null,null,null,null,null,null,{"$f":"IF(入力!$DW83=\"\",\"\",入力!$DW83)","v":""},null,null,null,null,null,null,{"$f":"IF(入力!$DH107=\"\",\"\",入力!$DH107)","v":""},null,null,null,{"$f":"IF(入力!$DP107=\"\",\"\",入力!$DP107)","v":""},null,null,null,null,null,null,{"$f":"IF(入力!$DW107=\"\",\"\",入力!$DW107)","v":""},null,null,null,null,null,null,{"$f":"IF(入力!$ED107=\"\",\"\",入力!$ED107)","v":""},null,null,null,null,null,null,{"$f":"IF(入力!GI37=\"\",IF(入力!GI83=\"\",\"\",入力!GI83),入力!GI37)","v":""}]
[null,5,null,{"$f":"IF(入力!$D17=\"\",\"\",入力!$D17)","v":""},null,null,null,null,null,null,null,{"$f":"IF(入力!$R17=\"\",\"\",入力!$R17)","v":""},null,null,null,{"$f":"IF(入力!$DH38=\"\",\"\",入力!$DH38)","v":""},null,null,null,{"$f":"IF(入力!$DP38=\"\",\"\",入力!$DP38)","v":""},null,null,null,null,null,null,{"$f":"IF(入力!$DW38=\"\",\"\",入力!$DW38)","v":""},null,null,null,null,null,null,null,null,null,null,null,null,null,{"$f":"IF(入力!$DH61=\"\",\"\",入力!$DH61)","v":""},null,null,null,{"$f":"IF(入力!$DP61=\"\",\"\",入力!$DP61)","v":""},null,null,null,null,null,null,{"$f":"IF(入力!$DW61=\"\",\"\",入力!$DW61)","v":""},null,null,null,null,null,null,{"$f":"IF(入力!$DH84=\"\",\"\",入力!$DH84)","v":""},null,null,null,{"$f":"IF(入力!$DP84=\"\",\"\",入力!$DP84)","v":""},null,null,null,null,null,null,{"$f":"IF(入力!$DW84=\"\",\"\",入力!$DW84)","v":""},null,null,null,null,null,null,{"$f":"IF(入力!$DH108=\"\",\"\",入力!$DH108)","v":""},null,null,null,{"$f":"IF(入力!$DP108=\"\",\"\",入力!$DP108)","v":""},null,null,null,null,null,null,{"$f":"IF(入力!$DW108=\"\",\"\",入力!$DW108)","v":""},null,null,null,null,null,null,{"$f":"IF(入力!$ED108=\"\",\"\",入力!$ED108)","v":""},null,null,null,null,null,null,{"$f":"IF(入力!GI38=\"\",IF(入力!GI84=\"\",\"\",入力!GI84),入力!GI38)","v":""}]
[null,6,null,{"$f":"IF(入力!$D18=\"\",\"\",入力!$D18)","v":""},null,null,null,null,null,null,null,{"$f":"IF(入力!$R18=\"\",\"\",入力!$R18)","v":""},null,null,null,{"$f":"IF(入力!$DH39=\"\",\"\",入力!$DH39)","v":""},null,null,null,{"$f":"IF(入力!$DP39=\"\",\"\",入力!$DP39)","v":""},null,null,null,null,null,null,{"$f":"IF(入力!$DW39=\"\",\"\",入力!$DW39)","v":""},null,null,null,null,null,null,null,null,null,null,null,null,null,{"$f":"IF(入力!$DH62=\"\",\"\",入力!$DH62)","v":""},null,null,null,{"$f":"IF(入力!$DP62=\"\",\"\",入力!$DP62)","v":""},null,null,null,null,null,null,{"$f":"IF(入力!$DW62=\"\",\"\",入力!$DW62)","v":""},null,null,null,null,null,null,{"$f":"IF(入力!$DH85=\"\",\"\",入力!$DH85)","v":""},null,null,null,{"$f":"IF(入力!$DP85=\"\",\"\",入力!$DP85)","v":""},null,null,null,null,null,null,{"$f":"IF(入力!$DW85=\"\",\"\",入力!$DW85)","v":""},null,null,null,null,null,null,{"$f":"IF(入力!$DH109=\"\",\"\",入力!$DH109)","v":""},null,null,null,{"$f":"IF(入力!$DP109=\"\",\"\",入力!$DP109)","v":""},null,null,null,null,null,null,{"$f":"IF(入力!$DW109=\"\",\"\",入力!$DW109)","v":""},null,null,null,null,null,null,{"$f":"IF(入力!$ED109=\"\",\"\",入力!$ED109)","v":""},null,null,null,null,null,null,{"$f":"IF(入力!GI39=\"\",IF(入力!GI85=\"\",\"\",入力!GI85),入力!GI39)","v":""}]
[null,7,null,{"$f":"IF(入力!$D19=\"\",\"\",入力!$D19)","v":""},null,null,null,null,null,null,null,{"$f":"IF(入力!$R19=\"\",\"\",入力!$R19)","v":""},null,null,null,{"$f":"IF(入力!$DH40=\"\",\"\",入力!$DH40)","v":""},null,null,null,{"$f":"IF(入力!$DP40=\"\",\"\",入力!$DP40)","v":""},null,null,null,null,null,null,{"$f":"IF(入力!$DW40=\"\",\"\",入力!$DW40)","v":""},null,null,null,null,null,null,null,null,null,null,null,null,null,{"$f":"IF(入力!$DH63=\"\",\"\",入力!$DH63)","v":""},null,null,null,{"$f":"IF(入力!$DP63=\"\",\"\",入力!$DP63)","v":""},null,null,null,null,null,null,{"$f":"IF(入力!$DW63=\"\",\"\",入力!$DW63)","v":""},null,null,null,null,null,null,{"$f":"IF(入力!$DH86=\"\",\"\",入力!$DH86)","v":""},null,null,null,{"$f":"IF(入力!$DP86=\"\",\"\",入力!$DP86)","v":""},null,null,null,null,null,null,{"$f":"IF(入力!$DW86=\"\",\"\",入力!$DW86)","v":""},null,null,null,null,null,null,{"$f":"IF(入力!$DH110=\"\",\"\",入力!$DH110)","v":""},null,null,null,{"$f":"IF(入力!$DP110=\"\",\"\",入力!$DP110)","v":""},null,null,null,null,null,null,{"$f":"IF(入力!$DW110=\"\",\"\",入力!$DW110)","v":""},null,null,null,null,null,null,{"$f":"IF(入力!$ED110=\"\",\"\",入力!$ED110)","v":""},null,null,null,null,null,null,{"$f":"IF(入力!GI40=\"\",IF(入力!GI86=\"\",\"\",入力!GI86),入力!GI40)","v":""}]
[null,8,null,{"$f":"IF(入力!$D20=\"\",\"\",入力!$D20)","v":""},null,null,null,null,null,null,null,{"$f":"IF(入力!$R20=\"\",\"\",入力!$R20)","v":""},null,null,null,{"$f":"IF(入力!$DH41=\"\",\"\",入力!$DH41)","v":""},null,null,null,{"$f":"IF(入力!$DP41=\"\",\"\",入力!$DP41)","v":""},null,null,null,null,null,null,{"$f":"IF(入力!$DW41=\"\",\"\",入力!$DW41)","v":""},null,null,null,null,null,null,null,null,null,null,null,null,null,{"$f":"IF(入力!$DH64=\"\",\"\",入力!$DH64)","v":""},null,null,null,{"$f":"IF(入力!$DP64=\"\",\"\",入力!$DP64)","v":""},null,null,null,null,null,null,{"$f":"IF(入力!$DW64=\"\",\"\",入力!$DW64)","v":""},null,null,null,null,null,null,{"$f":"IF(入力!$DH87=\"\",\"\",入力!$DH87)","v":""},null,null,null,{"$f":"IF(入力!$DP87=\"\",\"\",入力!$DP87)","v":""},null,null,null,null,null,null,{"$f":"IF(入力!$DW87=\"\",\"\",入力!$DW87)","v":""},null,null,null,null,null,null,{"$f":"IF(入力!$DH111=\"\",\"\",入力!$DH111)","v":""},null,null,null,{"$f":"IF(入力!$DP111=\"\",\"\",入力!$DP111)","v":""},null,null,null,null,null,null,{"$f":"IF(入力!$DW111=\"\",\"\",入力!$DW111)","v":""},null,null,null,null,null,null,{"$f":"IF(入力!$ED111=\"\",\"\",入力!$ED111)","v":""},null,null,null,null,null,null,{"$f":"IF(入力!GI41=\"\",IF(入力!GI87=\"\",\"\",入力!GI87),入力!GI41)","v":""}]
[null,9,null,{"$f":"IF(入力!$D21=\"\",\"\",入力!$D21)","v":""},null,null,null,null,null,null,null,{"$f":"IF(入力!$R21=\"\",\"\",入力!$R21)","v":""},null,null,null,{"$f":"IF(入力!$DH42=\"\",\"\",入力!$DH42)","v":""},null,null,null,{"$f":"IF(入力!$DP42=\"\",\"\",入力!$DP42)","v":""},null,null,null,null,null,null,{"$f":"IF(入力!$DW42=\"\",\"\",入力!$DW42)","v":""},null,null,null,null,null,null,null,null,null,null,null,null,null,{"$f":"IF(入力!$DH65=\"\",\"\",入力!$DH65)","v":""},null,null,null,{"$f":"IF(入力!$DP65=\"\",\"\",入力!$DP65)","v":""},null,null,null,null,null,null,{"$f":"IF(入力!$DW65=\"\",\"\",入力!$DW65)","v":""},null,null,null,null,null,null,{"$f":"IF(入力!$DH88=\"\",\"\",入力!$DH88)","v":""},null,null,null,{"$f":"IF(入力!$DP88=\"\",\"\",入力!$DP88)","v":""},null,null,null,null,null,null,{"$f":"IF(入力!$DW88=\"\",\"\",入力!$DW88)","v":""},null,null,null,null,null,null,{"$f":"IF(入力!$DH112=\"\",\"\",入力!$DH112)","v":""},null,null,null,{"$f":"IF(入力!$DP112=\"\",\"\",入力!$DP112)","v":""},null,null,null,null,null,null,{"$f":"IF(入力!$DW112=\"\",\"\",入力!$DW112)","v":""},null,null,null,null,null,null,{"$f":"IF(入力!$ED112=\"\",\"\",入力!$ED112)","v":""},null,null,null,null,null,null,{"$f":"IF(入力!GI42=\"\",IF(入力!GI88=\"\",\"\",入力!GI88),入力!GI42)","v":""}]
[null,10,null,{"$f":"IF(入力!$D22=\"\",\"\",入力!$D22)","v":""},null,null,null,null,null,null,null,{"$f":"IF(入力!$R22=\"\",\"\",入力!$R22)","v":""},null,null,null,{"$f":"IF(入力!$DH43=\"\",\"\",入力!$DH43)","v":""},null,null,null,{"$f":"IF(入力!$DP43=\"\",\"\",入力!$DP43)","v":""},null,null,null,null,null,null,{"$f":"IF(入力!$DW43=\"\",\"\",入力!$DW43)","v":""},null,null,null,null,null,null,null,null,null,null,null,null,null,{"$f":"IF(入力!$DH66=\"\",\"\",入力!$DH66)","v":""},null,null,null,{"$f":"IF(入力!$DP66=\"\",\"\",入力!$DP66)","v":""},null,null,null,null,null,null,{"$f":"IF(入力!$DW66=\"\",\"\",入力!$DW66)","v":""},null,null,null,null,null,null,{"$f":"IF(入力!$DH89=\"\",\"\",入力!$DH89)","v":""},null,null,null,{"$f":"IF(入力!$DP89=\"\",\"\",入力!$DP89)","v":""},null,null,null,null,null,null,{"$f":"IF(入力!$DW89=\"\",\"\",入力!$DW89)","v":""},null,null,null,null,null,null,{"$f":"IF(入力!$DH113=\"\",\"\",入力!$DH113)","v":""},null,null,null,{"$f":"IF(入力!$DP113=\"\",\"\",入力!$DP113)","v":""},null,null,null,null,null,null,{"$f":"IF(入力!$DW113=\"\",\"\",入力!$DW113)","v":""},null,null,null,null,null,null,{"$f":"IF(入力!$ED113=\"\",\"\",入力!$ED113)","v":""},null,null,null,null,null,null,{"$f":"IF(入力!GI43=\"\",IF(入力!GI89=\"\",\"\",入力!GI89),入力!GI43)","v":""}]
[null,null,null,"合計",null,null,null,null,null,null,null,null,null,null,null,null,null,null,null,{"$f":"SUM(T14:Z23)","v":0},null,null,null,null,null,null,{"$f":"SUM(AA14:AG23)","v":0},null,null,null,null,null,null,{"$f":"SUM(AH14:AN23)","v":0},null,null,null,null,null,null,null,null,null,null,{"$f":"SUM(AS14:AY23)","v":0},null,null,null,null,null,null,{"$f":"SUM(AZ14:BF23)","v":0},null,null,null,null,null,null,null,null,null,null,{"$f":"SUM(BK14:BQ23)","v":0},null,null,null,null,null,null,{"$f":"SUM(BR14:BX23)","v":0},null,null,null,null,null,null,null,null,null,null,{"$f":"SUM(CC14:CI23)","v":0},null,null,null,null,null,null,{"$f":"SUM(CJ14:CP23)","v":0},null,null,null,null,null,null,{"$f":"SUM(CQ14:CW23)","v":0},null,null,null,null,null,null,"←それぞれの金額は，軽減及び月割り後\n　の金額です。"]
[null,null,null,null,null,null,null,null,null,null,null,null,null,null,null,null,null,null,null,{"$f":"SUM(T24:AN24)","v":0},null,null,null,null,null,null,null,null,null,null,null,null,null,null,null,null,null,null,null,null,null,null,null,null,{"$f":"SUM(AS24:BF24)","v":0},null,null,null,null,null,null,null,null,null,null,null,null,null,null,null,null,null,{"$f":"SUM(BK24:BX24)","v":0},null,null,null,null,null,null,null,null,null,null,null,null,null,null,null,null,null,{"$f":"SUM(CC24:CW24)","v":0}]
[null,null,null,"税額\n(限度・端数調整後)",null,null,null,null,null,null,null,null,null,null,null,{"$f":"SUM(入力!ED46)","v":0},null,null,null,null,null,null,null,null,null,null,null,null,null,null,null,null,null,null,null,null,null,null,null,null,{"$f":"SUM(入力!ED69)","v":0},null,null,null,null,null,null,null,null,null,null,null,null,null,null,null,null,null,{"$f":"SUM(入力!ED92)","v":0},null,null,null,null,null,null,null,null,null,null,null,null,null,null,null,null,null,{"$f":"SUM(入力!ED116)","v":0}]
[null,null,null,"総合計",null,null,null,null,null,null,null,null,null,null,null,{"$f":"SUM(P26:CW26)","v":0}]

{"sheet":"国民健康保険税軽減早見表H26から","index":3,"n_rows":36,"n_cols":47,"rows_kept":36,"cut":false,"hidden":true,"merged":[[10,20,10,44],[10,45,10,46],[14,16,14,39],[14,40,14,45],[14,46,14,47],[35,32,36,38],[9,11,9,37],[35,4,36,10],[35,11,36,17],[35,18,36,24],[35,25,36,31],[33,32,33,38],[34,4,34,10],[34,11,34,17],[34,18,34,24],[34,25,34,31],[34,32,34,38],[33,4,33,10],[33,11,33,17],[33,18,33,24],[33,25,33,31],[31,32,31,38],[32,4,32,10],[32,11,32,17],[32,18,32,24],[32,25,32,31],[32,32,32,38],[31,4,31,10],[31,11,31,17],[31,18,31,24],[31,25,31,31],[29,32,29,38],[30,4,30,10],[30,11,30,17],[30,18,30,24],[30,25,30,31],[30,32,30,38],[29,4,29,10],[29,11,29,17],[29,18,29,24],[29,25,29,31],[27,32,27,38],[28,4,28,10],[28,11,28,17],[28,18,28,24],[28,25,28,31],[28,32,28,38],[27,4,27,10],[27,11,27,17],[27,18,27,24],[27,25,27,31],[26,4,26,10],[26,11,26,17],[26,18,26,24],[26,25,26,31],[26,32,26,38],[21,32,24,38],[22,11,24,17],[22,18,24,24],[22,25,24,31],[25,4,25,10],[25,11,25,17],[25,18,25,24],[25,25,25,31],[21,4,24,10],[21,11,21,17],[21,18,21,24],[21,25,21,31],[25,32,25,38],[12,5,12,10],[12,11,12,13],[16,4,16,38],[16,39,16,46],[19,4,19,38],[19,39,19,46],[17,4,17,38],[17,39,17,46],[18,4,18,38],[18,39,18,46],[12,14,12,38],[12,39,12,40],[6,5,6,10],[6,11,6,37],[6,38,6,43],[6,44,6,46],[9,5,9,10],[9,38,9,43],[9,44,9,46],[7,20,7,44],[7,45,7,46]]}
[]
[null,null,"軽減判定基準額の求め方"]
[null,null,"※１：判定となる世帯の所得金額とは，擬主を含む世帯主，被保険者及び特定同一世帯所属者数の所得の合計額"]
[null,null,"※２：特定同一世帯所属者とは，国民健康保険から後期高齢者医療制度に移行した方"]
[null,null,"※３：一定の給与所得者（給与収入55万円超）又は公的年金等の支給（60万円超（65歳未満）又は110万円超（65歳以上））を受ける者"]
[null,null,"　●２割軽減基準額　世帯の所得金額の合計が"]
[null,null,null,null,null,430000,null,null,null,null,null,"円＋｛（被保険者＋特定同一世帯所属者数）×",null,null,null,null,null,null,null,null,null,null,null,null,null,null,null,null,null,null,null,null,null,null,null,null,null,null,570000,null,null,null,null,null,"円｝"]
[null,null,null,null,null,null,null,null,null,null,null,null,null,null,null,null,null,null,null,null,"＋10万円×（給与所得者※-1）",null,null,null,null,null,null,null,null,null,null,null,null,null,null,null,null,null,null,null,null,null,null,null,null,"円"]
[null,null,"　●５割軽減基準額　世帯の所得の合計が，"]
[null,null,null,null,null,430000,null,null,null,null,null,"円＋｛（被保険者＋特定同一世帯所属者数）×",null,null,null,null,null,null,null,null,null,null,null,null,null,null,null,null,null,null,null,null,null,null,null,null,null,null,310000,null,null,null,null,null,"円｝"]
[null,null,null,null,null,null,null,null,null,null,null,null,null,null,null,null,null,null,null,null,"＋10万円×（給与所得者※-1）",null,null,null,null,null,null,null,null,null,null,null,null,null,null,null,null,null,null,null,null,null,null,null,null,"円"]
[null,null,"　●７割軽減基準額　世帯の所得の合計が，"]
[null,null,null,null,null,430000,null,null,null,null,null,"円",null,null,"＋10万円×（給与所得者※-1）",null,null,null,null,null,null,null,null,null,null,null,null,null,null,null,null,null,null,null,null,null,null,null,null,"円"]
[]
[null,null,"軽減判定基準額表",null,null,null,null,null,null,null,null,null,null,null,null,null,"※３の人数",null,null,null,null,null,null,null,null,null,null,null,null,null,null,null,null,null,null,null,null,null,null,null,{"$f":"SUM(入力!GE25)","v":0},null,null,null,null,null,"人"]
[null,null,"　※世帯の所得合計金額 ＝ 擬主を含む世帯主 ＋ 被保険者 ＋ 特定同一世帯所属者数"]
[null,null,null,null,null,null,null,null,null,null,null,null,null,null,null,null,null,null,null,null,null,null,null,null,null,null,null,null,null,null,null,null,null,null,null,null,null,null,null,"入力シートから"]
[null,null,null,null,"世帯の軽減判定所得",null,null,null,null,null,null,null,null,null,null,null,null,null,null,null,null,null,null,null,null,null,null,null,null,null,null,null,null,null,null,null,null,null,null,{"$f":"SUM(入力!AU4)","v":0}]
[null,null,null,null,"被保険者数＋特定同一世帯所属者数",null,null,null,null,null,null,null,null,null,null,null,null,null,null,null,null,null,null,null,null,null,null,null,null,null,null,null,null,null,null,null,null,null,null,{"$f":"SUM(入力!P5)","v":0}]
[null,null,null,null,"判定結果",null,null,null,null,null,null,null,null,null,null,null,null,null,null,null,null,null,null,null,null,null,null,null,null,null,null,null,null,null,null,null,null,null,null,{"$f":"IF(SUM(AN19)=0,\"\",VLOOKUP(SUM(AN19),$E$26:$AM$35,29,FALSE))","v":""}]
[null,null,null,null,"※基準額は以下で判定"]
[null,null,null,null,"被保険者数\n＋\n特定同一世帯\n所属者数",null,null,null,null,null,null,"２割軽減世帯",null,null,null,null,null,null,"５割軽減世帯",null,null,null,null,null,null,"７割軽減世帯",null,null,null,null,null,null,"入力\nシートの判定"]
[null,null,null,null,null,null,null,null,null,null,null,null,null,null,null,null,null,null,"被保険者又は特定同一世帯所属者に世帯主がいない場合"]
[]
[]
[null,null,null,null,1,null,null,null,null,null,null,{"$f":"$F$7+$E26*$AM$7+IF(SUM($AO$15)<=1,0,100000*($AO$15-1))","v":1000000},null,null,null,null,null,null,{"$f":"$F$10+$E26*$AM$10+IF(SUM($AO$15)<=1,0,100000*($AO$15-1))","v":740000},null,null,null,null,null,null,{"$f":"$F$13+IF(SUM($AO$15)<=0,0,100000*($AO$15-1))","v":430000},null,null,null,null,null,null,{"$f":"IF($AN$19=$E26,IF($AN$18>$L26,\"\",IF($AN$18<=$Z26,$Z$22,IF($AN$18<=$S26,$S$22,IF($AN$18<=$L26,$L$22,\"\")))),\"\")","v":""}]
[null,null,null,null,2,null,null,null,null,null,null,{"$f":"$F$7+$E27*$AM$7+IF(SUM($AO$15)<=1,0,100000*($AO$15-1))","v":1570000},null,null,null,null,null,null,{"$f":"$F$10+$E27*$AM$10+IF(SUM($AO$15)<=1,0,100000*($AO$15-1))","v":1050000},null,null,null,null,null,null,{"$f":"$F$13+IF(SUM($AO$15)<=0,0,100000*($AO$15-1))","v":430000},null,null,null,null,null,null,""]
[null,null,null,null,3,null,null,null,null,null,null,2140000,null,null,null,null,null,null,1360000,null,null,null,null,null,null,430000,null,null,null,null,null,null,""]
[null,null,null,null,4,null,null,null,null,null,null,2710000,null,null,null,null,null,null,1670000,null,null,null,null,null,null,430000,null,null,null,null,null,null,""]
[null,null,null,null,5,null,null,null,null,null,null,3280000,null,null,null,null,null,null,1980000,null,null,null,null,null,null,430000,null,null,null,null,null,null,""]
[null,null,null,null,6,null,null,null,null,null,null,3850000,null,null,null,null,null,null,2290000,null,null,null,null,null,null,430000,null,null,null,null,null,null,""]
[null,null,null,null,7,null,null,null,null,null,null,4420000,null,null,null,null,null,null,2600000,null,null,null,null,null,null,430000,null,null,null,null,null,null,""]
[null,null,null,null,8,null,null,null,null,null,null,4990000,null,null,null,null,null,null,2910000,null,null,null,null,null,null,430000,null,null,null,null,null,null,""]
[null,null,null,null,9,null,null,null,null,null,null,5560000,null,null,null,null,null,null,3220000,null,null,null,null,null,null,430000,null,null,null,null,null,null,""]
[null,null,null,null,10,null,null,null,null,null,null,6130000,null,null,null,null,null,null,3530000,null,null,null,null,null,null,430000,null,null,null,null,null,null,""]
[null,null,null,null,"以下１人増\nすごとに加算",null,null,null,null,null,null,{"$f":"SUM($AM$7)","v":570000},null,null,null,null,null,null,{"$f":"SUM($AM$10)","v":310000},null,null,null,null,null,null,"加算なし",null,null,null,null,null,null,"***********"]

{"sheet":"所得計算","index":4,"n_rows":39,"n_cols":77,"rows_kept":39,"cut":false,"hidden":true,"merged":[[2,56,2,65],[2,67,2,76],[7,8,7,14],[7,15,7,21],[6,15,6,21],[6,22,6,25],[9,8,9,14],[9,15,9,21],[9,22,9,25],[2,27,2,28],[35,27,35,32],[2,1,2,25],[3,22,4,25],[5,22,5,25],[6,1,6,7],[6,8,6,14],[5,1,5,7],[5,8,5,14],[5,15,5,21],[3,1,4,7],[3,8,3,14],[3,15,3,21],[4,8,4,14],[4,15,4,21],[7,22,7,25],[7,1,7,7],[10,15,10,21],[20,0,21,2],[22,0,23,2],[24,0,25,2],[10,22,10,25],[10,1,10,7],[10,8,10,14],[9,1,9,7],[8,1,8,7],[8,8,8,14],[8,15,8,21],[8,22,8,25],[13,8,13,14],[13,15,13,21],[13,22,13,25],[13,1,13,7],[12,1,12,7],[12,8,12,14],[12,15,12,21],[12,22,12,25],[11,22,11,25],[11,1,11,7],[11,8,11,14],[11,15,11,21],[20,3,21,13],[20,14,21,21],[22,3,23,13],[20,28,21,29],[15,27,15,33],[32,30,32,33],[33,30,33,33],[14,15,14,21],[14,22,14,25],[14,1,14,7],[14,8,14,14],[23,30,23,33],[24,30,24,33],[29,30,29,33],[30,30,30,33],[31,30,31,33],[23,27,28,27],[28,30,28,33],[29,27,34,27],[34,30,34,33],[30,0,31,2],[32,0,33,2],[34,0,35,2],[24,3,25,13],[27,30,27,33],[8,29,8,33],[9,29,9,33],[13,29,13,33],[14,29,14,33],[2,29,3,33],[4,29,4,33],[5,29,5,33],[6,29,6,33],[7,29,7,33],[11,31,11,33],[12,31,12,33],[11,29,12,30],[10,29,10,33],[20,27,22,27],[20,30,22,33],[28,0,29,2],[36,3,37,13],[38,3,39,13],[22,14,23,21],[24,14,25,21],[26,14,27,21],[28,14,29,21],[30,14,31,21],[32,14,33,21],[34,14,35,21],[36,14,37,21],[38,14,39,21],[26,3,27,13],[28,3,29,13],[30,3,31,13],[32,3,33,13],[34,3,35,13],[36,0,37,2],[38,0,39,2],[26,0,27,2],[25,30,25,33],[26,30,26,33]]}
[]
[null,null,null,null,null,null,null,null,null,null,null,null,null,null,null,null,null,null,null,null,null,null,null,null,null,null,null,"給与所得計算",null,null,null,null,null,null,1,2,3,4,5,6,7,8,9,10,null,"専給1","専給2","専給3","専給4","専給5","専給6","専給7","専給8","専給9","専給10"]
[null,"年齢計算",null,null,null,null,null,null,null,null,null,null,null,null,null,null,null,null,null,null,null,null,null,null,null,null,null,"給与収入金額",null,"所得金額\nの計算",null,null,null,null,{"$f":"IF(入力!$X13=\"\",\"\",SUM(入力!$X13))","v":""},{"$f":"IF(入力!$X14=\"\",\"\",SUM(入力!$X14))","v":""},{"$f":"IF(入力!$X15=\"\",\"\",SUM(入力!$X15))","v":""},{"$f":"IF(入力!$X16=\"\",\"\",SUM(入力!$X16))","v":""},{"$f":"IF(入力!$X17=\"\",\"\",SUM(入力!$X17))","v":""},{"$f":"IF(入力!$X18=\"\",\"\",SUM(入力!$X18))","v":""},{"$f":"IF(入力!$X19=\"\",\"\",SUM(入力!$X19))","v":""},{"$f":"IF(入力!$X20=\"\",\"\",SUM(入力!$X20))","v":""},{"$f":"IF(入力!$X21=\"\",\"\",SUM(入力!$X21))","v":""},{"$f":"IF(入力!$X22=\"\",\"\",SUM(入力!$X22))","v":""},null,{"$f":"IF(入力!$BT13=\"\",\"\",SUM(入力!$BT13))","v":""},{"$f":"IF(入力!$BT14=\"\",\"\",SUM(入力!$BT14))","v":""},{"$f":"IF(入力!$BT15=\"\",\"\",SUM(入力!$BT15))","v":""},{"$f":"IF(入力!$BT16=\"\",\"\",SUM(入力!$BT16))","v":""},{"$f":"IF(入力!$BT17=\"\",\"\",SUM(入力!$BT17))","v":""},{"$f":"IF(入力!$BT18=\"\",\"\",SUM(入力!$BT18))","v":""},{"$f":"IF(入力!$BT19=\"\",\"\",SUM(入力!$BT19))","v":""},{"$f":"IF(入力!$BT20=\"\",\"\",SUM(入力!$BT20))","v":""},{"$f":"IF(入力!$BT21=\"\",\"\",SUM(入力!$BT21))","v":""},{"$f":"IF(入力!$BT22=\"\",\"\",SUM(入力!$BT22))","v":""},null,"給与所得控除後の給与所得",null,null,null,null,null,null,null,null,null,null,"給与所得控除後の給与所得（専従者給与）"]
[null,"生年月日",null,null,null,null,null,null,"今日現在",null,null,null,null,null,null,"年金基準日",null,null,null,null,null,null,"年金\n判定",null,null,null,null,"から","まで",null,null,null,null,null,{"$f":"IF(AI$3=\"\",\"\",IF(SUM(AI$5:AI$15)=0,\"\",SUM(AI$5:AI$15)))","v":""},{"$f":"IF(AJ$3=\"\",\"\",IF(SUM(AJ$5:AJ$15)=0,\"\",SUM(AJ$5:AJ$15)))","v":""},"","","","","","","","",null,{"$f":"IF(AT$3=\"\",\"\",IF(SUM(AT$5:AT$15)=0,\"\",SUM(AT$5:AT$15)))","v":""},{"$f":"IF(AU$3=\"\",\"\",IF(SUM(AU$5:AU$15)=0,\"\",SUM(AU$5:AU$15)))","v":""},"","","","","","","","",null,1,2,3,4,5,6,7,8,9,10,null,1,2,3,4,5,6,7,8,9,10]
[null,null,null,null,null,null,null,null,{"$f":"TODAY()","v":"2026-06-26"},null,null,null,null,null,null,{"$f":"VALUE(\"R\"&基本項目!$B$3&\".1.1\")","v":"2026-01-01"},null,null,null,null,null,null,null,null,null,null,null,0,650000,"0円",null,null,null,null,{"$f":"IF(AI$3=\"\",\"\",IF(BE5=\"\",\"\",SUM(BE5)-SUM(BE$16)))","v":""},"",{"$f":"IF(AK$3=\"\",\"\",IF(BG5=\"\",\"\",SUM(BG5)-SUM(BG$16)))","v":""},{"$f":"IF(AL$3=\"\",\"\",IF(BH5=\"\",\"\",SUM(BH5)-SUM(BH$16)))","v":""},{"$f":"IF(AM$3=\"\",\"\",IF(BI5=\"\",\"\",SUM(BI5)-SUM(BI$16)))","v":""},{"$f":"IF(AN$3=\"\",\"\",IF(BJ5=\"\",\"\",SUM(BJ5)-SUM(BJ$16)))","v":""},{"$f":"IF(AO$3=\"\",\"\",IF(BK5=\"\",\"\",SUM(BK5)-SUM(BK$16)))","v":""},{"$f":"IF(AP$3=\"\",\"\",IF(BL5=\"\",\"\",SUM(BL5)-SUM(BL$16)))","v":""},{"$f":"IF(AQ$3=\"\",\"\",IF(BM5=\"\",\"\",SUM(BM5)-SUM(BM$16)))","v":""},{"$f":"IF(AR$3=\"\",\"\",IF(BN5=\"\",\"\",SUM(BN5)-SUM(BN$16)))","v":""},null,{"$f":"IF(AT$3=\"\",\"\",IF(BP5=\"\",\"\",SUM(BP5)-SUM(BP$16)))","v":""},{"$f":"IF(AU$3=\"\",\"\",IF(BQ5=\"\",\"\",SUM(BQ5)-SUM(BQ$16)))","v":""},"","","","","","","","",null,{"$f":"IF(AI$3=\"\",\"\",IF(AND(AI$3>=$AB$5,AI$3<=$AC$5),0,\"\"))","v":""},{"$f":"IF(AJ$3=\"\",\"\",IF(AND(AJ$3>=$AB$5,AJ$3<=$AC$5),0,\"\"))","v":""},"","","","","","","","",null,{"$f":"IF(AT$3=\"\",\"\",IF(AND(AT$3>=$AB$5,AT$3<=$AC$5),0,\"\"))","v":""},{"$f":"IF(AU$3=\"\",\"\",IF(AND(AU$3>=$AB$5,AU$3<=$AC$5),0,\"\"))","v":""},{"$f":"IF(AV$3=\"\",\"\",IF(AND(AV$3>=$AB$5,AV$3<=$AC$5),0,\"\"))","v":""},{"$f":"IF(AW$3=\"\",\"\",IF(AND(AW$3>=$AB$5,AW$3<=$AC$5),0,\"\"))","v":""},{"$f":"IF(AX$3=\"\",\"\",IF(AND(AX$3>=$AB$5,AX$3<=$AC$5),0,\"\"))","v":""},{"$f":"IF(AY$3=\"\",\"\",IF(AND(AY$3>=$AB$5,AY$3<=$AC$5),0,\"\"))","v":""},{"$f":"IF(AZ$3=\"\",\"\",IF(AND(AZ$3>=$AB$5,AZ$3<=$AC$5),0,\"\"))","v":""},{"$f":"IF(BA$3=\"\",\"\",IF(AND(BA$3>=$AB$5,BA$3<=$AC$5),0,\"\"))","v":""},{"$f":"IF(BB$3=\"\",\"\",IF(AND(BB$3>=$AB$5,BB$3<=$AC$5),0,\"\"))","v":""},{"$f":"IF(BC$3=\"\",\"\",IF(AND(BC$3>=$AB$5,BC$3<=$AC$5),0,\"\"))","v":""}]
[null,{"$f":"IF(入力!$K13=\"\",\"\",入力!$K13)","v":""},null,null,null,null,null,null,{"$f":"IF($B6=\"\",\"\",IF($B6>I$5,\"\",DATEDIF($B6,I$5,\"Y\")))","v":""},null,null,null,null,null,null,{"$f":"IF(P$5=\"\",\"\",IF($B6=\"\",\"\",IF($B6>P$5,0,DATEDIF($B6,P$5,\"Y\"))))","v":""},null,null,null,null,null,null,{"$f":"IF(AND(入力!R13=\"\",P6=\"\"),\"\",IF(入力!R13=\"\",P6,入力!R13))","v":""},null,null,null,null,{"$f":"AC5+1","v":650001},1899999,"給与の収入金額から650,000円を控除した金額",null,null,null,null,"","","","","","","","","","",null,"","","","","","","","","","",null,{"$f":"IF(AI$3=\"\",\"\",IF(AND(AI$3>=$AB$6,AI$3<=$AC$6),AI$3-650000,\"\"))","v":""},"","","","","","","","","",null,{"$f":"IF(AT$3=\"\",\"\",IF(AND(AT$3>=$AB$6,AT$3<=$AC$6),AT$3-650000,\"\"))","v":""},"","","","","","","","",""]
[null,{"$f":"IF(入力!$K14=\"\",\"\",入力!$K14)","v":""},null,null,null,null,null,null,{"$f":"IF($B7=\"\",\"\",IF($B7>I$5,\"\",DATEDIF($B7,I$5,\"Y\")))","v":""},null,null,null,null,null,null,{"$f":"IF(P$5=\"\",\"\",IF($B7=\"\",\"\",IF($B7>P$5,0,DATEDIF($B7,P$5,\"Y\"))))","v":""},null,null,null,null,null,null,{"$f":"IF(AND(入力!R14=\"\",P7=\"\"),\"\",IF(入力!R14=\"\",P7,入力!R14))","v":""}]
[null,{"$f":"IF(入力!$K15=\"\",\"\",入力!$K15)","v":""},null,null,null,null,null,null,{"$f":"IF($B8=\"\",\"\",IF($B8>I$5,\"\",DATEDIF($B8,I$5,\"Y\")))","v":""},null,null,null,null,null,null,{"$f":"IF(P$5=\"\",\"\",IF($B8=\"\",\"\",IF($B8>P$5,0,DATEDIF($B8,P$5,\"Y\"))))","v":""},null,null,null,null,null,null,{"$f":"IF(AND(入力!R15=\"\",P8=\"\"),\"\",IF(入力!R15=\"\",P8,入力!R15))","v":""}]
[null,{"$f":"IF(入力!$K16=\"\",\"\",入力!$K16)","v":""},null,null,null,null,null,null,{"$f":"IF($B9=\"\",\"\",IF($B9>I$5,\"\",DATEDIF($B9,I$5,\"Y\")))","v":""},null,null,null,null,null,null,"",null,null,null,null,null,null,{"$f":"IF(AND(入力!R16=\"\",P9=\"\"),\"\",IF(入力!R16=\"\",P9,入力!R16))","v":""}]
[null,{"$f":"IF(入力!$K17=\"\",\"\",入力!$K17)","v":""},null,null,null,null,null,null,"",null,null,null,null,null,null,"",null,null,null,null,null,null,{"$f":"IF(AND(入力!R17=\"\",P10=\"\"),\"\",IF(入力!R17=\"\",P10,入力!R17))","v":""}]
[null,{"$f":"IF(入力!$K18=\"\",\"\",入力!$K18)","v":""},null,null,null,null,null,null,"",null,null,null,null,null,null,"",null,null,null,null,null,null,{"$f":"IF(AND(入力!R18=\"\",P11=\"\"),\"\",IF(入力!R18=\"\",P11,入力!R18))","v":""}]
[null,{"$f":"IF(入力!$K19=\"\",\"\",入力!$K19)","v":""},null,null,null,null,null,null,"",null,null,null,null,null,null,"",null,null,null,null,null,null,{"$f":"IF(AND(入力!R19=\"\",P12=\"\"),\"\",IF(入力!R19=\"\",P12,入力!R19))","v":""},null,null,null,null,{"$f":"AC6+1","v":1900000},3599999,"給与の収入金額を４で割り千円未満の端数切捨て（Ａ）",null,"Ａ×2.8－80,000円で求めた金額",null,null,"","","","","","","","","","",null,"","","","","","","","","","",null,{"$f":"IF(AI$3=\"\",\"\",IF(AND(AI$3>=$AB$12,AI$3<=$AC$12),ROUNDDOWN(ROUNDDOWN(AI$3/4,-3)*2.8,0)-80000,\"\"))","v":""},{"$f":"IF(AJ$3=\"\",\"\",IF(AND(AJ$3>=$AB$12,AJ$3<=$AC$12),ROUNDDOWN(ROUNDDOWN(AJ$3/4,-3)*2.8,0)-80000,\"\"))","v":""},"","","","","","","","",null,{"$f":"IF(AT$3=\"\",\"\",IF(AND(AT$3>=$AB$12,AT$3<=$AC$12),ROUNDDOWN(ROUNDDOWN(AT$3/4,-3)*2.8,0)-80000,\"\"))","v":""},{"$f":"IF(AU$3=\"\",\"\",IF(AND(AU$3>=$AB$12,AU$3<=$AC$12),ROUNDDOWN(ROUNDDOWN(AU$3/4,-3)*2.8,0)-80000,\"\"))","v":""},{"$f":"IF(AV$3=\"\",\"\",IF(AND(AV$3>=$AB$12,AV$3<=$AC$12),ROUNDDOWN(ROUNDDOWN(AV$3/4,-3)*2.8,0)-80000,\"\"))","v":""},{"$f":"IF(AW$3=\"\",\"\",IF(AND(AW$3>=$AB$12,AW$3<=$AC$12),ROUNDDOWN(ROUNDDOWN(AW$3/4,-3)*2.8,0)-80000,\"\"))","v":""},{"$f":"IF(AX$3=\"\",\"\",IF(AND(AX$3>=$AB$12,AX$3<=$AC$12),ROUNDDOWN(ROUNDDOWN(AX$3/4,-3)*2.8,0)-80000,\"\"))","v":""},{"$f":"IF(AY$3=\"\",\"\",IF(AND(AY$3>=$AB$12,AY$3<=$AC$12),ROUNDDOWN(ROUNDDOWN(AY$3/4,-3)*2.8,0)-80000,\"\"))","v":""},{"$f":"IF(AZ$3=\"\",\"\",IF(AND(AZ$3>=$AB$12,AZ$3<=$AC$12),ROUNDDOWN(ROUNDDOWN(AZ$3/4,-3)*2.8,0)-80000,\"\"))","v":""},{"$f":"IF(BA$3=\"\",\"\",IF(AND(BA$3>=$AB$12,BA$3<=$AC$12),ROUNDDOWN(ROUNDDOWN(BA$3/4,-3)*2.8,0)-80000,\"\"))","v":""},{"$f":"IF(BB$3=\"\",\"\",IF(AND(BB$3>=$AB$12,BB$3<=$AC$12),ROUNDDOWN(ROUNDDOWN(BB$3/4,-3)*2.8,0)-80000,\"\"))","v":""},{"$f":"IF(BC$3=\"\",\"\",IF(AND(BC$3>=$AB$12,BC$3<=$AC$12),ROUNDDOWN(ROUNDDOWN(BC$3/4,-3)*2.8,0)-80000,\"\"))","v":""}]
[null,{"$f":"IF(入力!$K20=\"\",\"\",入力!$K20)","v":""},null,null,null,null,null,null,"",null,null,null,null,null,null,"",null,null,null,null,null,null,{"$f":"IF(AND(入力!R20=\"\",P13=\"\"),\"\",IF(入力!R20=\"\",P13,入力!R20))","v":""},null,null,null,null,{"$f":"AC12+1","v":3600000},6599999,null,null,"Ａ×3.2－440,000円で求めた金額",null,null,"","","","","","","","","","",null,"","","","","","","","","","",null,{"$f":"IF(AI$3=\"\",\"\",IF(AND(AI$3>=$AB$13,AI$3<=$AC$13),ROUNDDOWN(ROUNDDOWN(AI$3/4,-3)*3.2,0)-440000,\"\"))","v":""},{"$f":"IF(AJ$3=\"\",\"\",IF(AND(AJ$3>=$AB$13,AJ$3<=$AC$13),ROUNDDOWN(ROUNDDOWN(AJ$3/4,-3)*3.2,0)-440000,\"\"))","v":""},"","","","","","","","",null,{"$f":"IF(AT$3=\"\",\"\",IF(AND(AT$3>=$AB$13,AT$3<=$AC$13),ROUNDDOWN(ROUNDDOWN(AT$3/4,-3)*3.2,0)-440000,\"\"))","v":""},{"$f":"IF(AU$3=\"\",\"\",IF(AND(AU$3>=$AB$13,AU$3<=$AC$13),ROUNDDOWN(ROUNDDOWN(AU$3/4,-3)*3.2,0)-440000,\"\"))","v":""},{"$f":"IF(AV$3=\"\",\"\",IF(AND(AV$3>=$AB$13,AV$3<=$AC$13),ROUNDDOWN(ROUNDDOWN(AV$3/4,-3)*3.2,0)-440000,\"\"))","v":""},{"$f":"IF(AW$3=\"\",\"\",IF(AND(AW$3>=$AB$13,AW$3<=$AC$13),ROUNDDOWN(ROUNDDOWN(AW$3/4,-3)*3.2,0)-440000,\"\"))","v":""},{"$f":"IF(AX$3=\"\",\"\",IF(AND(AX$3>=$AB$13,AX$3<=$AC$13),ROUNDDOWN(ROUNDDOWN(AX$3/4,-3)*3.2,0)-440000,\"\"))","v":""},{"$f":"IF(AY$3=\"\",\"\",IF(AND(AY$3>=$AB$13,AY$3<=$AC$13),ROUNDDOWN(ROUNDDOWN(AY$3/4,-3)*3.2,0)-440000,\"\"))","v":""},{"$f":"IF(AZ$3=\"\",\"\",IF(AND(AZ$3>=$AB$13,AZ$3<=$AC$13),ROUNDDOWN(ROUNDDOWN(AZ$3/4,-3)*3.2,0)-440000,\"\"))","v":""},{"$f":"IF(BA$3=\"\",\"\",IF(AND(BA$3>=$AB$13,BA$3<=$AC$13),ROUNDDOWN(ROUNDDOWN(BA$3/4,-3)*3.2,0)-440000,\"\"))","v":""},{"$f":"IF(BB$3=\"\",\"\",IF(AND(BB$3>=$AB$13,BB$3<=$AC$13),ROUNDDOWN(ROUNDDOWN(BB$3/4,-3)*3.2,0)-440000,\"\"))","v":""},{"$f":"IF(BC$3=\"\",\"\",IF(AND(BC$3>=$AB$13,BC$3<=$AC$13),ROUNDDOWN(ROUNDDOWN(BC$3/4,-3)*3.2,0)-440000,\"\"))","v":""}]
[null,{"$f":"IF(入力!$K21=\"\",\"\",入力!$K21)","v":""},null,null,null,null,null,null,"",null,null,null,null,null,null,"",null,null,null,null,null,null,{"$f":"IF(AND(入力!R21=\"\",P14=\"\"),\"\",IF(入力!R21=\"\",P14,入力!R21))","v":""},null,null,null,null,6600000,8499999,"給与の収入金額×0.9－1,100,000円で求めた金額",null,null,null,null,"","","","","","","","","","",null,"","","","","","","","","","",null,{"$f":"IF(AI$3=\"\",\"\",IF(AND(AI$3>=$AB$14,AI$3<=$AC$14),ROUNDDOWN(AI$3*0.9,0)-1100000,\"\"))","v":""},{"$f":"IF(AJ$3=\"\",\"\",IF(AND(AJ$3>=$AB$14,AJ$3<=$AC$14),ROUNDDOWN(AJ$3*0.9,0)-1100000,\"\"))","v":""},"","","","","","","","",null,{"$f":"IF(AT$3=\"\",\"\",IF(AND(AT$3>=$AB$14,AT$3<=$AC$14),ROUNDDOWN(AT$3*0.9,0)-1100000,\"\"))","v":""},{"$f":"IF(AU$3=\"\",\"\",IF(AND(AU$3>=$AB$14,AU$3<=$AC$14),ROUNDDOWN(AU$3*0.9,0)-1100000,\"\"))","v":""},{"$f":"IF(AV$3=\"\",\"\",IF(AND(AV$3>=$AB$14,AV$3<=$AC$14),ROUNDDOWN(AV$3*0.9,0)-1100000,\"\"))","v":""},{"$f":"IF(AW$3=\"\",\"\",IF(AND(AW$3>=$AB$14,AW$3<=$AC$14),ROUNDDOWN(AW$3*0.9,0)-1100000,\"\"))","v":""},{"$f":"IF(AX$3=\"\",\"\",IF(AND(AX$3>=$AB$14,AX$3<=$AC$14),ROUNDDOWN(AX$3*0.9,0)-1100000,\"\"))","v":""},{"$f":"IF(AY$3=\"\",\"\",IF(AND(AY$3>=$AB$14,AY$3<=$AC$14),ROUNDDOWN(AY$3*0.9,0)-1100000,\"\"))","v":""},{"$f":"IF(AZ$3=\"\",\"\",IF(AND(AZ$3>=$AB$14,AZ$3<=$AC$14),ROUNDDOWN(AZ$3*0.9,0)-1100000,\"\"))","v":""},{"$f":"IF(BA$3=\"\",\"\",IF(AND(BA$3>=$AB$14,BA$3<=$AC$14),ROUNDDOWN(BA$3*0.9,0)-1100000,\"\"))","v":""},{"$f":"IF(BB$3=\"\",\"\",IF(AND(BB$3>=$AB$14,BB$3<=$AC$14),ROUNDDOWN(BB$3*0.9,0)-1100000,\"\"))","v":""},{"$f":"IF(BC$3=\"\",\"\",IF(AND(BC$3>=$AB$14,BC$3<=$AC$14),ROUNDDOWN(BC$3*0.9,0)-1100000,\"\"))","v":""}]
[null,{"$f":"IF(入力!$K22=\"\",\"\",入力!$K22)","v":""},null,null,null,null,null,null,"",null,null,null,null,null,null,"",null,null,null,null,null,null,{"$f":"IF(AND(入力!R22=\"\",P15=\"\"),\"\",IF(入力!R22=\"\",P15,入力!R22))","v":""},null,null,null,null,{"$f":"AC14+1","v":8500000},null,"給与の収入金額－1,950,000円（※所得金額調整控除は別計算）",null,null,null,null,"","","","","","","","","","",null,"","","","","","","","","","",null,{"$f":"IF(AI$3=\"\",\"\",IF(AI$3>=$AB$15,AI$3-1950000,\"\"))","v":""},"","","","","","","","","",null,{"$f":"IF(AT$3=\"\",\"\",IF(AT$3>=$AB$15,AT$3-1950000,\"\"))","v":""},"","","","","","","","",""]
[null,null,null,null,null,null,null,null,null,null,null,null,null,null,null,null,null,null,null,null,null,null,null,null,null,null,null,"所得金額調整控除サイン",null,null,null,null,null,null,{"$f":"IF(入力!$AL$13=\"\",\"\",SUM(入力!$AL$13))","v":""},{"$f":"IF(入力!$AL$14=\"\",\"\",SUM(入力!$AL$14))","v":""},{"$f":"IF(入力!$AL$15=\"\",\"\",SUM(入力!$AL$15))","v":""},{"$f":"IF(入力!$AL$16=\"\",\"\",SUM(入力!$AL$16))","v":""},{"$f":"IF(入力!$AL$17=\"\",\"\",SUM(入力!$AL$17))","v":""},{"$f":"IF(入力!$AL$18=\"\",\"\",SUM(入力!$AL$18))","v":""},{"$f":"IF(入力!$AL$19=\"\",\"\",SUM(入力!$AL$19))","v":""},{"$f":"IF(入力!$AL$20=\"\",\"\",SUM(入力!$AL$20))","v":""},{"$f":"IF(入力!$AL$21=\"\",\"\",SUM(入力!$AL$21))","v":""},{"$f":"IF(入力!$AL$22=\"\",\"\",SUM(入力!$AL$22))","v":""},null,{"$f":"IF(入力!$AL$13=\"\",\"\",SUM(入力!$AL$13))","v":""},{"$f":"IF(入力!$AL$14=\"\",\"\",SUM(入力!$AL$14))","v":""},{"$f":"IF(入力!$AL$15=\"\",\"\",SUM(入力!$AL$15))","v":""},{"$f":"IF(入力!$AL$16=\"\",\"\",SUM(入力!$AL$16))","v":""},{"$f":"IF(入力!$AL$17=\"\",\"\",SUM(入力!$AL$17))","v":""},{"$f":"IF(入力!$AL$18=\"\",\"\",SUM(入力!$AL$18))","v":""},{"$f":"IF(入力!$AL$19=\"\",\"\",SUM(入力!$AL$19))","v":""},{"$f":"IF(入力!$AL$20=\"\",\"\",SUM(入力!$AL$20))","v":""},{"$f":"IF(入力!$AL$21=\"\",\"\",SUM(入力!$AL$21))","v":""},{"$f":"IF(入力!$AL$22=\"\",\"\",SUM(入力!$AL$22))","v":""},"所得金額調整控除→",{"$f":"IF(AI$16=\"\",\"\",IF(SUM(AI$16)=1,SUM(BE$17),IF(SUM(AI$16)=2,SUM(BE$18),IF(SUM(AI$16)=3,SUM(BE$19),0))))","v":""},"","","","","","","","","","所得金額調整控除→",{"$f":"IF(AT$16=\"\",\"\",IF(SUM(AT$16)=1,SUM(BP$17),IF(SUM(AT$16)=2,SUM(BP$18),IF(SUM(AT$16)=3,SUM(BP$19),0))))","v":""},{"$f":"IF(AU$16=\"\",\"\",IF(SUM(AU$16)=1,SUM(BQ$17),IF(SUM(AU$16)=2,SUM(BQ$18),IF(SUM(AU$16)=3,SUM(BQ$19),0))))","v":""},"","","","","","","",""]
[null,null,null,null,null,null,null,null,null,null,null,null,null,null,null,null,null,null,null,null,null,null,null,null,null,null,null,null,null,null,null,null,null,null,null,null,null,null,null,null,null,null,null,null,null,null,null,null,null,null,null,null,null,null,null,"所得金額調整控除サイン１の場合→",{"$f":"IF(AI$16=\"\",\"\",IF(AND(SUM(AI$16)=1,SUM(AI$3)>8500000,SUM(AI$23)=0),ROUNDDOWN(MAX(0,MIN(10000000,SUM(AI$3))-8500000)*0.1,0),0))","v":""},{"$f":"IF(AJ$16=\"\",\"\",IF(AND(SUM(AJ$16)=1,SUM(AJ$3)>8500000,SUM(AJ$23)=0),ROUNDDOWN(MAX(0,MIN(10000000,SUM(AJ$3))-8500000)*0.1,0),0))","v":""},{"$f":"IF(AK$16=\"\",\"\",IF(AND(SUM(AK$16)=1,SUM(AK$3)>8500000,SUM(AK$23)=0),ROUNDDOWN(MAX(0,MIN(10000000,SUM(AK$3))-8500000)*0.1,0),0))","v":""},{"$f":"IF(AL$16=\"\",\"\",IF(AND(SUM(AL$16)=1,SUM(AL$3)>8500000,SUM(AL$23)=0),ROUNDDOWN(MAX(0,MIN(10000000,SUM(AL$3))-8500000)*0.1,0),0))","v":""},{"$f":"IF(AM$16=\"\",\"\",IF(AND(SUM(AM$16)=1,SUM(AM$3)>8500000,SUM(AM$23)=0),ROUNDDOWN(MAX(0,MIN(10000000,SUM(AM$3))-8500000)*0.1,0),0))","v":""},{"$f":"IF(AN$16=\"\",\"\",IF(AND(SUM(AN$16)=1,SUM(AN$3)>8500000,SUM(AN$23)=0),ROUNDDOWN(MAX(0,MIN(10000000,SUM(AN$3))-8500000)*0.1,0),0))","v":""},{"$f":"IF(AO$16=\"\",\"\",IF(AND(SUM(AO$16)=1,SUM(AO$3)>8500000,SUM(AO$23)=0),ROUNDDOWN(MAX(0,MIN(10000000,SUM(AO$3))-8500000)*0.1,0),0))","v":""},{"$f":"IF(AP$16=\"\",\"\",IF(AND(SUM(AP$16)=1,SUM(AP$3)>8500000,SUM(AP$23)=0),ROUNDDOWN(MAX(0,MIN(10000000,SUM(AP$3))-8500000)*0.1,0),0))","v":""},{"$f":"IF(AQ$16=\"\",\"\",IF(AND(SUM(AQ$16)=1,SUM(AQ$3)>8500000,SUM(AQ$23)=0),ROUNDDOWN(MAX(0,MIN(10000000,SUM(AQ$3))-8500000)*0.1,0),0))","v":""},{"$f":"IF(AR$16=\"\",\"\",IF(AND(SUM(AR$16)=1,SUM(AR$3)>8500000,SUM(AR$23)=0),ROUNDDOWN(MAX(0,MIN(10000000,SUM(AR$3))-8500000)*0.1,0),0))","v":""},"所得金額調整控除サイン１の場合→",{"$f":"IF(AT$16=\"\",\"\",IF(AND(SUM(AT$16)=1,SUM(AT$3)>8500000,SUM(AI$23)=0),ROUNDDOWN(MAX(0,MIN(10000000,SUM(AT$3))-8500000)*0.1,0),0))","v":""},{"$f":"IF(AU$16=\"\",\"\",IF(AND(SUM(AU$16)=1,SUM(AU$3)>8500000,SUM(AJ$23)=0),ROUNDDOWN(MAX(0,MIN(10000000,SUM(AU$3))-8500000)*0.1,0),0))","v":""},"","","","","","","",""]
[null,null,null,null,null,null,null,null,null,null,null,null,null,null,null,null,null,null,null,null,null,null,null,null,null,null,null,null,null,null,null,null,null,null,null,null,null,null,null,null,null,null,null,null,null,null,null,null,null,null,null,null,null,null,null,"所得金額調整控除サイン２の場合→",{"$f":"IF(AI$16=\"\",\"\",IF(AND(SUM(AI$16)=2,SUM(AI$23)<>0,SUM(AI$3)<=8500000),MAX(0,MIN(100000,SUM(BE$5:BE$15))+MIN(100000,SUM(AI$23))-100000),0))","v":""},{"$f":"IF(AJ$16=\"\",\"\",IF(AND(SUM(AJ$16)=2,SUM(AJ$23)<>0,SUM(AJ$3)<=8500000),MAX(0,MIN(100000,SUM(BF$5:BF$15))+MIN(100000,SUM(AJ$23))-100000),0))","v":""},"","","","","","","","","所得金額調整控除サイン２の場合→",{"$f":"IF(AT$16=\"\",\"\",IF(AND(SUM(AT$16)=2,SUM(AI$23)<>0,SUM(AT$3)<=8500000),MAX(0,MIN(100000,SUM(BP$5:BP$15))+MIN(100000,SUM(AI$23))-100000),0))","v":""},{"$f":"IF(AU$16=\"\",\"\",IF(AND(SUM(AU$16)=2,SUM(AJ$23)<>0,SUM(AU$3)<=8500000),MAX(0,MIN(100000,SUM(BQ$5:BQ$15))+MIN(100000,SUM(AJ$23))-100000),0))","v":""},"","","","","","","",""]
[null,null,null,null,null,null,null,null,null,null,null,null,null,null,null,null,null,null,null,null,null,null,null,null,null,null,null,null,null,null,null,null,null,null,null,null,null,null,null,null,null,null,null,null,null,null,null,null,null,null,null,null,null,null,null,"所得金額調整控除サイン３の場合→",{"$f":"IF(AI$16=\"\",\"\",IF(AND(SUM(AI$16)=3,SUM(AI$23)<>0,SUM(AI$3)>8500000),ROUNDDOWN(MAX(0,MIN(10000000,SUM(AI$3))-8500000)*0.1,0)+MAX(0,MIN(100000,SUM(BE$5:BE$15))+MIN(100000,SUM(AI$23))-100000),0))","v":""},{"$f":"IF(AJ$16=\"\",\"\",IF(AND(SUM(AJ$16)=3,SUM(AJ$23)<>0,SUM(AJ$3)>8500000),ROUNDDOWN(MAX(0,MIN(10000000,SUM(AJ$3))-8500000)*0.1,0)+MAX(0,MIN(100000,SUM(BF$5:BF$15))+MIN(100000,SUM(AJ$23))-100000),0))","v":""},"","","","","","","","","所得金額調整控除サイン３の場合→",{"$f":"IF(AT$16=\"\",\"\",IF(AND(SUM(AT$16)=3,SUM(AI$23)<>0,SUM(AT$3)>8500000),ROUNDDOWN(MAX(0,MIN(10000000,SUM(AT$3))-8500000)*0.1,0)+MAX(0,MIN(100000,SUM(BP$5:BP$15))+MIN(100000,SUM(AI$23))-100000),0))","v":""},{"$f":"IF(AU$16=\"\",\"\",IF(AND(SUM(AU$16)=3,SUM(AJ$23)<>0,SUM(AU$3)>8500000),ROUNDDOWN(MAX(0,MIN(10000000,SUM(AU$3))-8500000)*0.1,0)+MAX(0,MIN(100000,SUM(BQ$5:BQ$15))+MIN(100000,SUM(AJ$23))-100000),0))","v":""},"","","","","","","",""]
[null,null,null,null,null,null,null,null,null,null,null,null,null,null,null,null,null,null,null,null,null,null,null,null,null,null,null,"年金所得計算",null,null,null,null,null,null,1,2,3,4,5,6,7,8,9,10]
[1,null,null,"年金所得に係る\n雑所得以外の\n合計所得金額",null,null,null,null,null,null,null,null,null,null,{"$f":"入力!DJ13","v":0},null,null,null,null,null,null,null,null,null,null,null,null,null,"年金収入金額の合計(Ａ)",null,"公的年金等所得金額の計算",null,null,null,{"$f":"IF(入力!$AY13=\"\",\"\",入力!$AY13)","v":""},{"$f":"IF(入力!$AY14=\"\",\"\",入力!$AY14)","v":""},{"$f":"IF(入力!$AY15=\"\",\"\",入力!$AY15)","v":""},{"$f":"IF(入力!$AY16=\"\",\"\",入力!$AY16)","v":""},{"$f":"IF(入力!$AY17=\"\",\"\",入力!$AY17)","v":""},{"$f":"IF(入力!$AY18=\"\",\"\",入力!$AY18)","v":""},{"$f":"IF(入力!$AY19=\"\",\"\",入力!$AY19)","v":""},{"$f":"IF(入力!$AY20=\"\",\"\",入力!$AY20)","v":""},{"$f":"IF(入力!$AY21=\"\",\"\",入力!$AY21)","v":""},{"$f":"IF(入力!$AY22=\"\",\"\",入力!$AY22)","v":""}]
[null,null,null,null,null,null,null,null,null,null,null,null,null,null,null,null,null,null,null,null,null,null,null,null,null,null,null,null,null,null,null,null,null,null,{"$f":"IF(所得計算!$W6=\"\",\"\",所得計算!$W6)","v":""},{"$f":"IF(所得計算!$W7=\"\",\"\",所得計算!$W7)","v":""},{"$f":"IF(所得計算!$W8=\"\",\"\",所得計算!$W8)","v":""},{"$f":"IF(所得計算!$W9=\"\",\"\",所得計算!$W9)","v":""},{"$f":"IF(所得計算!$W10=\"\",\"\",所得計算!$W10)","v":""},{"$f":"IF(所得計算!$W11=\"\",\"\",所得計算!$W11)","v":""},{"$f":"IF(所得計算!$W12=\"\",\"\",所得計算!$W12)","v":""},{"$f":"IF(所得計算!$W13=\"\",\"\",所得計算!$W13)","v":""},{"$f":"IF(所得計算!$W14=\"\",\"\",所得計算!$W14)","v":""},{"$f":"IF(所得計算!$W15=\"\",\"\",所得計算!$W15)","v":""}]
[2,null,null,"年金所得に係る\n雑所得以外の\n合計所得金額",null,null,null,null,null,null,null,null,null,null,{"$f":"入力!DJ14","v":0},null,null,null,null,null,null,null,null,null,null,null,null,null,"から","まで",null,null,null,null,{"$f":"IF(SUM(AI24:AI35)=0,\"\",SUM(AI24:AI35))","v":""},{"$f":"IF(SUM(AJ24:AJ35)=0,\"\",SUM(AJ24:AJ35))","v":""},"","","","","","","",""]
[null,null,null,null,null,null,null,null,null,null,null,null,null,null,null,null,null,null,null,null,null,null,null,null,null,null,null,"６５歳以上",0,1100000,"0円or〈～100,000円〉or《～200,000円》",null,null,null,{"$f":"IF(AI$21=\"\",\"\",IF(AND(SUM(AI$22)>=65,AI$21>=$AC24,AI$21<=$AD24),IF($O$21>20000000,MAX(AI21-900000,0),IF($O$21>10000000,MAX(AI21-1000000,0),0)),\"\"))","v":""},{"$f":"IF(AJ$21=\"\",\"\",IF(AND(SUM(AJ$22)>=65,AJ$21>=$AC24,AJ$21<=$AD24),IF($O$23>20000000,MAX(AJ21-900000,0),IF($O$23>10000000,MAX(AJ21-1000000,0),0)),\"\"))","v":""},{"$f":"IF(AK$21=\"\",\"\",IF(AND(SUM(AK$22)>=65,AK$21>=$AC24,AK$21<=$AD24),IF($O$25>20000000,MAX(AK21-900000,0),IF($O$25>10000000,MAX(AK21-1000000,0),0)),\"\"))","v":""},{"$f":"IF(AL$21=\"\",\"\",IF(AND(SUM(AL$22)>=65,AL$21>=$AC24,AL$21<=$AD24),IF($O$27>20000000,MAX(AL21-900000,0),IF($O$27>10000000,MAX(AL21-1000000,0),0)),\"\"))","v":""},{"$f":"IF(AM$21=\"\",\"\",IF(AND(SUM(AM$22)>=65,AM$21>=$AC24,AM$21<=$AD24),IF($O$29>20000000,MAX(AM21-900000,0),IF($O$29>10000000,MAX(AM21-1000000,0),0)),\"\"))","v":""},{"$f":"IF(AN$21=\"\",\"\",IF(AND(SUM(AN$22)>=65,AN$21>=$AC24,AN$21<=$AD24),IF($O$31>20000000,MAX(AN21-900000,0),IF($O$31>10000000,MAX(AN21-1000000,0),0)),\"\"))","v":""},{"$f":"IF(AO$21=\"\",\"\",IF(AND(SUM(AO$22)>=65,AO$21>=$AC24,AO$21<=$AD24),IF($O$33>20000000,MAX(AO21-900000,0),IF($O$33>10000000,MAX(AO21-1000000,0),0)),\"\"))","v":""},{"$f":"IF(AP$21=\"\",\"\",IF(AND(SUM(AP$22)>=65,AP$21>=$AC24,AP$21<=$AD24),IF($O$35>20000000,MAX(AP21-900000,0),IF($O$35>10000000,MAX(AP21-1000000,0),0)),\"\"))","v":""},{"$f":"IF(AQ$21=\"\",\"\",IF(AND(SUM(AQ$22)>=65,AQ$21>=$AC24,AQ$21<=$AD24),IF($O$37>20000000,MAX(AQ21-900000,0),IF($O$37>10000000,MAX(AQ21-1000000,0),0)),\"\"))","v":""},{"$f":"IF(AR$21=\"\",\"\",IF(AND(SUM(AR$22)>=65,AR$21>=$AC24,AR$21<=$AD24),IF($O$39>20000000,MAX(AR21-900000,0),IF($O$39>10000000,MAX(AR21-1000000,0),0)),\"\"))","v":""}]
[3,null,null,"年金所得に係る\n雑所得以外の\n合計所得金額",null,null,null,null,null,null,null,null,null,null,{"$f":"入力!DJ15","v":0},null,null,null,null,null,null,null,null,null,null,null,null,null,{"$f":"SUM(AD24,1)","v":1100001},3300000,"(Ａ)－1,100,000円〈1,000,000〉《900,000》",null,null,null,{"$f":"IF(AI$21=\"\",\"\",IF(AND(SUM(AI$22)>=65,AI$21>=$AC25,AI$21<=$AD25),IF($O$21>20000000,MAX(AI21-900000,0),IF($O$21>10000000,MAX(AI21-1000000,0),AI21-1100000)),\"\"))","v":""},{"$f":"IF(AJ$21=\"\",\"\",IF(AND(SUM(AJ$22)>=65,AJ$21>=$AC25,AJ$21<=$AD25),IF($O$23>20000000,MAX(AJ21-900000,0),IF($O$23>10000000,MAX(AJ21-1000000,0),AJ21-1100000)),\"\"))","v":""},{"$f":"IF(AK$21=\"\",\"\",IF(AND(SUM(AK$22)>=65,AK$21>=$AC25,AK$21<=$AD25),IF($O$25>20000000,MAX(AK21-900000,0),IF($O$25>10000000,MAX(AK21-1000000,0),AK21-1100000)),\"\"))","v":""},{"$f":"IF(AL$21=\"\",\"\",IF(AND(SUM(AL$22)>=65,AL$21>=$AC25,AL$21<=$AD25),IF($O$27>20000000,MAX(AL21-900000,0),IF($O$27>10000000,MAX(AL21-1000000,0),AL21-1100000)),\"\"))","v":""},{"$f":"IF(AM$21=\"\",\"\",IF(AND(SUM(AM$22)>=65,AM$21>=$AC25,AM$21<=$AD25),IF($O$29>20000000,MAX(AM21-900000,0),IF($O$29>10000000,MAX(AM21-1000000,0),AM21-1100000)),\"\"))","v":""},{"$f":"IF(AN$21=\"\",\"\",IF(AND(SUM(AN$22)>=65,AN$21>=$AC25,AN$21<=$AD25),IF($O$31>20000000,MAX(AN21-900000,0),IF($O$31>10000000,MAX(AN21-1000000,0),AN21-1100000)),\"\"))","v":""},{"$f":"IF(AO$21=\"\",\"\",IF(AND(SUM(AO$22)>=65,AO$21>=$AC25,AO$21<=$AD25),IF($O$33>20000000,MAX(AO21-900000,0),IF($O$33>10000000,MAX(AO21-1000000,0),AO21-1100000)),\"\"))","v":""},{"$f":"IF(AP$21=\"\",\"\",IF(AND(SUM(AP$22)>=65,AP$21>=$AC25,AP$21<=$AD25),IF($O$35>20000000,MAX(AP21-900000,0),IF($O$35>10000000,MAX(AP21-1000000,0),AP21-1100000)),\"\"))","v":""},{"$f":"IF(AQ$21=\"\",\"\",IF(AND(SUM(AQ$22)>=65,AQ$21>=$AC25,AQ$21<=$AD25),IF($O$37>20000000,MAX(AQ21-900000,0),IF($O$37>10000000,MAX(AQ21-1000000,0),AQ21-1100000)),\"\"))","v":""},{"$f":"IF(AR$21=\"\",\"\",IF(AND(SUM(AR$22)>=65,AR$21>=$AC25,AR$21<=$AD25),IF($O$39>20000000,MAX(AR21-900000,0),IF($O$39>10000000,MAX(AR21-1000000,0),AR21-1100000)),\"\"))","v":""}]
[null,null,null,null,null,null,null,null,null,null,null,null,null,null,null,null,null,null,null,null,null,null,null,null,null,null,null,null,{"$f":"SUM(AD25,1)","v":3300001},4100000,"(Ａ)×75％－275,000円〈175,000〉《75,000》",null,null,null,{"$f":"IF(AI$21=\"\",\"\",IF(AND(SUM(AI$22)>=65,AI$21>=$AC26,AI$21<=$AD26),IF($O$21>20000000,ROUNDDOWN(AI$21*75/100,0)-75000,IF($O$21>10000000,ROUNDDOWN(AI$21*75/100,0)-175000,ROUNDDOWN(AI$21*75/100,0)-275000)),\"\"))","v":""},{"$f":"IF(AJ$21=\"\",\"\",IF(AND(SUM(AJ$22)>=65,AJ$21>=$AC26,AJ$21<=$AD26),IF($O$23>20000000,ROUNDDOWN(AJ$21*75/100,0)-75000,IF($O$23>10000000,ROUNDDOWN(AJ$21*75/100,0)-175000,ROUNDDOWN(AJ$21*75/100,0)-275000)),\"\"))","v":""},{"$f":"IF(AK$21=\"\",\"\",IF(AND(SUM(AK$22)>=65,AK$21>=$AC26,AK$21<=$AD26),IF($O$25>20000000,ROUNDDOWN(AK$21*75/100,0)-75000,IF($O$25>10000000,ROUNDDOWN(AK$21*75/100,0)-175000,ROUNDDOWN(AK$21*75/100,0)-275000)),\"\"))","v":""},{"$f":"IF(AL$21=\"\",\"\",IF(AND(SUM(AL$22)>=65,AL$21>=$AC26,AL$21<=$AD26),IF($O$27>20000000,ROUNDDOWN(AL$21*75/100,0)-75000,IF($O$27>10000000,ROUNDDOWN(AL$21*75/100,0)-175000,ROUNDDOWN(AL$21*75/100,0)-275000)),\"\"))","v":""},{"$f":"IF(AM$21=\"\",\"\",IF(AND(SUM(AM$22)>=65,AM$21>=$AC26,AM$21<=$AD26),IF($O$29>20000000,ROUNDDOWN(AM$21*75/100,0)-75000,IF($O$29>10000000,ROUNDDOWN(AM$21*75/100,0)-175000,ROUNDDOWN(AM$21*75/100,0)-275000)),\"\"))","v":""},{"$f":"IF(AN$21=\"\",\"\",IF(AND(SUM(AN$22)>=65,AN$21>=$AC26,AN$21<=$AD26),IF($O$31>20000000,ROUNDDOWN(AN$21*75/100,0)-75000,IF($O$31>10000000,ROUNDDOWN(AN$21*75/100,0)-175000,ROUNDDOWN(AN$21*75/100,0)-275000)),\"\"))","v":""},{"$f":"IF(AO$21=\"\",\"\",IF(AND(SUM(AO$22)>=65,AO$21>=$AC26,AO$21<=$AD26),IF($O$33>20000000,ROUNDDOWN(AO$21*75/100,0)-75000,IF($O$33>10000000,ROUNDDOWN(AO$21*75/100,0)-175000,ROUNDDOWN(AO$21*75/100,0)-275000)),\"\"))","v":""},{"$f":"IF(AP$21=\"\",\"\",IF(AND(SUM(AP$22)>=65,AP$21>=$AC26,AP$21<=$AD26),IF($O$35>20000000,ROUNDDOWN(AP$21*75/100,0)-75000,IF($O$35>10000000,ROUNDDOWN(AP$21*75/100,0)-175000,ROUNDDOWN(AP$21*75/100,0)-275000)),\"\"))","v":""},{"$f":"IF(AQ$21=\"\",\"\",IF(AND(SUM(AQ$22)>=65,AQ$21>=$AC26,AQ$21<=$AD26),IF($O$37>20000000,ROUNDDOWN(AQ$21*75/100,0)-75000,IF($O$37>10000000,ROUNDDOWN(AQ$21*75/100,0)-175000,ROUNDDOWN(AQ$21*75/100,0)-275000)),\"\"))","v":""},{"$f":"IF(AR$21=\"\",\"\",IF(AND(SUM(AR$22)>=65,AR$21>=$AC26,AR$21<=$AD26),IF($O$39>20000000,ROUNDDOWN(AR$21*75/100,0)-75000,IF($O$39>10000000,ROUNDDOWN(AR$21*75/100,0)-175000,ROUNDDOWN(AR$21*75/100,0)-275000)),\"\"))","v":""}]
[4,null,null,"年金所得に係る\n雑所得以外の\n合計所得金額",null,null,null,null,null,null,null,null,null,null,{"$f":"入力!DJ16","v":0},null,null,null,null,null,null,null,null,null,null,null,null,null,{"$f":"SUM(AD26,1)","v":4100001},7700000,"(Ａ)×85％－685,000円〈585,000〉《485,000》",null,null,null,{"$f":"IF(AI$21=\"\",\"\",IF(AND(SUM(AI$22)>=65,AI$21>=$AC27,AI$21<=$AD27),IF($O$21>20000000,ROUNDDOWN(AI$21*85/100,0)-485000,IF($O$21>10000000,ROUNDDOWN(AI$21*85/100,0)-585000,ROUNDDOWN(AI$21*85/100,0)-685000)),\"\"))","v":""},{"$f":"IF(AJ$21=\"\",\"\",IF(AND(SUM(AJ$22)>=65,AJ$21>=$AC27,AJ$21<=$AD27),IF($O$23>20000000,ROUNDDOWN(AJ$21*85/100,0)-485000,IF($O$23>10000000,ROUNDDOWN(AJ$21*85/100,0)-585000,ROUNDDOWN(AJ$21*85/100,0)-685000)),\"\"))","v":""},{"$f":"IF(AK$21=\"\",\"\",IF(AND(SUM(AK$22)>=65,AK$21>=$AC27,AK$21<=$AD27),IF($O$25>20000000,ROUNDDOWN(AK$21*85/100,0)-485000,IF($O$25>10000000,ROUNDDOWN(AK$21*85/100,0)-585000,ROUNDDOWN(AK$21*85/100,0)-685000)),\"\"))","v":""},{"$f":"IF(AL$21=\"\",\"\",IF(AND(SUM(AL$22)>=65,AL$21>=$AC27,AL$21<=$AD27),IF($O$27>20000000,ROUNDDOWN(AL$21*85/100,0)-485000,IF($O$27>10000000,ROUNDDOWN(AL$21*85/100,0)-585000,ROUNDDOWN(AL$21*85/100,0)-685000)),\"\"))","v":""},{"$f":"IF(AM$21=\"\",\"\",IF(AND(SUM(AM$22)>=65,AM$21>=$AC27,AM$21<=$AD27),IF($O$29>20000000,ROUNDDOWN(AM$21*85/100,0)-485000,IF($O$29>10000000,ROUNDDOWN(AM$21*85/100,0)-585000,ROUNDDOWN(AM$21*85/100,0)-685000)),\"\"))","v":""},{"$f":"IF(AN$21=\"\",\"\",IF(AND(SUM(AN$22)>=65,AN$21>=$AC27,AN$21<=$AD27),IF($O$31>20000000,ROUNDDOWN(AN$21*85/100,0)-485000,IF($O$31>10000000,ROUNDDOWN(AN$21*85/100,0)-585000,ROUNDDOWN(AN$21*85/100,0)-685000)),\"\"))","v":""},{"$f":"IF(AO$21=\"\",\"\",IF(AND(SUM(AO$22)>=65,AO$21>=$AC27,AO$21<=$AD27),IF($O$33>20000000,ROUNDDOWN(AO$21*85/100,0)-485000,IF($O$33>10000000,ROUNDDOWN(AO$21*85/100,0)-585000,ROUNDDOWN(AO$21*85/100,0)-685000)),\"\"))","v":""},{"$f":"IF(AP$21=\"\",\"\",IF(AND(SUM(AP$22)>=65,AP$21>=$AC27,AP$21<=$AD27),IF($O$35>20000000,ROUNDDOWN(AP$21*85/100,0)-485000,IF($O$35>10000000,ROUNDDOWN(AP$21*85/100,0)-585000,ROUNDDOWN(AP$21*85/100,0)-685000)),\"\"))","v":""},{"$f":"IF(AQ$21=\"\",\"\",IF(AND(SUM(AQ$22)>=65,AQ$21>=$AC27,AQ$21<=$AD27),IF($O$37>20000000,ROUNDDOWN(AQ$21*85/100,0)-485000,IF($O$37>10000000,ROUNDDOWN(AQ$21*85/100,0)-585000,ROUNDDOWN(AQ$21*85/100,0)-685000)),\"\"))","v":""},{"$f":"IF(AR$21=\"\",\"\",IF(AND(SUM(AR$22)>=65,AR$21>=$AC27,AR$21<=$AD27),IF($O$39>20000000,ROUNDDOWN(AR$21*85/100,0)-485000,IF($O$39>10000000,ROUNDDOWN(AR$21*85/100,0)-585000,ROUNDDOWN(AR$21*85/100,0)-685000)),\"\"))","v":""}]
[null,null,null,null,null,null,null,null,null,null,null,null,null,null,null,null,null,null,null,null,null,null,null,null,null,null,null,null,{"$f":"SUM(AD27,1)","v":7700001},10000000,"(Ａ)×95％－1,455,000円〈1,355,000〉《1,255,000》",null,null,null,{"$f":"IF(AI$21=\"\",\"\",IF(AND(SUM(AI$22)>=65,AI$21>=$AC28,AI$21<=$AD28),IF($O$21>20000000,ROUNDDOWN(AI$21*95/100,0)-1255000,IF($O$21>10000000,ROUNDDOWN(AI$21*95/100,0)-1355000,ROUNDDOWN(AI$21*95/100,0)-1455000)),\"\"))","v":""},{"$f":"IF(AJ$21=\"\",\"\",IF(AND(SUM(AJ$22)>=65,AJ$21>=$AC28,AJ$21<=$AD28),IF($O$23>20000000,ROUNDDOWN(AJ$21*95/100,0)-1255000,IF($O$23>10000000,ROUNDDOWN(AJ$21*95/100,0)-1355000,ROUNDDOWN(AJ$21*95/100,0)-1455000)),\"\"))","v":""},{"$f":"IF(AK$21=\"\",\"\",IF(AND(SUM(AK$22)>=65,AK$21>=$AC28,AK$21<=$AD28),IF($O$25>20000000,ROUNDDOWN(AK$21*95/100,0)-1255000,IF($O$25>10000000,ROUNDDOWN(AK$21*95/100,0)-1355000,ROUNDDOWN(AK$21*95/100,0)-1455000)),\"\"))","v":""},{"$f":"IF(AL$21=\"\",\"\",IF(AND(SUM(AL$22)>=65,AL$21>=$AC28,AL$21<=$AD28),IF($O$27>20000000,ROUNDDOWN(AL$21*95/100,0)-1255000,IF($O$27>10000000,ROUNDDOWN(AL$21*95/100,0)-1355000,ROUNDDOWN(AL$21*95/100,0)-1455000)),\"\"))","v":""},{"$f":"IF(AM$21=\"\",\"\",IF(AND(SUM(AM$22)>=65,AM$21>=$AC28,AM$21<=$AD28),IF($O$29>20000000,ROUNDDOWN(AM$21*95/100,0)-1255000,IF($O$29>10000000,ROUNDDOWN(AM$21*95/100,0)-1355000,ROUNDDOWN(AM$21*95/100,0)-1455000)),\"\"))","v":""},{"$f":"IF(AN$21=\"\",\"\",IF(AND(SUM(AN$22)>=65,AN$21>=$AC28,AN$21<=$AD28),IF($O$31>20000000,ROUNDDOWN(AN$21*95/100,0)-1255000,IF($O$31>10000000,ROUNDDOWN(AN$21*95/100,0)-1355000,ROUNDDOWN(AN$21*95/100,0)-1455000)),\"\"))","v":""},{"$f":"IF(AO$21=\"\",\"\",IF(AND(SUM(AO$22)>=65,AO$21>=$AC28,AO$21<=$AD28),IF($O$33>20000000,ROUNDDOWN(AO$21*95/100,0)-1255000,IF($O$33>10000000,ROUNDDOWN(AO$21*95/100,0)-1355000,ROUNDDOWN(AO$21*95/100,0)-1455000)),\"\"))","v":""},{"$f":"IF(AP$21=\"\",\"\",IF(AND(SUM(AP$22)>=65,AP$21>=$AC28,AP$21<=$AD28),IF($O$35>20000000,ROUNDDOWN(AP$21*95/100,0)-1255000,IF($O$35>10000000,ROUNDDOWN(AP$21*95/100,0)-1355000,ROUNDDOWN(AP$21*95/100,0)-1455000)),\"\"))","v":""},{"$f":"IF(AQ$21=\"\",\"\",IF(AND(SUM(AQ$22)>=65,AQ$21>=$AC28,AQ$21<=$AD28),IF($O$37>20000000,ROUNDDOWN(AQ$21*95/100,0)-1255000,IF($O$37>10000000,ROUNDDOWN(AQ$21*95/100,0)-1355000,ROUNDDOWN(AQ$21*95/100,0)-1455000)),\"\"))","v":""},{"$f":"IF(AR$21=\"\",\"\",IF(AND(SUM(AR$22)>=65,AR$21>=$AC28,AR$21<=$AD28),IF($O$39>20000000,ROUNDDOWN(AR$21*95/100,0)-1255000,IF($O$39>10000000,ROUNDDOWN(AR$21*95/100,0)-1355000,ROUNDDOWN(AR$21*95/100,0)-1455000)),\"\"))","v":""}]
[5,null,null,"年金所得に係る\n雑所得以外の\n合計所得金額",null,null,null,null,null,null,null,null,null,null,{"$f":"入力!DJ17","v":0},null,null,null,null,null,null,null,null,null,null,null,null,null,{"$f":"SUM(AD28,1)","v":10000001},null,"(Ａ)－1,955,000円〈1,855,000〉《1,755,000》",null,null,null,{"$f":"IF(AI$21=\"\",\"\",IF(AND(SUM(AI$22)>=65,AI$21>=$AC29),IF($O$21>20000000,MAX(AI21-1755000,0),IF($O$21>10000000,MAX(AI21-1855000,0),AI21-1955000)),\"\"))","v":""},{"$f":"IF(AJ$21=\"\",\"\",IF(AND(SUM(AJ$22)>=65,AJ$21>=$AC29),IF($O$23>20000000,MAX(AJ21-1755000,0),IF($O$23>10000000,MAX(AJ21-1855000,0),AJ21-1955000)),\"\"))","v":""},{"$f":"IF(AK$21=\"\",\"\",IF(AND(SUM(AK$22)>=65,AK$21>=$AC29),IF($O$25>20000000,MAX(AK21-1755000,0),IF($O$25>10000000,MAX(AK21-1855000,0),AK21-1955000)),\"\"))","v":""},{"$f":"IF(AL$21=\"\",\"\",IF(AND(SUM(AL$22)>=65,AL$21>=$AC29),IF($O$27>20000000,MAX(AL21-1755000,0),IF($O$27>10000000,MAX(AL21-1855000,0),AL21-1955000)),\"\"))","v":""},{"$f":"IF(AM$21=\"\",\"\",IF(AND(SUM(AM$22)>=65,AM$21>=$AC29),IF($O$29>20000000,MAX(AM21-1755000,0),IF($O$29>10000000,MAX(AM21-1855000,0),AM21-1955000)),\"\"))","v":""},{"$f":"IF(AN$21=\"\",\"\",IF(AND(SUM(AN$22)>=65,AN$21>=$AC29),IF($O$31>20000000,MAX(AN21-1755000,0),IF($O$31>10000000,MAX(AN21-1855000,0),AN21-1955000)),\"\"))","v":""},{"$f":"IF(AO$21=\"\",\"\",IF(AND(SUM(AO$22)>=65,AO$21>=$AC29),IF($O$33>20000000,MAX(AO21-1755000,0),IF($O$33>10000000,MAX(AO21-1855000,0),AO21-1955000)),\"\"))","v":""},{"$f":"IF(AP$21=\"\",\"\",IF(AND(SUM(AP$22)>=65,AP$21>=$AC29),IF($O$35>20000000,MAX(AP21-1755000,0),IF($O$35>10000000,MAX(AP21-1855000,0),AP21-1955000)),\"\"))","v":""},{"$f":"IF(AQ$21=\"\",\"\",IF(AND(SUM(AQ$22)>=65,AQ$21>=$AC29),IF($O$37>20000000,MAX(AQ21-1755000,0),IF($O$37>10000000,MAX(AQ21-1855000,0),AQ21-1955000)),\"\"))","v":""},{"$f":"IF(AR$21=\"\",\"\",IF(AND(SUM(AR$22)>=65,AR$21>=$AC29),IF($O$39>20000000,MAX(AR21-1755000,0),IF($O$39>10000000,MAX(AR21-1855000,0),AR21-1955000)),\"\"))","v":""}]
[null,null,null,null,null,null,null,null,null,null,null,null,null,null,null,null,null,null,null,null,null,null,null,null,null,null,null,"６５歳未満",0,600000,"0円or〈～100,000円〉or《～200,000円》",null,null,null,{"$f":"IF(AI$21=\"\",\"\",IF(AND(SUM(AI$22)<65,AI$21>=$AC30,AI$21<=$AD30),IF($O$21>20000000,MAX(AI21-400000,0),IF($O$21>10000000,MAX(AI21-500000,0),0)),\"\"))","v":""},{"$f":"IF(AJ$21=\"\",\"\",IF(AND(SUM(AJ$22)<65,AJ$21>=$AC30,AJ$21<=$AD30),IF($O$23>20000000,MAX(AJ21-400000,0),IF($O$23>10000000,MAX(AJ21-500000,0),0)),\"\"))","v":""},{"$f":"IF(AK$21=\"\",\"\",IF(AND(SUM(AK$22)<65,AK$21>=$AC30,AK$21<=$AD30),IF($O$25>20000000,MAX(AK21-400000,0),IF($O$25>10000000,MAX(AK21-500000,0),0)),\"\"))","v":""},{"$f":"IF(AL$21=\"\",\"\",IF(AND(SUM(AL$22)<65,AL$21>=$AC30,AL$21<=$AD30),IF($O$27>20000000,MAX(AL21-400000,0),IF($O$27>10000000,MAX(AL21-500000,0),0)),\"\"))","v":""},{"$f":"IF(AM$21=\"\",\"\",IF(AND(SUM(AM$22)<65,AM$21>=$AC30,AM$21<=$AD30),IF($O$29>20000000,MAX(AM21-400000,0),IF($O$29>10000000,MAX(AM21-500000,0),0)),\"\"))","v":""},{"$f":"IF(AN$21=\"\",\"\",IF(AND(SUM(AN$22)<65,AN$21>=$AC30,AN$21<=$AD30),IF($O$31>20000000,MAX(AN21-400000,0),IF($O$31>10000000,MAX(AN21-500000,0),0)),\"\"))","v":""},{"$f":"IF(AO$21=\"\",\"\",IF(AND(SUM(AO$22)<65,AO$21>=$AC30,AO$21<=$AD30),IF($O$33>20000000,MAX(AO21-400000,0),IF($O$33>10000000,MAX(AO21-500000,0),0)),\"\"))","v":""},{"$f":"IF(AP$21=\"\",\"\",IF(AND(SUM(AP$22)<65,AP$21>=$AC30,AP$21<=$AD30),IF($O$35>20000000,MAX(AP21-400000,0),IF($O$35>10000000,MAX(AP21-500000,0),0)),\"\"))","v":""},{"$f":"IF(AQ$21=\"\",\"\",IF(AND(SUM(AQ$22)<65,AQ$21>=$AC30,AQ$21<=$AD30),IF($O$37>20000000,MAX(AQ21-400000,0),IF($O$37>10000000,MAX(AQ21-500000,0),0)),\"\"))","v":""},{"$f":"IF(AR$21=\"\",\"\",IF(AND(SUM(AR$22)<65,AR$21>=$AC30,AR$21<=$AD30),IF($O$39>20000000,MAX(AR21-400000,0),IF($O$39>10000000,MAX(AR21-500000,0),0)),\"\"))","v":""}]
[6,null,null,"年金所得に係る\n雑所得以外の\n合計所得金額",null,null,null,null,null,null,null,null,null,null,{"$f":"入力!DJ18","v":0},null,null,null,null,null,null,null,null,null,null,null,null,null,{"$f":"SUM(AD30,1)","v":600001},1300000,"(Ａ)－600,000円〈500,000〉《400,000》",null,null,null,{"$f":"IF(AI$21=\"\",\"\",IF(AND(SUM(AI$22)<65,AI$21>=$AC31,AI$21<=$AD31),IF($O$21>20000000,MAX(AI21-400000,0),IF($O$21>10000000,MAX(AI21-500000,0),AI21-600000)),\"\"))","v":""},{"$f":"IF(AJ$21=\"\",\"\",IF(AND(SUM(AJ$22)<65,AJ$21>=$AC31,AJ$21<=$AD31),IF($O$23>20000000,MAX(AJ21-400000,0),IF($O$23>10000000,MAX(AJ21-500000,0),AJ21-600000)),\"\"))","v":""},{"$f":"IF(AK$21=\"\",\"\",IF(AND(SUM(AK$22)<65,AK$21>=$AC31,AK$21<=$AD31),IF($O$25>20000000,MAX(AK21-400000,0),IF($O$25>10000000,MAX(AK21-500000,0),AK21-600000)),\"\"))","v":""},{"$f":"IF(AL$21=\"\",\"\",IF(AND(SUM(AL$22)<65,AL$21>=$AC31,AL$21<=$AD31),IF($O$27>20000000,MAX(AL21-400000,0),IF($O$27>10000000,MAX(AL21-500000,0),AL21-600000)),\"\"))","v":""},{"$f":"IF(AM$21=\"\",\"\",IF(AND(SUM(AM$22)<65,AM$21>=$AC31,AM$21<=$AD31),IF($O$29>20000000,MAX(AM21-400000,0),IF($O$29>10000000,MAX(AM21-500000,0),AM21-600000)),\"\"))","v":""},{"$f":"IF(AN$21=\"\",\"\",IF(AND(SUM(AN$22)<65,AN$21>=$AC31,AN$21<=$AD31),IF($O$31>20000000,MAX(AN21-400000,0),IF($O$31>10000000,MAX(AN21-500000,0),AN21-600000)),\"\"))","v":""},{"$f":"IF(AO$21=\"\",\"\",IF(AND(SUM(AO$22)<65,AO$21>=$AC31,AO$21<=$AD31),IF($O$33>20000000,MAX(AO21-400000,0),IF($O$33>10000000,MAX(AO21-500000,0),AO21-600000)),\"\"))","v":""},{"$f":"IF(AP$21=\"\",\"\",IF(AND(SUM(AP$22)<65,AP$21>=$AC31,AP$21<=$AD31),IF($O$35>20000000,MAX(AP21-400000,0),IF($O$35>10000000,MAX(AP21-500000,0),AP21-600000)),\"\"))","v":""},{"$f":"IF(AQ$21=\"\",\"\",IF(AND(SUM(AQ$22)<65,AQ$21>=$AC31,AQ$21<=$AD31),IF($O$37>20000000,MAX(AQ21-400000,0),IF($O$37>10000000,MAX(AQ21-500000,0),AQ21-600000)),\"\"))","v":""},{"$f":"IF(AR$21=\"\",\"\",IF(AND(SUM(AR$22)<65,AR$21>=$AC31,AR$21<=$AD31),IF($O$39>20000000,MAX(AR21-400000,0),IF($O$39>10000000,MAX(AR21-500000,0),AR21-600000)),\"\"))","v":""}]
[null,null,null,null,null,null,null,null,null,null,null,null,null,null,null,null,null,null,null,null,null,null,null,null,null,null,null,null,{"$f":"SUM(AD31,1)","v":1300001},4100000,"(Ａ)×75％－275,000円〈175,000〉《75,000》",null,null,null,{"$f":"IF(AI$21=\"\",\"\",IF(AND(SUM(AI$22)<65,AI$21>=$AC32,AI$21<=$AD32),IF($O$21>20000000,ROUNDDOWN(AI$21*75/100,0)-75000,IF($O$21>10000000,ROUNDDOWN(AI$21*75/100,0)-175000,ROUNDDOWN(AI$21*75/100,0)-275000)),\"\"))","v":""},{"$f":"IF(AJ$21=\"\",\"\",IF(AND(SUM(AJ$22)<65,AJ$21>=$AC32,AJ$21<=$AD32),IF($O$23>20000000,ROUNDDOWN(AJ$21*75/100,0)-75000,IF($O$23>10000000,ROUNDDOWN(AJ$21*75/100,0)-175000,ROUNDDOWN(AJ$21*75/100,0)-275000)),\"\"))","v":""},{"$f":"IF(AK$21=\"\",\"\",IF(AND(SUM(AK$22)<65,AK$21>=$AC32,AK$21<=$AD32),IF($O$25>20000000,ROUNDDOWN(AK$21*75/100,0)-75000,IF($O$25>10000000,ROUNDDOWN(AK$21*75/100,0)-175000,ROUNDDOWN(AK$21*75/100,0)-275000)),\"\"))","v":""},{"$f":"IF(AL$21=\"\",\"\",IF(AND(SUM(AL$22)<65,AL$21>=$AC32,AL$21<=$AD32),IF($O$27>20000000,ROUNDDOWN(AL$21*75/100,0)-75000,IF($O$27>10000000,ROUNDDOWN(AL$21*75/100,0)-175000,ROUNDDOWN(AL$21*75/100,0)-275000)),\"\"))","v":""},{"$f":"IF(AM$21=\"\",\"\",IF(AND(SUM(AM$22)<65,AM$21>=$AC32,AM$21<=$AD32),IF($O$29>20000000,ROUNDDOWN(AM$21*75/100,0)-75000,IF($O$29>10000000,ROUNDDOWN(AM$21*75/100,0)-175000,ROUNDDOWN(AM$21*75/100,0)-275000)),\"\"))","v":""},{"$f":"IF(AN$21=\"\",\"\",IF(AND(SUM(AN$22)<65,AN$21>=$AC32,AN$21<=$AD32),IF($O$31>20000000,ROUNDDOWN(AN$21*75/100,0)-75000,IF($O$31>10000000,ROUNDDOWN(AN$21*75/100,0)-175000,ROUNDDOWN(AN$21*75/100,0)-275000)),\"\"))","v":""},{"$f":"IF(AO$21=\"\",\"\",IF(AND(SUM(AO$22)<65,AO$21>=$AC32,AO$21<=$AD32),IF($O$33>20000000,ROUNDDOWN(AO$21*75/100,0)-75000,IF($O$33>10000000,ROUNDDOWN(AO$21*75/100,0)-175000,ROUNDDOWN(AO$21*75/100,0)-275000)),\"\"))","v":""},{"$f":"IF(AP$21=\"\",\"\",IF(AND(SUM(AP$22)<65,AP$21>=$AC32,AP$21<=$AD32),IF($O$35>20000000,ROUNDDOWN(AP$21*75/100,0)-75000,IF($O$35>10000000,ROUNDDOWN(AP$21*75/100,0)-175000,ROUNDDOWN(AP$21*75/100,0)-275000)),\"\"))","v":""},{"$f":"IF(AQ$21=\"\",\"\",IF(AND(SUM(AQ$22)<65,AQ$21>=$AC32,AQ$21<=$AD32),IF($O$37>20000000,ROUNDDOWN(AQ$21*75/100,0)-75000,IF($O$37>10000000,ROUNDDOWN(AQ$21*75/100,0)-175000,ROUNDDOWN(AQ$21*75/100,0)-275000)),\"\"))","v":""},{"$f":"IF(AR$21=\"\",\"\",IF(AND(SUM(AR$22)<65,AR$21>=$AC32,AR$21<=$AD32),IF($O$39>20000000,ROUNDDOWN(AR$21*75/100,0)-75000,IF($O$39>10000000,ROUNDDOWN(AR$21*75/100,0)-175000,ROUNDDOWN(AR$21*75/100,0)-275000)),\"\"))","v":""}]
[7,null,null,"年金所得に係る\n雑所得以外の\n合計所得金額",null,null,null,null,null,null,null,null,null,null,{"$f":"入力!DJ19","v":0},null,null,null,null,null,null,null,null,null,null,null,null,null,{"$f":"SUM(AD32,1)","v":4100001},7700000,"(Ａ)×85％－685,000円〈585,000〉《485,000》",null,null,null,{"$f":"IF(AI$21=\"\",\"\",IF(AND(SUM(AI$22)<65,AI$21>=$AC33,AI$21<=$AD33),IF($O$21>20000000,ROUNDDOWN(AI$21*85/100,0)-485000,IF($O$21>10000000,ROUNDDOWN(AI$21*85/100,0)-585000,ROUNDDOWN(AI$21*85/100,0)-685000)),\"\"))","v":""},{"$f":"IF(AJ$21=\"\",\"\",IF(AND(SUM(AJ$22)<65,AJ$21>=$AC33,AJ$21<=$AD33),IF($O$23>20000000,ROUNDDOWN(AJ$21*85/100,0)-485000,IF($O$23>10000000,ROUNDDOWN(AJ$21*85/100,0)-585000,ROUNDDOWN(AJ$21*85/100,0)-685000)),\"\"))","v":""},{"$f":"IF(AK$21=\"\",\"\",IF(AND(SUM(AK$22)<65,AK$21>=$AC33,AK$21<=$AD33),IF($O$25>20000000,ROUNDDOWN(AK$21*85/100,0)-485000,IF($O$25>10000000,ROUNDDOWN(AK$21*85/100,0)-585000,ROUNDDOWN(AK$21*85/100,0)-685000)),\"\"))","v":""},{"$f":"IF(AL$21=\"\",\"\",IF(AND(SUM(AL$22)<65,AL$21>=$AC33,AL$21<=$AD33),IF($O$27>20000000,ROUNDDOWN(AL$21*85/100,0)-485000,IF($O$27>10000000,ROUNDDOWN(AL$21*85/100,0)-585000,ROUNDDOWN(AL$21*85/100,0)-685000)),\"\"))","v":""},{"$f":"IF(AM$21=\"\",\"\",IF(AND(SUM(AM$22)<65,AM$21>=$AC33,AM$21<=$AD33),IF($O$29>20000000,ROUNDDOWN(AM$21*85/100,0)-485000,IF($O$29>10000000,ROUNDDOWN(AM$21*85/100,0)-585000,ROUNDDOWN(AM$21*85/100,0)-685000)),\"\"))","v":""},{"$f":"IF(AN$21=\"\",\"\",IF(AND(SUM(AN$22)<65,AN$21>=$AC33,AN$21<=$AD33),IF($O$31>20000000,ROUNDDOWN(AN$21*85/100,0)-485000,IF($O$31>10000000,ROUNDDOWN(AN$21*85/100,0)-585000,ROUNDDOWN(AN$21*85/100,0)-685000)),\"\"))","v":""},{"$f":"IF(AO$21=\"\",\"\",IF(AND(SUM(AO$22)<65,AO$21>=$AC33,AO$21<=$AD33),IF($O$33>20000000,ROUNDDOWN(AO$21*85/100,0)-485000,IF($O$33>10000000,ROUNDDOWN(AO$21*85/100,0)-585000,ROUNDDOWN(AO$21*85/100,0)-685000)),\"\"))","v":""},{"$f":"IF(AP$21=\"\",\"\",IF(AND(SUM(AP$22)<65,AP$21>=$AC33,AP$21<=$AD33),IF($O$35>20000000,ROUNDDOWN(AP$21*85/100,0)-485000,IF($O$35>10000000,ROUNDDOWN(AP$21*85/100,0)-585000,ROUNDDOWN(AP$21*85/100,0)-685000)),\"\"))","v":""},{"$f":"IF(AQ$21=\"\",\"\",IF(AND(SUM(AQ$22)<65,AQ$21>=$AC33,AQ$21<=$AD33),IF($O$37>20000000,ROUNDDOWN(AQ$21*85/100,0)-485000,IF($O$37>10000000,ROUNDDOWN(AQ$21*85/100,0)-585000,ROUNDDOWN(AQ$21*85/100,0)-685000)),\"\"))","v":""},{"$f":"IF(AR$21=\"\",\"\",IF(AND(SUM(AR$22)<65,AR$21>=$AC33,AR$21<=$AD33),IF($O$39>20000000,ROUNDDOWN(AR$21*85/100,0)-485000,IF($O$39>10000000,ROUNDDOWN(AR$21*85/100,0)-585000,ROUNDDOWN(AR$21*85/100,0)-685000)),\"\"))","v":""}]
[null,null,null,null,null,null,null,null,null,null,null,null,null,null,null,null,null,null,null,null,null,null,null,null,null,null,null,null,{"$f":"SUM(AD33,1)","v":7700001},10000000,"(Ａ)×95％－1,455,000円〈1,355,000〉《1,255,000》",null,null,null,{"$f":"IF(AI$21=\"\",\"\",IF(AND(SUM(AI$22)<65,AI$21>=$AC34,AI$21<=$AD34),IF($O$21>20000000,ROUNDDOWN(AI$21*95/100,0)-1255000,IF($O$21>10000000,ROUNDDOWN(AI$21*95/100,0)-1355000,ROUNDDOWN(AI$21*95/100,0)-1455000)),\"\"))","v":""},{"$f":"IF(AJ$21=\"\",\"\",IF(AND(SUM(AJ$22)<65,AJ$21>=$AC34,AJ$21<=$AD34),IF($O$23>20000000,ROUNDDOWN(AJ$21*95/100,0)-1255000,IF($O$23>10000000,ROUNDDOWN(AJ$21*95/100,0)-1355000,ROUNDDOWN(AJ$21*95/100,0)-1455000)),\"\"))","v":""},{"$f":"IF(AK$21=\"\",\"\",IF(AND(SUM(AK$22)<65,AK$21>=$AC34,AK$21<=$AD34),IF($O$25>20000000,ROUNDDOWN(AK$21*95/100,0)-1255000,IF($O$25>10000000,ROUNDDOWN(AK$21*95/100,0)-1355000,ROUNDDOWN(AK$21*95/100,0)-1455000)),\"\"))","v":""},{"$f":"IF(AL$21=\"\",\"\",IF(AND(SUM(AL$22)<65,AL$21>=$AC34,AL$21<=$AD34),IF($O$27>20000000,ROUNDDOWN(AL$21*95/100,0)-1255000,IF($O$27>10000000,ROUNDDOWN(AL$21*95/100,0)-1355000,ROUNDDOWN(AL$21*95/100,0)-1455000)),\"\"))","v":""},{"$f":"IF(AM$21=\"\",\"\",IF(AND(SUM(AM$22)<65,AM$21>=$AC34,AM$21<=$AD34),IF($O$29>20000000,ROUNDDOWN(AM$21*95/100,0)-1255000,IF($O$29>10000000,ROUNDDOWN(AM$21*95/100,0)-1355000,ROUNDDOWN(AM$21*95/100,0)-1455000)),\"\"))","v":""},{"$f":"IF(AN$21=\"\",\"\",IF(AND(SUM(AN$22)<65,AN$21>=$AC34,AN$21<=$AD34),IF($O$31>20000000,ROUNDDOWN(AN$21*95/100,0)-1255000,IF($O$31>10000000,ROUNDDOWN(AN$21*95/100,0)-1355000,ROUNDDOWN(AN$21*95/100,0)-1455000)),\"\"))","v":""},{"$f":"IF(AO$21=\"\",\"\",IF(AND(SUM(AO$22)<65,AO$21>=$AC34,AO$21<=$AD34),IF($O$33>20000000,ROUNDDOWN(AO$21*95/100,0)-1255000,IF($O$33>10000000,ROUNDDOWN(AO$21*95/100,0)-1355000,ROUNDDOWN(AO$21*95/100,0)-1455000)),\"\"))","v":""},{"$f":"IF(AP$21=\"\",\"\",IF(AND(SUM(AP$22)<65,AP$21>=$AC34,AP$21<=$AD34),IF($O$35>20000000,ROUNDDOWN(AP$21*95/100,0)-1255000,IF($O$35>10000000,ROUNDDOWN(AP$21*95/100,0)-1355000,ROUNDDOWN(AP$21*95/100,0)-1455000)),\"\"))","v":""},{"$f":"IF(AQ$21=\"\",\"\",IF(AND(SUM(AQ$22)<65,AQ$21>=$AC34,AQ$21<=$AD34),IF($O$37>20000000,ROUNDDOWN(AQ$21*95/100,0)-1255000,IF($O$37>10000000,ROUNDDOWN(AQ$21*95/100,0)-1355000,ROUNDDOWN(AQ$21*95/100,0)-1455000)),\"\"))","v":""},{"$f":"IF(AR$21=\"\",\"\",IF(AND(SUM(AR$22)<65,AR$21>=$AC34,AR$21<=$AD34),IF($O$39>20000000,ROUNDDOWN(AR$21*95/100,0)-1255000,IF($O$39>10000000,ROUNDDOWN(AR$21*95/100,0)-1355000,ROUNDDOWN(AR$21*95/100,0)-1455000)),\"\"))","v":""}]
[8,null,null,"年金所得に係る\n雑所得以外の\n合計所得金額",null,null,null,null,null,null,null,null,null,null,{"$f":"入力!DJ20","v":0},null,null,null,null,null,null,null,null,null,null,null,null,null,{"$f":"SUM(AD34,1)","v":10000001},null,"(Ａ)－1,955,000円〈1,855,000〉《1,755,000》",null,null,null,{"$f":"IF(AI$21=\"\",\"\",IF(AND(SUM(AI$22)<65,AI$21>=$AC35),IF($O$21>20000000,MAX(AI21-1755000,0),IF($O$21>10000000,MAX(AI21-1855000,0),AI21-1955000)),\"\"))","v":""},{"$f":"IF(AJ$21=\"\",\"\",IF(AND(SUM(AJ$22)<65,AJ$21>=$AC35),IF($O$23>20000000,MAX(AJ21-1755000,0),IF($O$23>10000000,MAX(AJ21-1855000,0),AJ21-1955000)),\"\"))","v":""},{"$f":"IF(AK$21=\"\",\"\",IF(AND(SUM(AK$22)<65,AK$21>=$AC35),IF($O$25>20000000,MAX(AK21-1755000,0),IF($O$25>10000000,MAX(AK21-1855000,0),AK21-1955000)),\"\"))","v":""},{"$f":"IF(AL$21=\"\",\"\",IF(AND(SUM(AL$22)<65,AL$21>=$AC35),IF($O$27>20000000,MAX(AL21-1755000,0),IF($O$27>10000000,MAX(AL21-1855000,0),AL21-1955000)),\"\"))","v":""},{"$f":"IF(AM$21=\"\",\"\",IF(AND(SUM(AM$22)<65,AM$21>=$AC35),IF($O$29>20000000,MAX(AM21-1755000,0),IF($O$29>10000000,MAX(AM21-1855000,0),AM21-1955000)),\"\"))","v":""},{"$f":"IF(AN$21=\"\",\"\",IF(AND(SUM(AN$22)<65,AN$21>=$AC35),IF($O$31>20000000,MAX(AN21-1755000,0),IF($O$31>10000000,MAX(AN21-1855000,0),AN21-1955000)),\"\"))","v":""},{"$f":"IF(AO$21=\"\",\"\",IF(AND(SUM(AO$22)<65,AO$21>=$AC35),IF($O$33>20000000,MAX(AO21-1755000,0),IF($O$33>10000000,MAX(AO21-1855000,0),AO21-1955000)),\"\"))","v":""},{"$f":"IF(AP$21=\"\",\"\",IF(AND(SUM(AP$22)<65,AP$21>=$AC35),IF($O$35>20000000,MAX(AP21-1755000,0),IF($O$35>10000000,MAX(AP21-1855000,0),AP21-1955000)),\"\"))","v":""},{"$f":"IF(AQ$21=\"\",\"\",IF(AND(SUM(AQ$22)<65,AQ$21>=$AC35),IF($O$37>20000000,MAX(AQ21-1755000,0),IF($O$37>10000000,MAX(AQ21-1855000,0),AQ21-1955000)),\"\"))","v":""},{"$f":"IF(AR$21=\"\",\"\",IF(AND(SUM(AR$22)<65,AR$21>=$AC35),IF($O$39>20000000,MAX(AR21-1755000,0),IF($O$39>10000000,MAX(AR21-1855000,0),AR21-1955000)),\"\"))","v":""}]
[null,null,null,null,null,null,null,null,null,null,null,null,null,null,null,null,null,null,null,null,null,null,null,null,null,null,null,"軽減判定の際６５歳以上は，年金所得から１５万円引く　⇒　⇒　⇒　⇒　⇒",null,null,null,null,null,{"$f":"SUM(AI36:AR36)","v":0},{"$f":"IF(SUM(AI22)>=65,IF(SUM(AI23)>150000,150000,SUM(AI23)),\"\")","v":""},{"$f":"IF(SUM(AJ22)>=65,IF(SUM(AJ23)>150000,150000,SUM(AJ23)),\"\")","v":""},"","","","","","","",""]
[9,null,null,"年金所得に係る\n雑所得以外の\n合計所得金額",null,null,null,null,null,null,null,null,null,null,{"$f":"入力!DJ21","v":0}]
[]
[10,null,null,"年金所得に係る\n雑所得以外の\n合計所得金額",null,null,null,null,null,null,null,null,null,null,{"$f":"入力!DJ22","v":0}]

{"sheet":"軽減について","index":5,"n_rows":48,"n_cols":22,"rows_kept":48,"cut":false,"hidden":true,"merged":[[33,13,34,15],[31,4,32,8],[33,4,34,8],[12,3,13,11],[14,3,15,11],[30,2,30,8],[12,15,13,17],[16,9,17,11],[16,3,19,8],[18,9,19,11],[20,3,21,8],[20,9,20,11],[21,9,21,11],[5,3,7,11],[16,15,17,17],[41,13,42,15],[35,13,36,15],[37,11,38,15],[37,4,38,8],[35,4,36,8],[31,16,32,35],[33,16,36,35],[31,2,36,3],[33,11,36,12],[31,11,32,12],[31,13,32,15],[8,3,9,11],[10,3,11,11],[30,11,30,15],[47,4,48,8],[47,11,48,15],[45,11,46,12],[41,11,44,12],[40,2,40,8],[40,11,40,15],[41,2,46,3],[45,16,46,35],[41,16,44,35],[43,4,44,8],[43,13,44,15],[45,4,46,8],[45,13,46,15],[41,4,42,8],[10,21,11,35],[8,21,9,35],[12,21,13,35],[14,21,15,35],[5,21,7,35],[12,18,13,20],[14,12,15,14],[14,15,15,17],[14,18,15,20],[8,18,9,20],[10,18,11,20],[10,12,11,14],[10,15,11,17],[12,12,13,14],[7,18,7,20],[5,12,6,17],[5,18,6,20],[8,12,9,14],[8,15,9,17],[7,15,7,17],[7,12,7,14],[16,21,17,35],[20,12,21,14],[18,15,19,17],[18,18,19,20],[18,21,19,35],[20,15,20,17],[20,21,20,35],[21,21,21,35],[20,18,20,20],[21,15,21,17],[16,12,19,14],[21,18,21,20],[16,18,17,20]]}
[null,"軽減判定基準額（２・５・７割軽減）について"]
[null,"　１　判定となる世帯の所得金額とは，擬主を含む世帯主，被保険者及び特定同一世帯所属者数の"]
[null,"　　　所得の合計額"]
[null,"　２　国民健康保険に加入したまま，７５歳を迎えることにより後期高齢者医療制度へ移行した方"]
[null,"　　　を，特定同一世帯所属者と言います。"]
[null,null,null,null,null,null,null,null,null,null,null,null,"軽減判定対象",null,null,null,null,null,"所得割\n計算対象",null,null,"備考"]
[]
[null,null,null,null,null,null,null,null,null,null,null,null,"人数",null,null,"所得",null,null,"所得"]
[null,null,null,"世帯主（被保険者）",null,null,null,null,null,null,null,null,"○",null,null,"○",null,null,"○"]
[]
[null,null,null,"擬主",null,null,null,null,null,null,null,null,"×",null,null,"○",null,null,"×",null,null,"擬主は軽減判定の際，所得金額は関係するが，人数には入れない。"]
[]
[null,null,null,"その他被保険者",null,null,null,null,null,null,null,null,"○",null,null,"○",null,null,"○"]
[]
[null,null,null,"特定同一世帯所属者",null,null,null,null,null,null,null,null,"○",null,null,"○",null,null,"×"]
[]
[null,null,null,"専従者\n給与（控除）",null,null,null,null,null,"主",null,null,"－",null,null,"○\n収入",null,null,"×",null,null,"所得割：経費OR控除後\n軽減：専従者給与収入金額を判定所得に入れる"]
[]
[null,null,null,null,null,null,null,null,null,"専従者",null,null,null,null,null,"×",null,null,"○",null,null,"所得割：給与収入として給与所得が計算対象\n軽減：対象外（対象所得に入れない）"]
[]
[null,null,null,"損失の繰越控除",null,null,null,null,null,"純",null,null,"－",null,null,"○",null,null,"×",null,null,"所得割：繰越控除後，軽減：繰越控除後"]
[null,null,null,null,null,null,null,null,null,"雑",null,null,null,null,null,"○",null,null,"○",null,null,"所得割：繰越控除前，軽減：繰越控除後"]
[]
[null,"特定世帯及び特定継続世帯の平等割額の軽減について"]
[null,"　１　特定同一世帯所属者になられたことによって，国保加入者が一人になる世帯は，特定同一世"]
[null,"　　　帯所属者になられた月から５年間，国民健康保険税のうち平等割額の２分の１が軽減されま"]
[null,"　　　す（特定世帯）。"]
[null,"　　　また，５年を経過した後も３年間，平等割額の４分の１が軽減されます（特定継続世帯）。"]
[]
[null,"《２・５・７割軽減と特定世帯及び特定継続世帯の平等割額の軽減の例》"]
[null,null,"当年度",null,null,null,null,null,null,null,null,"８月"]
[null,null,"国保",null,"Ａ\n8月で75歳",null,null,null,null,null,null,"後期\n高齢",null,"Ａ",null,null,"特定同一世帯所属者\n　国民健康保険に加入したまま，７５歳を迎えることにより後期高齢者医療制度へ移行した方を，特定同一世帯所属者という。"]
[]
[null,null,null,null,"Ｂ\n10月で74歳",null,null,null,null,null,null,"国保",null,"Ｂ",null,null,"２・５・７割軽減の判定（4/1時点）～判定人数：Ａ・Ｂ・Ｃの３人\n※年度途中に特定同一世帯所属者が出ても再判定しない。\n\n※特定世帯及び特定継続世帯の平等割額の軽減にはならない。"]
[]
[null,null,null,null,"Ｃ\n6月で60歳",null,null,null,null,null,null,null,null,"Ｃ"]
[]
[null,null,null,null,"年度当初は，３人が国保",null,null,null,null,null,null,"８月から２人が国保"]
[]
[]
[null,null,"次年度",null,null,null,null,null,null,null,null,"10月"]
[null,null,"国保",null,"Ａ\n8月で76歳",null,null,null,null,null,null,"後期\n高齢",null,"Ａ",null,null,"特定同一世帯所属者\n　国民健康保険に加入したまま，７５歳を迎えることにより後期高齢者医療制度へ移行した方を，特定同一世帯所属者という。"]
[]
[null,null,null,null,"Ｂ\n10月で75歳",null,null,null,null,null,null,null,null,"Ｂ"]
[]
[null,null,null,null,"Ｃ\n6月で61歳",null,null,null,null,null,null,"国保",null,"Ｃ",null,null,"２・５・７割軽減の判定（4/1時点）～判定人数：Ａ・Ｂ・Ｃの３人\n※年度途中に特定同一世帯所属者が出ても再判定しない。\n　Ａは昨年度に特定同一世帯所属者となったが，判定に含める。\n※特定世帯及び特定継続世帯の平等割額の軽減を受けることになる。"]
[]
[null,null,null,null,"年度当初は，２人が国保，後期高齢は１人",null,null,null,null,null,null,"１０月から１人のみ国保"]

{"sheet":"基礎控除","index":6,"n_rows":12,"n_cols":8,"rows_kept":12,"cut":false,"hidden":true,"merged":[[1,1,1,2],[1,3,2,3]]}
[]
[null,"合計所得金額",null,"基礎控除額",null,"被保険者","合計所得金額","基礎控除額"]
[null,"から","まで",null,null,1,{"$f":"IF(入力!DC13=\"\",\"\",入力!DC13)","v":""},{"$f":"IF($G3=\"\",\"\",VLOOKUP($G3,$B$4:$D$7,3,TRUE))","v":""}]
[null,0,24000000,430000,null,2,{"$f":"IF(入力!DC14=\"\",\"\",入力!DC14)","v":""},{"$f":"IF($G4=\"\",\"\",VLOOKUP($G4,$B$4:$D$7,3,TRUE))","v":""}]
[null,{"$f":"C4+1","v":24000001},24500000,290000,null,3,{"$f":"IF(入力!DC15=\"\",\"\",入力!DC15)","v":""},""]
[null,{"$f":"C5+1","v":24500001},25000000,150000,null,4,{"$f":"IF(入力!DC16=\"\",\"\",入力!DC16)","v":""},""]
[null,{"$f":"C6+1","v":25000001},null,0,null,5,{"$f":"IF(入力!DC17=\"\",\"\",入力!DC17)","v":""},""]
[null,null,null,null,null,6,{"$f":"IF(入力!DC18=\"\",\"\",入力!DC18)","v":""},""]
[null,null,null,null,null,7,{"$f":"IF(入力!DC19=\"\",\"\",入力!DC19)","v":""},""]
[null,null,null,null,null,8,{"$f":"IF(入力!DC20=\"\",\"\",入力!DC20)","v":""},""]
[null,null,null,null,null,9,{"$f":"IF(入力!DC21=\"\",\"\",入力!DC21)","v":""},""]
[null,null,null,null,null,10,{"$f":"IF(入力!DC22=\"\",\"\",入力!DC22)","v":""},""]

{"sheet":"未就学児","index":7,"n_rows":15,"n_cols":7,"rows_kept":15,"cut":false,"hidden":true,"merged":[[3,6,4,6],[3,1,4,1],[3,2,4,2],[3,3,4,3],[3,4,4,4],[3,5,4,5]]}
[]
[null,null,{"$f":"基本項目!E2","v":"年齢基準日"},{"$f":"基本項目!E3","v":"2027-04-01"}]
[]
[null,"被保険者","生年月日","年齢\n直接\n入力","年齢判定\n基準日の\n年齢","未就学児\n判定","18歳未満\n判定"]
[]
[null,1,{"$f":"IF(入力!K13=\"\",\"\",入力!K13)","v":""},{"$f":"IF(入力!U13=\"\",\"\",入力!U13)","v":""},{"$f":"IF(AND(C6=\"\",D6=\"\"),\"\",IF(C6<>\"\",DATEDIF(C6,$D$2,\"y\"),D6))","v":""},{"$f":"IF(E6=\"\",\"\",IF(E6<=6,1,\"\"))","v":""},{"$f":"IF(E6=\"\",\"\",IF(E6<=18,1,\"\"))","v":""}]
[null,2,{"$f":"IF(入力!K14=\"\",\"\",入力!K14)","v":""},{"$f":"IF(入力!U14=\"\",\"\",入力!U14)","v":""},{"$f":"IF(AND(C7=\"\",D7=\"\"),\"\",IF(C7<>\"\",DATEDIF(C7,$D$2,\"y\"),D7))","v":""},{"$f":"IF(E7=\"\",\"\",IF(E7<=6,1,\"\"))","v":""},""]
[null,3,{"$f":"IF(入力!K15=\"\",\"\",入力!K15)","v":""},{"$f":"IF(入力!U15=\"\",\"\",入力!U15)","v":""},"",{"$f":"IF(E8=\"\",\"\",IF(E8<=6,1,\"\"))","v":""},""]
[null,4,{"$f":"IF(入力!K16=\"\",\"\",入力!K16)","v":""},{"$f":"IF(入力!U16=\"\",\"\",入力!U16)","v":""},"","",""]
[null,5,{"$f":"IF(入力!K17=\"\",\"\",入力!K17)","v":""},{"$f":"IF(入力!U17=\"\",\"\",入力!U17)","v":""},"","",""]
[null,6,{"$f":"IF(入力!K18=\"\",\"\",入力!K18)","v":""},{"$f":"IF(入力!U18=\"\",\"\",入力!U18)","v":""},"","",""]
[null,7,{"$f":"IF(入力!K19=\"\",\"\",入力!K19)","v":""},{"$f":"IF(入力!U19=\"\",\"\",入力!U19)","v":""},"","",""]
[null,8,{"$f":"IF(入力!K20=\"\",\"\",入力!K20)","v":""},{"$f":"IF(入力!U20=\"\",\"\",入力!U20)","v":""},"","",""]
[null,9,{"$f":"IF(入力!K21=\"\",\"\",入力!K21)","v":""},{"$f":"IF(入力!U21=\"\",\"\",入力!U21)","v":""},"","",""]
[null,10,{"$f":"IF(入力!K22=\"\",\"\",入力!K22)","v":""},{"$f":"IF(入力!U22=\"\",\"\",入力!U22)","v":""},"","",""]