{"text_format":"1","workbook":"xlsx","n_sheets":8,"sheets":["基本項目","入力","印刷用【簡易版】","国民健康保険税軽減早見表H26から","所得計算","軽減について","基礎控除","未就学児"],"not_rendered":{"charts":0,"images":1,"macros":1,"external_links":0,"defined_names":1,"comments":1,"pivot_tables":0},"unopened":[],"bounds":{"document_bytes":16777216,"sheet_cells":100000,"rows_first":2000,"rows_last":500,"rows_between":2000,"halvings":0,"cell_chars":16384,"cell_head_chars":4096},"cells_cut":0,"cells_raw":0,"read":"whole","date_system":"1900"}

{"sheet":"基本項目","index":0,"n_rows":13,"n_cols":16,"rows_kept":13,"cut":false,"hidden":true,"merged":[[1,14,1,15],[1,8,1,10]]}
[]
[null,"年度","今日現在","年金所得\n基準日","未就学児\n基準日",null,"納期","納期限","国保加入の届出月",null,null,"該当",{"$f":"SUM(入力!$BR$101)","v":0},null,"国保加入の届出月"]
[null,6,{"$f":"TODAY()","v":"2024-06-03"},{"$f":"VALUE(\"R\"&基本項目!$B$3&\".1.1\")","v":"2024-01-01"},{"$f":"VALUE(\"R\"&基本項目!$B$3+1&\".4.1\")","v":"2025-04-01"},null,"第１期","2024-07-31",4,5,6,{"$f":"IF($O$3=\"\",\"\",IF(OR($O$3=I3,$O$3=J3,$O$3=K3),\"〇\",\"\"))","v":""},{"$f":"IF(L3=\"〇\",SUM($P$5),\"\")","v":""},null,{"$f":"IF(入力!$CP$8=\"\",\"\",入力!$CP$8)","v":""},"月"]
[null,null,null,null,null,null,"第２期","2024-09-02",7,null,null,{"$f":"IF($O$3=\"\",\"\",IF(L3=\"〇\",\"〇\",IF(OR($O$3=I4,$O$3=J4,$O$3=K4),\"〇\",\"\")))","v":""},{"$f":"IF(L4=\"\",\"\",IF(AND(L4=\"〇\",COUNTIF(L$3:L4,\"〇\")=1),SUM($P$5),SUM($P$6)))","v":""}]
[null,null,null,null,null,null,"第３期","2024-09-30",8,null,null,"",{"$f":"IF(L5=\"\",\"\",IF(AND(L5=\"〇\",COUNTIF(L$3:L5,\"〇\")=1),SUM($P$5),SUM($P$6)))","v":""},null,"当初金額",{"$f":"IF(COUNTIF($L$3:$L$10,\"〇\")=0,\"\",SUM($M$2)-ROUNDDOWN(SUM($M$2)/COUNTIF($L$3:$L$10,\"〇\"),-2)*(COUNTIF($L$3:$L$10,\"〇\")-1))","v":""}]
[null,null,null,null,null,null,"第４期","2024-10-31",9,null,null,"",{"$f":"IF(L6=\"\",\"\",IF(AND(L6=\"〇\",COUNTIF(L$3:L6,\"〇\")=1),SUM($P$5),SUM($P$6)))","v":""},null,"それ以外",{"$f":"IF(COUNTIF($L$3:$L$10,\"〇\")=0,\"\",ROUNDDOWN(SUM($M$2)/COUNTIF($L$3:$L$10,\"〇\"),-2))","v":""}]
[null,null,null,null,null,null,"第５期","2024-12-02",10,null,null,"",{"$f":"IF(L7=\"\",\"\",IF(AND(L7=\"〇\",COUNTIF(L$3:L7,\"〇\")=1),SUM($P$5),SUM($P$6)))","v":""}]
[null,null,null,null,null,null,"第６期","2024-12-25",11,null,null,"",{"$f":"IF($O$3=\"\",\"\",IF(L8=\"\",\"\",IF(AND(L8=\"〇\",COUNTIF(L$3:L8,\"〇\")=1),SUM($P$5),SUM($P$6))))","v":""}]
[null,null,null,null,null,null,"第７期","2025-01-31",12,null,null,"",{"$f":"IF(L9=\"\",\"\",IF(AND(L9=\"〇\",COUNTIF(L$3:L9,\"〇\")=1),SUM($P$5),SUM($P$6)))","v":""}]
[null,null,null,null,null,null,"第８期","2025-02-28",1,null,null,"",{"$f":"IF(L10=\"\",\"\",IF(AND(L10=\"〇\",COUNTIF(L$3:L10,\"〇\")=1),SUM($P$5),SUM($P$6)))","v":""}]
[null,null,null,null,null,null,"随時期１","2025-03-31",2,null,null,{"$f":"IF($O$3=\"\",\"\",IF(OR($O$3=I11,$O$3=J11,$O$3=K11),\"〇\",\"\"))","v":""},{"$f":"IF(L11=\"〇\",SUM($M$2),\"\")","v":""}]
[null,null,null,null,null,null,"随時期２","2025-06-02",3,null,null,{"$f":"IF($O$3=\"\",\"\",IF(OR($O$3=I12,$O$3=J12,$O$3=K12),\"〇\",\"\"))","v":""},{"$f":"IF(L12=\"〇\",SUM($M$2),\"\")","v":""}]
[null,null,null,null,null,null,"注：４月末納期限は現額のみ，なので，３月に新規加入届出は，５月末となる。"]

{"sheet":"入力","index":1,"n_rows":114,"n_cols":425,"rows_kept":114,"cut":false,"hidden":false,"merged":[[96,93,101,127],[26,185,26,187],[26,149,26,151],[25,188,25,220],[25,185,25,187],[26,152,26,154],[26,155,26,157],[26,158,26,160],[26,161,26,163],[26,164,26,166],[26,167,26,169],[26,170,26,172],[26,173,26,175],[26,176,26,178],[26,179,26,181],[26,182,26,184],[22,182,22,184],[22,179,22,181],[26,188,26,220],[23,161,23,163],[23,164,23,166],[23,167,23,169],[23,170,23,172],[23,173,23,175],[23,176,23,178],[23,179,23,181],[23,182,23,184],[24,185,24,187],[24,149,24,151],[24,152,24,154],[24,155,24,157],[24,158,24,160],[24,161,24,163],[13,182,13,184],[14,182,14,184],[14,176,14,178],[17,167,17,169],[17,170,17,172],[24,188,24,220],[23,188,23,220],[25,149,25,151],[25,152,25,154],[25,155,25,157],[25,158,25,160],[25,161,25,163],[25,164,25,166],[25,167,25,169],[25,170,25,172],[25,173,25,175],[25,176,25,178],[25,179,25,181],[21,152,21,154],[21,155,21,157],[21,158,21,160],[21,161,21,163],[21,164,21,166],[19,167,19,169],[19,170,19,172],[25,182,25,184],[19,185,19,188],[16,185,16,188],[17,185,17,188],[18,185,18,188],[13,207,13,209],[13,210,13,212],[113,3,114,14],[113,15,114,26],[113,27,114,46],[96,3,99,24],[100,3,101,24],[96,25,99,46],[100,25,101,46],[96,47,99,68],[100,47,101,68],[12,141,12,143],[13,141,13,143],[14,141,14,143],[15,141,15,143],[16,141,16,143],[17,141,17,143],[18,141,18,143],[19,141,19,143],[20,141,20,143],[21,141,21,143],[111,59,112,70],[111,71,112,90],[103,3,104,14],[103,15,104,26],[103,27,104,46],[103,47,104,58],[103,59,104,70],[103,71,104,90],[113,47,114,58],[113,59,114,70],[113,71,114,90],[105,59,106,70],[105,71,106,90],[107,3,108,14],[107,15,108,26],[107,27,108,46],[109,3,110,14],[109,15,110,26],[109,27,110,46],[107,47,108,58],[107,59,108,70],[105,3,106,14],[105,15,106,26],[105,27,106,46],[105,47,106,58],[111,3,112,14],[111,15,112,26],[111,27,112,46],[111,47,112,58],[109,47,110,58],[109,59,110,70],[109,71,110,90],[107,71,108,90],[20,185,20,188],[21,185,21,188],[21,182,21,184],[10,149,10,184],[96,69,99,90],[100,69,101,90],[18,128,18,140],[19,128,19,140],[20,128,20,140],[21,128,21,140],[21,106,21,112],[87,126,87,132],[85,119,85,125],[85,126,85,132],[83,119,83,125],[83,126,83,132],[65,126,65,132],[62,111,62,114],[62,119,62,125],[62,126,62,132],[60,119,60,125],[94,3,95,90],[21,43,21,49],[20,43,20,49],[20,50,20,56],[20,57,20,63],[20,64,20,70],[20,106,20,112],[18,71,18,77],[19,71,19,77],[22,378,22,381],[6,93,6,104],[7,93,7,100],[7,101,7,104],[22,342,22,344],[22,345,22,347],[22,348,22,350],[22,351,22,353],[22,354,22,356],[22,357,22,359],[22,360,22,362],[22,363,22,365],[22,366,22,368],[22,369,22,371],[22,372,22,374],[22,375,22,377],[6,128,10,140],[22,185,22,188],[22,189,22,192],[10,185,11,188],[12,185,12,188],[13,185,13,188],[14,185,14,188],[15,185,15,188],[18,182,18,184],[19,182,19,184],[20,182,20,184],[15,182,15,184],[16,182,16,184],[17,182,17,184],[13,170,13,172],[12,182,12,184],[89,189,89,213],[60,189,60,213],[61,189,61,213],[62,189,62,213],[63,189,63,213],[64,189,64,213],[65,189,65,213],[66,189,66,213],[78,189,78,213],[79,189,79,213],[80,189,80,213],[81,189,81,213],[82,189,82,213],[83,189,83,213],[84,189,84,213],[85,189,85,213],[86,189,86,213],[87,189,87,213],[13,213,13,215],[21,201,21,203],[21,204,21,206],[21,207,21,209],[21,210,21,212],[21,213,21,215],[43,185,43,188],[90,62,90,68],[90,104,90,110],[90,133,90,139],[91,104,91,110],[91,133,91,139],[92,104,92,110],[92,133,92,139],[89,90,89,96],[89,97,89,103],[89,104,89,110],[89,119,89,125],[35,189,35,213],[33,189,33,213],[34,189,34,213],[32,189,32,213],[36,189,36,213],[37,189,37,213],[38,189,38,213],[39,189,39,213],[40,189,40,213],[41,189,41,213],[42,189,42,213],[55,189,55,213],[56,189,56,213],[57,189,57,213],[58,189,58,213],[59,189,59,213],[88,189,88,213],[89,126,89,132],[89,133,89,139],[87,119,87,125],[89,48,89,54],[89,55,89,61],[89,62,89,68],[89,69,89,75],[89,76,89,82],[89,83,89,89],[88,97,88,103],[88,111,88,114],[88,119,88,125],[88,126,88,132],[81,83,81,89],[81,90,81,96],[81,97,81,103],[81,111,81,114],[80,126,80,132],[79,48,79,54],[79,55,79,61],[83,69,83,75],[83,83,83,89],[83,90,83,96],[83,97,83,103],[81,69,81,75],[64,97,64,103],[64,111,64,114],[64,119,64,125],[89,3,89,19],[89,20,89,26],[89,27,89,33],[89,34,89,40],[89,41,89,47],[88,34,88,40],[88,41,88,47],[88,48,88,54],[88,55,88,61],[88,69,88,75],[88,83,88,89],[79,115,88,118],[79,119,79,125],[79,126,79,132],[88,90,88,96],[87,97,87,103],[87,111,87,114],[86,27,86,33],[86,34,86,40],[86,41,86,47],[85,48,85,54],[85,55,85,61],[85,69,85,75],[85,83,85,89],[85,90,85,96],[85,97,85,103],[84,119,84,125],[84,126,84,132],[81,119,81,125],[81,126,81,132],[81,55,81,61],[86,20,86,26],[88,1,88,2],[88,3,88,9],[88,10,88,16],[88,17,88,19],[88,20,88,26],[88,27,88,33],[87,41,87,47],[87,48,87,54],[87,55,87,61],[87,69,87,75],[87,83,87,89],[87,90,87,96],[86,111,86,114],[86,119,86,125],[86,126,86,132],[87,1,87,2],[87,3,87,9],[87,10,87,16],[87,17,87,19],[87,20,87,26],[87,27,87,33],[87,34,87,40],[86,48,86,54],[86,55,86,61],[86,69,86,75],[86,83,86,89],[86,90,86,96],[86,97,86,103],[86,1,86,2],[86,3,86,9],[86,10,86,16],[86,17,86,19],[85,1,85,2],[85,3,85,9],[85,10,85,16],[85,17,85,19],[85,20,85,26],[85,27,85,33],[85,34,85,40],[85,41,85,47],[84,48,84,54],[84,55,84,61],[84,69,84,75],[84,83,84,89],[84,90,84,96],[84,97,84,103],[84,1,84,2],[84,3,84,9],[84,10,84,16],[84,17,84,19],[84,20,84,26],[84,27,84,33],[83,1,83,2],[83,3,83,9],[83,10,83,16],[83,17,83,19],[83,20,83,26],[83,27,83,33],[83,34,83,40],[83,41,83,47],[82,48,82,54],[82,55,82,61],[82,69,82,75],[82,83,82,89],[82,90,82,96],[82,97,82,103],[82,3,82,9],[82,10,82,16],[82,17,82,19],[82,20,82,26],[82,27,82,33],[82,34,82,40],[82,41,82,47],[82,1,82,2],[79,62,88,68],[79,69,79,75],[80,34,80,40],[80,41,80,47],[80,48,80,54],[80,55,80,61],[84,34,84,40],[84,41,84,47],[83,48,83,54],[83,55,83,61],[81,1,81,2],[81,3,81,9],[81,10,81,16],[81,17,81,19],[81,20,81,26],[81,27,81,33],[81,34,81,40],[81,41,81,47],[81,48,81,54],[80,69,80,75],[80,83,80,89],[80,90,80,96],[80,97,80,103],[80,111,80,114],[80,119,80,125],[82,119,82,125],[82,126,82,132],[80,17,80,19],[80,20,80,26],[80,27,80,33],[79,76,88,82],[79,83,79,89],[79,90,79,96],[79,97,79,103],[79,104,88,110],[79,111,79,114],[82,111,82,114],[83,111,83,114],[84,111,84,114],[85,111,85,114],[79,34,79,40],[79,41,79,47],[79,1,79,2],[79,3,79,9],[79,10,79,16],[79,17,79,19],[79,20,79,26],[79,27,79,33],[77,133,78,139],[78,20,78,26],[78,27,78,33],[78,34,78,40],[78,41,78,47],[78,48,78,54],[78,55,78,61],[78,62,78,68],[78,69,78,75],[78,76,78,82],[77,97,77,103],[77,104,77,110],[77,111,78,114],[77,115,78,118],[77,119,78,125],[77,126,78,132],[77,55,77,61],[77,62,77,68],[77,69,77,75],[77,76,77,82],[77,83,77,89],[77,90,77,96],[79,133,88,139],[80,1,80,2],[80,3,80,9],[80,10,80,16],[66,34,66,40],[66,41,66,47],[66,48,66,54],[76,111,76,118],[76,119,76,139],[77,3,78,9],[77,10,78,16],[77,17,78,19],[77,20,77,26],[77,27,77,33],[77,34,77,40],[77,41,77,47],[77,48,77,54],[75,69,75,82],[76,3,76,19],[76,20,76,40],[76,41,76,68],[76,69,76,82],[76,83,76,110],[72,20,72,25],[73,10,73,19],[73,20,73,25],[73,26,73,36],[73,37,74,54],[74,10,74,19],[74,20,74,25],[74,26,74,36],[78,83,78,89],[78,90,78,96],[78,97,78,103],[78,104,78,110],[64,126,64,132],[68,104,68,110],[68,133,68,139],[69,104,69,110],[69,133,69,139],[71,1,72,8],[71,10,72,14],[71,15,71,19],[71,20,71,25],[71,26,72,54],[72,15,72,19],[66,97,66,103],[66,104,66,110],[66,119,66,125],[66,126,66,132],[66,133,66,139],[67,62,67,68],[67,104,67,110],[67,133,67,139],[66,55,66,61],[66,62,66,68],[65,1,65,2],[66,69,66,75],[66,76,66,82],[66,83,66,89],[66,90,66,96],[66,3,66,19],[66,20,66,26],[66,27,66,33],[65,3,65,9],[65,10,65,16],[65,17,65,19],[65,20,65,26],[64,34,64,40],[64,41,64,47],[64,48,64,54],[64,55,64,61],[64,69,64,75],[64,83,64,89],[63,97,63,103],[63,111,63,114],[63,119,63,125],[63,126,63,132],[64,1,64,2],[64,3,64,9],[64,10,64,16],[64,17,64,19],[64,20,64,26],[64,27,64,33],[63,41,63,47],[63,48,63,54],[63,55,63,61],[63,69,63,75],[63,83,63,89],[63,90,63,96],[65,83,65,89],[65,90,65,96],[65,97,65,103],[65,111,65,114],[65,119,65,125],[63,1,63,2],[63,3,63,9],[63,10,63,16],[63,17,63,19],[63,20,63,26],[63,27,63,33],[63,34,63,40],[62,41,62,47],[62,48,62,54],[62,55,62,61],[62,69,62,75],[62,83,62,89],[62,90,62,96],[61,111,61,114],[61,119,61,125],[61,126,61,132],[62,1,62,2],[62,3,62,9],[62,10,62,16],[62,17,62,19],[62,20,62,26],[62,27,62,33],[62,34,62,40],[61,41,61,47],[61,48,61,54],[61,55,61,61],[61,69,61,75],[61,83,61,89],[61,90,61,96],[56,115,65,118],[56,119,56,125],[56,126,56,132],[60,111,60,114],[60,126,60,132],[61,1,61,2],[61,3,61,9],[61,10,61,16],[61,17,61,19],[61,20,61,26],[61,27,61,33],[61,34,61,40],[60,41,60,47],[60,48,60,54],[60,55,60,61],[60,69,60,75],[60,83,60,89],[60,90,60,96],[59,111,59,114],[59,119,59,125],[59,126,59,132],[60,1,60,2],[60,3,60,9],[60,10,60,16],[60,17,60,19],[60,20,60,26],[60,27,60,33],[60,34,60,40],[59,41,59,47],[59,48,59,54],[59,55,59,61],[58,111,58,114],[58,119,58,125],[58,126,58,132],[59,1,59,2],[59,3,59,9],[59,10,59,16],[59,17,59,19],[59,20,59,26],[59,27,59,33],[59,34,59,40],[58,48,58,54],[58,55,58,61],[58,69,58,75],[58,83,58,89],[58,90,58,96],[58,97,58,103],[57,119,57,125],[57,126,57,132],[58,1,58,2],[58,3,58,9],[58,10,58,16],[58,17,58,19],[58,20,58,26],[58,27,58,33],[58,34,58,40],[58,41,58,47],[57,55,57,61],[57,69,57,75],[57,83,57,89],[57,90,57,96],[57,97,57,103],[57,111,57,114],[57,17,57,19],[57,20,57,26],[56,69,56,75],[56,76,65,82],[56,83,56,89],[56,90,56,96],[56,97,56,103],[56,104,65,110],[59,97,59,103],[60,97,60,103],[61,97,61,103],[62,97,62,103],[56,27,56,33],[56,34,56,40],[56,41,56,47],[56,48,56,54],[56,55,56,61],[56,62,65,68],[57,27,57,33],[57,34,57,40],[57,41,57,47],[57,48,57,54],[59,69,59,75],[59,83,59,89],[59,90,59,96],[65,27,65,33],[65,34,65,40],[65,41,65,47],[65,48,65,54],[65,55,65,61],[65,69,65,75],[64,90,64,96],[56,1,56,2],[56,3,56,9],[56,10,56,16],[56,17,56,19],[56,20,56,26],[54,126,55,132],[54,133,55,139],[55,20,55,26],[55,27,55,33],[55,34,55,40],[55,41,55,47],[55,48,55,54],[55,55,55,61],[55,62,55,68],[55,69,55,75],[54,90,54,96],[54,97,54,103],[54,104,54,110],[54,111,55,114],[54,115,55,118],[54,119,55,125],[54,48,54,54],[54,55,54,61],[54,62,54,68],[54,69,54,75],[54,76,54,82],[54,83,54,89],[56,111,56,114],[56,133,65,139],[57,1,57,2],[57,3,57,9],[57,10,57,16],[12,128,12,140],[41,126,41,132],[38,119,38,125],[53,83,53,110],[53,111,53,118],[53,119,53,139],[54,3,55,9],[54,10,55,16],[54,17,55,19],[54,20,54,26],[54,27,54,33],[54,34,54,40],[54,41,54,47],[51,26,51,36],[52,69,52,82],[53,3,53,19],[53,20,53,40],[53,41,53,68],[53,69,53,82],[49,20,49,25],[50,10,50,19],[50,20,50,25],[50,26,50,36],[50,37,51,54],[51,10,51,19],[51,20,51,25],[55,76,55,82],[55,83,55,89],[55,90,55,96],[55,97,55,103],[55,104,55,110],[31,126,32,132],[46,104,46,110],[31,133,32,139],[42,119,42,125],[42,126,42,132],[33,133,42,139],[22,176,22,178],[43,104,43,110],[20,30,20,36],[21,30,21,36],[13,37,13,39],[14,37,14,39],[15,37,15,39],[16,37,16,39],[17,37,17,39],[18,37,18,39],[19,37,19,39],[20,37,20,39],[21,37,21,39],[34,126,34,132],[35,119,35,125],[35,126,35,132],[31,104,31,110],[32,83,32,89],[32,90,32,96],[22,149,22,151],[22,152,22,154],[22,155,22,157],[22,158,22,160],[22,161,22,163],[16,158,16,160],[16,161,16,163],[16,164,16,166],[0,1,0,53],[48,1,49,8],[48,10,49,14],[48,15,48,19],[48,20,48,25],[48,26,49,54],[49,15,49,19],[4,3,4,14],[4,22,4,45],[3,46,3,53],[2,46,2,53],[1,46,1,53],[13,128,13,140],[14,128,14,140],[15,128,15,140],[16,128,16,140],[17,128,17,140],[34,111,34,114],[35,111,35,114],[4,15,4,21],[4,46,4,53],[1,3,1,45],[3,3,3,45],[30,119,30,139],[43,133,43,139],[44,133,44,139],[45,133,45,139],[46,133,46,139],[31,119,32,125],[31,83,31,89],[31,90,31,96],[31,97,31,103],[31,115,32,118],[43,119,43,125],[43,126,43,132],[40,119,40,125],[40,126,40,132],[41,119,41,125],[19,161,19,163],[19,164,19,166],[38,126,38,132],[39,119,39,125],[39,126,39,132],[36,119,36,125],[36,126,36,132],[37,119,37,125],[37,126,37,132],[33,119,33,125],[33,126,33,132],[34,119,34,125],[34,149,34,151],[34,152,34,154],[34,155,34,157],[34,158,34,160],[34,161,34,163],[34,164,34,166],[35,149,35,151],[35,152,35,154],[35,155,35,157],[35,158,35,160],[35,161,35,163],[35,164,35,166],[37,149,37,151],[37,152,37,154],[19,176,19,178],[19,179,19,181],[20,152,20,154],[20,155,20,157],[20,158,20,160],[20,161,20,163],[19,152,19,154],[19,155,19,157],[19,158,19,160],[16,176,16,178],[21,167,21,169],[21,170,21,172],[21,173,21,175],[21,176,21,178],[21,179,21,181],[20,167,20,169],[20,170,20,172],[20,173,20,175],[20,176,20,178],[20,179,20,181],[18,179,18,181],[17,173,17,175],[17,176,17,178],[17,179,17,181],[18,161,18,163],[18,164,18,166],[20,164,20,166],[18,167,18,169],[18,170,18,172],[16,167,16,169],[16,170,16,172],[18,176,18,178],[11,161,11,163],[11,164,11,166],[13,179,13,181],[15,167,15,169],[15,170,15,172],[15,173,15,175],[15,176,15,178],[15,179,15,181],[16,152,16,154],[16,155,16,157],[16,179,16,181],[14,179,14,181],[15,152,15,154],[15,155,15,157],[15,158,15,160],[14,173,14,175],[14,170,14,172],[11,167,11,169],[11,170,11,172],[11,173,11,175],[13,173,13,175],[13,176,13,178],[14,167,14,169],[15,161,15,163],[15,164,15,166],[13,167,13,169],[43,3,43,19],[43,20,43,26],[43,27,43,33],[16,173,16,175],[41,20,41,26],[41,27,41,33],[42,20,42,26],[43,34,43,40],[43,41,43,47],[35,83,35,89],[12,167,12,169],[12,170,12,172],[12,173,12,175],[12,176,12,178],[12,179,12,181],[13,152,13,154],[13,155,13,157],[13,158,13,160],[13,161,13,163],[13,164,13,166],[21,149,21,151],[12,152,12,154],[12,155,12,157],[12,158,12,160],[12,161,12,163],[12,164,12,166],[15,149,15,151],[16,149,16,151],[17,149,17,151],[18,149,18,151],[17,152,17,154],[17,155,17,157],[44,62,44,68],[12,149,12,151],[11,149,11,151],[13,149,13,151],[14,149,14,151],[22,164,22,166],[22,167,22,169],[22,170,22,172],[22,173,22,175],[43,62,43,68],[43,69,43,75],[43,76,43,82],[43,83,43,89],[43,90,43,96],[43,97,43,103],[42,83,42,89],[42,90,42,96],[42,97,42,103],[36,83,36,89],[36,90,36,96],[17,158,17,160],[17,161,17,163],[17,164,17,166],[19,149,19,151],[20,149,20,151],[18,173,18,175],[19,173,19,175],[36,111,36,114],[39,111,39,114],[40,111,40,114],[41,111,41,114],[44,104,44,110],[37,55,37,61],[34,41,34,47],[34,48,34,54],[35,27,35,33],[35,34,35,40],[36,20,36,26],[36,27,36,33],[34,55,34,61],[43,48,43,54],[43,55,43,61],[40,83,40,89],[40,90,40,96],[40,97,40,103],[41,83,41,89],[41,90,41,96],[41,97,41,103],[38,83,38,89],[38,90,38,96],[38,97,38,103],[39,83,39,89],[39,90,39,96],[39,97,39,103],[41,34,41,40],[42,34,42,40],[35,90,35,96],[35,97,35,103],[42,69,42,75],[42,48,42,54],[42,55,42,61],[37,83,37,89],[37,90,37,96],[37,97,37,103],[35,41,35,47],[32,62,32,68],[32,55,32,61],[36,97,36,103],[39,20,39,26],[39,27,39,33],[35,20,35,26],[36,41,36,47],[31,69,31,75],[30,69,30,82],[31,76,31,82],[32,69,32,75],[32,76,32,82],[35,48,35,54],[35,55,35,61],[33,41,33,47],[33,48,33,54],[33,55,33,61],[33,20,33,26],[33,27,33,33],[33,34,33,40],[36,34,36,40],[37,20,37,26],[37,27,37,33],[37,34,37,40],[34,20,34,26],[34,27,34,33],[34,34,34,40],[36,48,36,54],[36,55,36,61],[37,41,37,47]],"merged_total":2827,"flags":["merged_cut"]}
[null,{"$f":"\"令和\"&DBCS(基本項目!$B$3)&\"年度　国民健康保険税　簡易計算（概算）\"","v":"令和６年度　国民健康保険税　簡易計算（概算）"}]
[null,null,null,"下の被保険者に入っていない擬主及び特定同一世帯所属者の総所得金額"]
[null,null,null,"下の被保険者に入っていない特定同一世帯所属者の人数",null,null,null,null,null,null,null,null,null,null,null,null,null,null,null,null,null,null,null,null,null,null,null,null,null,null,null,null,null,null,null,null,null,{"$f":"IF(AU2=\"\",\"\",IF(AU3=\"\",\"人数→\",\"\"))","v":""}]
[null,null,null,"世帯の軽減判定所得合計 ＝ 擬主 ＋ 被保険者 ＋ 特定同一世帯所属者",null,null,null,null,null,null,null,null,null,null,null,null,null,null,null,null,null,null,null,null,null,null,null,null,null,null,null,null,null,null,null,null,null,null,null,null,null,null,null,null,null,null,{"$f":"SUM(GD26)","v":0}]
[null,null,null,"軽減判定人数",null,null,null,null,null,null,null,null,null,null,null,{"$f":"IF(SUM($AU$3,$GD$27)=0,0,SUM($AU$3,$GD$27))","v":0},null,null,null,null,null,null,"軽減判定結果　⇒　",null,null,null,null,null,null,null,null,null,null,null,null,null,null,null,null,null,null,null,null,null,null,null,{"$f":"IF(国民健康保険税軽減早見表H26から!$AN$20=\"\",\"\",国民健康保険税軽減早見表H26から!$AN$20)","v":""}]
[]
[null,null,null,"平等割額の軽減特例措置\n　国保被保険者が後期高齢者医療への移行により，残る世帯員が国保単身世帯になった場合，世帯にかかる平等割額を減額する。\n　H24まで：1/2減額(5年間)，H25から：1/2減額(5年間)，6年目から1/4減額(3年間延長)",null,null,null,null,null,null,null,null,null,null,null,null,null,null,null,null,null,null,null,null,null,null,null,null,null,null,null,null,null,null,null,null,null,null,null,null,null,null,null,null,null,null,null,null,null,null,null,null,null,null,null,null,null,null,null,null,null,null,null,null,null,null,null,null,null,null,null,null,null,null,null,null,null,null,null,null,null,null,null,null,null,null,null,null,null,null,null,null,null,"国保加入の届出月",null,null,null,null,null,null,null,null,null,null,null,null,null,null,null,null,null,null,null,{"$f":"IF(SUM(AY13:BE22)=0,\"\",\"該当あれば\n入力\")","v":""},null,null,null,null,null,null,null,null,null,null,null,null,null,null,"この下の「所得金額調整控除不要？」のエラーで，自分，同一生計配偶者，扶養親族のいずれかが特別障害者，又は２３歳未満の扶養親族がいる。という条件が無い場合は，エラーのままでＯＫ"]
[null,null,null,null,null,null,null,null,null,null,null,null,null,null,null,null,null,null,null,null,null,null,null,null,null,null,null,null,null,null,null,null,null,null,null,null,null,null,null,null,null,null,null,null,null,null,null,null,null,null,null,null,null,null,null,null,null,null,null,null,null,null,null,null,null,null,null,null,null,null,null,null,null,null,null,null,null,null,null,null,null,null,null,null,null,null,null,null,null,null,null,null,null,null,null,null,null,null,null,null,null,"月"]
[null,null,null,null,null,null,null,null,null,null,null,null,null,null,null,null,null,null,null,null,null,null,null,null,null,null,null,null,null,null,null,null,null,null,null,null,null,null,null,null,null,null,null,null,null,null,null,null,null,null,null,null,null,null,null,null,null,null,null,null,null,null,null,null,null,null,null,null,null,null,null,null,null,null,null,null,null,null,null,null,null,null,null,null,null,null,null,null,null,null,null,null,null,null,null,null,null,null,null,null,null,null,null,null,null,null,null,null,null,null,null,null,null,null,null,null,null,null,null,null,null,null,null,null,null,null,null,null,null,null,null,null,null,null,null,null,null,null,null,null,null,null,null,null,null,null,null,null,null,"１２カ月すべての場合「○」は入力しなくてＯＫ\n　注：該当月数を指定する場合のみ「○」を入力"]
[null,null,"【被保険者の入力】"]
[null,null,null,"氏　　名",null,null,null,null,null,null,"生年月日",null,null,null,null,null,null,"年齢",null,null,"年齢\n直接\n入力",null,null,"給与収入",null,null,null,null,null,null,"給与所得",null,null,null,null,null,null,"所得\n金額\n調整\n控除",null,null,"非自発的失業",null,null,"非自発的失業\n該当\n30/100所得",null,null,null,null,null,null,"公的年金収入",null,null,null,null,null,null,"公的年金所得",null,null,null,null,null,null,"その他所得",null,null,null,null,null,null,"給与収入の内\n専従者\n給与分収入額",null,null,null,null,null,null,"純繰越\nﾏｲﾅｽ入力",null,null,null,null,null,null,"雑繰越\nﾏｲﾅｽ入力",null,null,null,null,null,null,"分離所得\n特別控除前",null,null,null,null,null,null,"分離所得\n特別控除額\nﾌﾟﾗｽ入力",null,null,null,null,null,null,"国保税\n総所得金額",null,null,null,null,null,null,"年金所得に係る雑所得以外の\n合計所得金額",null,null,null,null,null,null,null,null,null,null,null,null,null,null,null,null,null,null,null,null,null,null,null,null,null,null,null,null,null,null,"給与\nOR\n年金",null,null,null,null,"月途中の加入は該当するが，月途中に抜ける場合はその月は非該当",null,null,null,null,null,null,null,null,null,null,null,null,null,null,null,null,null,null,null,null,null,null,null,null,null,null,null,null,null,null,null,null,null,null,null,"該当\n月数",null,null,null,"世帯\n月数",null,null,null,"障害",null,null,null,null,null,null,null,"該当月判定用（介護）",null,null,null,null,null,null,null,null,null,null,null,null,null,null,null,null,null,null,null,null,null,null,null,null,null,null,null,null,null,null,null,null,null,null,null,"介護\n該当",null,null,null,"国保\n該当",null,null,null,null,null,"該当月判定用（後期）",null,null,null,null,null,null,null,null,null,null,null,null,null,null,null,null,null,null,null,null,null,null,null,null,null,null,null,null,null,null,null,null,null,null,null,"後期\n該当",null,null,null,"国保\n該当",null,null,null,null,null,"該当月判定用（修正後）介護",null,null,null,null,null,null,null,null,null,null,null,null,null,null,null,null,null,null,null,null,null,null,null,null,null,null,null,null,null,null,null,null,null,null,null,"介護\n該当",null,null,null,"国保\n該当",null,null,null,"障害",null,null,null,null,"該当月判定用（修正後）後期",null,null,null,null,null,null,null,null,null,null,null,null,null,null,null,null,null,null,null,null,null,null,null,null,null,null,null,null,null,null,null,null,null,null,null,"後期\n該当",null,null,null,"国保\n該当",null,null,null,"障害",null,null,null,null,"軽減判定用所得計算"]
[null,null,null,null,null,null,null,null,null,null,null,null,null,null,null,null,null,null,null,null,null,null,null,null,null,null,null,null,null,null,null,null,null,null,null,null,null,null,null,null,null,null,null,null,null,null,null,null,null,null,null,null,null,null,null,null,null,null,null,null,null,null,null,null,null,null,null,null,null,null,null,null,null,null,null,null,null,null,null,null,null,null,null,null,null,null,null,null,null,null,null,null,null,null,null,null,null,null,null,null,null,null,null,null,null,null,null,null,null,null,null,null,null,null,null,null,null,null,null,null,null,null,null,null,null,null,null,null,"↓↓↓↓↓↓",null,null,null,null,null,null,null,null,null,null,null,null,null,null,null,null,null,null,null,null,4,null,null,5,null,null,6,null,null,7,null,null,8,null,null,9,null,null,10,null,null,11,null,null,12,null,null,1,null,null,2,null,null,3,null,null,null,null,null,null,null,null,null,null,null,null,null,null,null,null,null,null,4,null,null,5,null,null,6,null,null,7,null,null,8,null,null,9,null,null,10,null,null,11,null,null,12,null,null,1,null,null,2,null,null,3,null,null,"月数計",null,null,null,"月数計",null,null,null,null,null,4,null,null,5,null,null,6,null,null,7,null,null,8,null,null,9,null,null,10,null,null,11,null,null,12,null,null,1,null,null,2,null,null,3,null,null,"月数計",null,null,null,"月数計",null,null,null,null,null,4,null,null,5,null,null,6,null,null,7,null,null,8,null,null,9,null,null,10,null,null,11,null,null,12,null,null,1,null,null,2,null,null,3,null,null,"月数計",null,null,null,"月数計",null,null,null,null,null,null,null,null,4,null,null,5,null,null,6,null,null,7,null,null,8,null,null,9,null,null,10,null,null,11,null,null,12,null,null,1,null,null,2,null,null,3,null,null,"月数計",null,null,null,"月数計",null,null,null,null,null,null,null,null,4,null,null,5,null,null,6,null,null,7,null,null,8,null,null,9,null,null,10,null,null,11,null,null,12,null,null,1,null,null,2,null,null,3]
[null,1,null,null,null,null,null,null,null,null,null,null,null,null,null,null,null,{"$f":"IF(AND($U13=\"\",$K13=\"\"),\"\",IF($U13=\"\",所得計算!$I6,$U13))","v":""},null,null,null,null,null,null,null,null,null,null,null,null,{"$f":"IF(所得計算!AI$4=\"\",\"\",所得計算!AI$4)","v":""},null,null,null,null,null,null,null,null,null,null,null,null,{"$f":"IF($AE13=\"\",\"\",IF($AO13=1,ROUNDDOWN(SUM($AE13)*0.3,0),\"\"))","v":""},null,null,null,null,null,null,null,null,null,null,null,null,null,{"$f":"IF(所得計算!AI$23=\"\",\"\",所得計算!AI$23)","v":""},null,null,null,null,null,null,null,null,null,null,null,null,null,null,null,null,null,null,null,null,null,null,null,null,null,null,null,null,null,null,null,null,null,null,null,null,null,null,null,null,null,null,null,null,null,null,null,null,{"$f":"IF(R13=\"\",\"\",IF(AO13=1,SUM(AR13,BF13,BM13,CA13,CO13)-SUM(CV13),SUM(AE13,BF13,BM13,CA13,CO13)-SUM(CV13)))","v":""},null,null,null,null,null,null,null,null,null,null,null,null,null,{"$f":"IF(AND(D13<>\"\",K13=\"\",U13=\"\"),\"生年月日又は年齢\",IF(AND(D13=\"\",OR(K13<>\"\",U13<>\"\")),\"氏名は必要\",\"\"))","v":""},null,null,null,null,null,null,null,{"$f":"IF(OR(AND(SUM($AL13)=1,SUM($X13)<=8500000),AND(SUM($AL13)=1,SUM($X13)>8500000,SUM($BF13)>0)),\"所得金額調整控除１？\",IF(OR(AND(SUM($AL13)=2,OR(SUM(所得計算!$BE$5:$BE$15)=0,SUM($BF13)=0)),AND(SUM($AL13)=2,OR(SUM($X13)>8500000,SUM($BF13)=0))),\"所得金額調整控除２？\",IF(AND(SUM($AL13)=3,OR(SUM($X13)<=8500000,SUM($BF13)=0)),\"所得金額調整控除３？\",IF(AND($AL13=\"\",OR(SUM($X13)>8500000,AND(SUM(所得計算!$BE$5:$BE$15)>0,SUM($BF13)>0))),\"所得金額調整控除サイン不要？\",\"\"))))","v":""},null,null,null,null,null,null,null,null,null,null,null,null,{"$f":"SUM(DC13,$AU$2,CH13,CV13)-SUM(所得計算!$AT$4)","v":0},null,null,{"$f":"IF(OR(SUM(AE13)>0,SUM(BF13)>0),1,\"\")","v":""},null,null,1,null,null,null,null,null,null,null,null,null,null,null,null,null,null,null,null,null,null,null,null,null,null,null,null,null,null,null,null,null,null,null,null,null,null,null,null,null,{"$f":"IF(D13=\"\",\"\",IF(COUNTIF(ET13:GC13,\"○\")=0,12,COUNTIF(ET13:GC13,\"○\")))","v":""},null,null,null,{"$f":"IF(SUM(GD13:GG22)=0,\"\",IF(MAX(GD13:GG22)>=12,12,SUM(ET23:GC23)))","v":""},null,null,null,null,null,null,{"$f":"IF($GL13=\"\",\"\",IF(HLOOKUP($GL13,$GT$12:$IC$22,2,FALSE)>=65,\"\",\"65未到達\"))","v":""},null,null,null,null,{"$f":"IF($R13=\"\",\"\",IF($U13=\"\",IF(EOMONTH(VALUE(\"R\"&基本項目!$B$3&\".\"&ET$12&\".1\"),0)<$K13,\"\",DATEDIF($K13-1,EOMONTH(VALUE(\"R\"&基本項目!$B$3&\".\"&ET$12&\".1\")-1,1),\"Y\")),$U13))","v":""},null,null,{"$f":"IF($R13=\"\",\"\",IF($U13=\"\",IF(EOMONTH(VALUE(\"R\"&基本項目!$B$3&\".\"&EW$12&\".1\"),0)<$K13,\"\",DATEDIF($K13-1,EOMONTH(VALUE(\"R\"&基本項目!$B$3&\".\"&EW$12&\".1\")-1,1),\"Y\")),$U13))","v":""},null,null,{"$f":"IF($R13=\"\",\"\",IF($U13=\"\",IF(EOMONTH(VALUE(\"R\"&基本項目!$B$3&\".\"&EZ$12&\".1\"),0)<$K13,\"\",DATEDIF($K13-1,EOMONTH(VALUE(\"R\"&基本項目!$B$3&\".\"&EZ$12&\".1\")-1,1),\"Y\")),$U13))","v":""},null,null,{"$f":"IF($R13=\"\",\"\",IF($U13=\"\",IF(EOMONTH(VALUE(\"R\"&基本項目!$B$3&\".\"&FC$12&\".1\"),0)<$K13,\"\",DATEDIF($K13-1,EOMONTH(VALUE(\"R\"&基本項目!$B$3&\".\"&FC$12&\".1\")-1,1),\"Y\")),$U13))","v":""},null,null,{"$f":"IF($R13=\"\",\"\",IF($U13=\"\",IF(EOMONTH(VALUE(\"R\"&基本項目!$B$3&\".\"&FF$12&\".1\"),0)<$K13,\"\",DATEDIF($K13-1,EOMONTH(VALUE(\"R\"&基本項目!$B$3&\".\"&FF$12&\".1\")-1,1),\"Y\")),$U13))","v":""},null,null,{"$f":"IF($R13=\"\",\"\",IF($U13=\"\",IF(EOMONTH(VALUE(\"R\"&基本項目!$B$3&\".\"&FI$12&\".1\"),0)<$K13,\"\",DATEDIF($K13-1,EOMONTH(VALUE(\"R\"&基本項目!$B$3&\".\"&FI$12&\".1\")-1,1),\"Y\")),$U13))","v":""},null,null,{"$f":"IF($R13=\"\",\"\",IF($U13=\"\",IF(EOMONTH(VALUE(\"R\"&基本項目!$B$3&\".\"&FL$12&\".1\"),0)<$K13,\"\",DATEDIF($K13-1,EOMONTH(VALUE(\"R\"&基本項目!$B$3&\".\"&FL$12&\".1\")-1,1),\"Y\")),$U13))","v":""},null,null,{"$f":"IF($R13=\"\",\"\",IF($U13=\"\",IF(EOMONTH(VALUE(\"R\"&基本項目!$B$3&\".\"&FO$12&\".1\"),0)<$K13,\"\",DATEDIF($K13-1,EOMONTH(VALUE(\"R\"&基本項目!$B$3&\".\"&FO$12&\".1\")-1,1),\"Y\")),$U13))","v":""},null,null,{"$f":"IF($R13=\"\",\"\",IF($U13=\"\",IF(EOMONTH(VALUE(\"R\"&基本項目!$B$3&\".\"&FR$12&\".1\"),0)<$K13,\"\",DATEDIF($K13-1,EOMONTH(VALUE(\"R\"&基本項目!$B$3&\".\"&FR$12&\".1\")-1,1),\"Y\")),$U13))","v":""},null,null,{"$f":"IF($R13=\"\",\"\",IF($U13=\"\",IF(EOMONTH(VALUE(\"R\"&基本項目!$B$3+1&\".\"&FU$12&\".1\"),0)<$K13,\"\",DATEDIF($K13-1,EOMONTH(VALUE(\"R\"&基本項目!$B$3+1&\".\"&FU$12&\".1\")-1,1),\"Y\")),$U13))","v":""},null,null,{"$f":"IF($R13=\"\",\"\",IF($U13=\"\",IF(EOMONTH(VALUE(\"R\"&基本項目!$B$3+1&\".\"&FX$12&\".1\"),0)<$K13,\"\",DATEDIF($K13-1,EOMONTH(VALUE(\"R\"&基本項目!$B$3+1&\".\"&FX$12&\".1\")-1,1),\"Y\")),$U13))","v":""},null,null,{"$f":"IF($R13=\"\",\"\",IF($U13=\"\",IF(EOMONTH(VALUE(\"R\"&基本項目!$B$3+1&\".\"&GA$12&\".1\"),0)<$K13,\"\",DATEDIF($K13-1,EOMONTH(VALUE(\"R\"&基本項目!$B$3+1&\".\"&GA$12&\".1\")-1,1),\"Y\")),$U13))","v":""},null,null,{"$f":"IF($R13=\"\",\"\",SUMPRODUCT(($GT13:$IC13<65)*($GT13:$IC13>=40)))","v":""},null,null,null,{"$f":"IF($R13=\"\",\"\",COUNTIF($GT13:$IC13,\"<75\"))","v":""},null,null,null,null,null,{"$f":"IF($R13=\"\",\"\",IF($U13=\"\",IF(EOMONTH(VALUE(\"R\"&基本項目!$B$3&\".\"&ET$12&\".1\"),0)<$K13,\"\",DATEDIF($K13,EOMONTH(VALUE(\"R\"&基本項目!$B$3&\".\"&ET$12&\".1\")-1,1),\"Y\")),$U13))","v":""},null,null,{"$f":"IF($R13=\"\",\"\",IF($U13=\"\",IF(EOMONTH(VALUE(\"R\"&基本項目!$B$3&\".\"&EW$12&\".1\"),0)<$K13,\"\",DATEDIF($K13,EOMONTH(VALUE(\"R\"&基本項目!$B$3&\".\"&EW$12&\".1\")-1,1),\"Y\")),$U13))","v":""},null,null,{"$f":"IF($R13=\"\",\"\",IF($U13=\"\",IF(EOMONTH(VALUE(\"R\"&基本項目!$B$3&\".\"&EZ$12&\".1\"),0)<$K13,\"\",DATEDIF($K13,EOMONTH(VALUE(\"R\"&基本項目!$B$3&\".\"&EZ$12&\".1\")-1,1),\"Y\")),$U13))","v":""},null,null,{"$f":"IF($R13=\"\",\"\",IF($U13=\"\",IF(EOMONTH(VALUE(\"R\"&基本項目!$B$3&\".\"&FC$12&\".1\"),0)<$K13,\"\",DATEDIF($K13,EOMONTH(VALUE(\"R\"&基本項目!$B$3&\".\"&FC$12&\".1\")-1,1),\"Y\")),$U13))","v":""},null,null,{"$f":"IF($R13=\"\",\"\",IF($U13=\"\",IF(EOMONTH(VALUE(\"R\"&基本項目!$B$3&\".\"&FF$12&\".1\"),0)<$K13,\"\",DATEDIF($K13,EOMONTH(VALUE(\"R\"&基本項目!$B$3&\".\"&FF$12&\".1\")-1,1),\"Y\")),$U13))","v":""},null,null,{"$f":"IF($R13=\"\",\"\",IF($U13=\"\",IF(EOMONTH(VALUE(\"R\"&基本項目!$B$3&\".\"&FI$12&\".1\"),0)<$K13,\"\",DATEDIF($K13,EOMONTH(VALUE(\"R\"&基本項目!$B$3&\".\"&FI$12&\".1\")-1,1),\"Y\")),$U13))","v":""},null,null,{"$f":"IF($R13=\"\",\"\",IF($U13=\"\",IF(EOMONTH(VALUE(\"R\"&基本項目!$B$3&\".\"&FL$12&\".1\"),0)<$K13,\"\",DATEDIF($K13,EOMONTH(VALUE(\"R\"&基本項目!$B$3&\".\"&FL$12&\".1\")-1,1),\"Y\")),$U13))","v":""},null,null,{"$f":"IF($R13=\"\",\"\",IF($U13=\"\",IF(EOMONTH(VALUE(\"R\"&基本項目!$B$3&\".\"&FO$12&\".1\"),0)<$K13,\"\",DATEDIF($K13,EOMONTH(VALUE(\"R\"&基本項目!$B$3&\".\"&FO$12&\".1\")-1,1),\"Y\")),$U13))","v":""},null,null,{"$f":"IF($R13=\"\",\"\",IF($U13=\"\",IF(EOMONTH(VALUE(\"R\"&基本項目!$B$3&\".\"&FR$12&\".1\"),0)<$K13,\"\",DATEDIF($K13,EOMONTH(VALUE(\"R\"&基本項目!$B$3&\".\"&FR$12&\".1\")-1,1),\"Y\")),$U13))","v":""},null,null,{"$f":"IF($R13=\"\",\"\",IF($U13=\"\",IF(EOMONTH(VALUE(\"R\"&基本項目!$B$3+1&\".\"&FU$12&\".1\"),0)<$K13,\"\",DATEDIF($K13,EOMONTH(VALUE(\"R\"&基本項目!$B$3+1&\".\"&FU$12&\".1\")-1,1),\"Y\")),$U13))","v":""},null,null,{"$f":"IF($R13=\"\",\"\",IF($U13=\"\",IF(EOMONTH(VALUE(\"R\"&基本項目!$B$3+1&\".\"&FX$12&\".1\"),0)<$K13,\"\",DATEDIF($K13,EOMONTH(VALUE(\"R\"&基本項目!$B$3+1&\".\"&FX$12&\".1\")-1,1),\"Y\")),$U13))","v":""},null,null,{"$f":"IF($R13=\"\",\"\",IF($U13=\"\",IF(EOMONTH(VALUE(\"R\"&基本項目!$B$3+1&\".\"&GA$12&\".1\"),0)<$K13,\"\",DATEDIF($K13,EOMONTH(VALUE(\"R\"&基本項目!$B$3+1&\".\"&GA$12&\".1\")-1,1),\"Y\")),$U13))","v":""},null,null,{"$f":"IF($R13=\"\",\"\",COUNTIF($IN13:$JW13,\">=75\"))","v":""},null,null,null,{"$f":"IF($R13=\"\",\"\",COUNTIF($IN13:$JW13,\"<75\"))","v":""},null,null,null,null,null,{"$f":"IF(SUM($GD13)=12,GT13,IF(SUM($GD13)=0,\"\",IF(ET13=\"\",\"\",GT13)))","v":""},null,null,{"$f":"IF(SUM($GD13)=12,GW13,IF(SUM($GD13)=0,\"\",IF(EW13=\"\",\"\",GW13)))","v":""},null,null,{"$f":"IF(SUM($GD13)=12,GZ13,IF(SUM($GD13)=0,\"\",IF(EZ13=\"\",\"\",GZ13)))","v":""},null,null,{"$f":"IF(SUM($GD13)=12,HC13,IF(SUM($GD13)=0,\"\",IF(FC13=\"\",\"\",HC13)))","v":""},null,null,{"$f":"IF(SUM($GD13)=12,HF13,IF(SUM($GD13)=0,\"\",IF(FF13=\"\",\"\",HF13)))","v":""},null,null,{"$f":"IF(SUM($GD13)=12,HI13,IF(SUM($GD13)=0,\"\",IF(FI13=\"\",\"\",HI13)))","v":""},null,null,{"$f":"IF(SUM($GD13)=12,HL13,IF(SUM($GD13)=0,\"\",IF(FL13=\"\",\"\",HL13)))","v":""},null,null,{"$f":"IF(SUM($GD13)=12,HO13,IF(SUM($GD13)=0,\"\",IF(FO13=\"\",\"\",HO13)))","v":""},null,null,{"$f":"IF(SUM($GD13)=12,HR13,IF(SUM($GD13)=0,\"\",IF(FR13=\"\",\"\",HR13)))","v":""},null,null,{"$f":"IF(SUM($GD13)=12,HU13,IF(SUM($GD13)=0,\"\",IF(FU13=\"\",\"\",HU13)))","v":""},null,null,{"$f":"IF(SUM($GD13)=12,HX13,IF(SUM($GD13)=0,\"\",IF(FX13=\"\",\"\",HX13)))","v":""},null,null,{"$f":"IF(SUM($GD13)=12,IA13,IF(SUM($GD13)=0,\"\",IF(GA13=\"\",\"\",IA13)))","v":""},null,null,{"$f":"IF($R13=\"\",\"\",SUMPRODUCT(($KH13:$LQ13<65)*($KH13:$LQ13>=40)))","v":""},null,null,null,{"$f":"IF($R13=\"\",\"\",COUNTIF($KH13:$LQ13,\"<75\"))","v":""},null,null,null,{"$f":"IF(GL13=\"\",\"\",IF(AND(GL13>=1,GL13<=3),GL13+12,GL13))","v":""},null,null,null,null,{"$f":"IF(SUM($GD13)=12,IN13,IF(SUM($GD13)=0,\"\",IF(ET13=\"\",\"\",IN13)))","v":""},null,null,{"$f":"IF(SUM($GD13)=12,IQ13,IF(SUM($GD13)=0,\"\",IF(EW13=\"\",\"\",IQ13)))","v":""},null,null,{"$f":"IF(SUM($GD13)=12,IT13,IF(SUM($GD13)=0,\"\",IF(EZ13=\"\",\"\",IT13)))","v":""},null,null,{"$f":"IF(SUM($GD13)=12,IW13,IF(SUM($GD13)=0,\"\",IF(FC13=\"\",\"\",IW13)))","v":""},null,null,{"$f":"IF(SUM($GD13)=12,IZ13,IF(SUM($GD13)=0,\"\",IF(FF13=\"\",\"\",IZ13)))","v":""},null,null,{"$f":"IF(SUM($GD13)=12,JC13,IF(SUM($GD13)=0,\"\",IF(FI13=\"\",\"\",JC13)))","v":""},null,null,{"$f":"IF(SUM($GD13)=12,JF13,IF(SUM($GD13)=0,\"\",IF(FL13=\"\",\"\",JF13)))","v":""},null,null,{"$f":"IF(SUM($GD13)=12,JI13,IF(SUM($GD13)=0,\"\",IF(FO13=\"\",\"\",JI13)))","v":""},null,null,{"$f":"IF(SUM($GD13)=12,JL13,IF(SUM($GD13)=0,\"\",IF(FR13=\"\",\"\",JL13)))","v":""},null,null,{"$f":"IF(SUM($GD13)=12,JO13,IF(SUM($GD13)=0,\"\",IF(FU13=\"\",\"\",JO13)))","v":""},null,null,{"$f":"IF(SUM($GD13)=12,JR13,IF(SUM($GD13)=0,\"\",IF(FX13=\"\",\"\",JR13)))","v":""},null,null,{"$f":"IF(SUM($GD13)=12,JU13,IF(SUM($GD13)=0,\"\",IF(GA13=\"\",\"\",JU13)))","v":""},null,null,{"$f":"IF($R13=\"\",\"\",COUNTIF($ME13:$NN13,\">=75\"))","v":""},null,null,null,{"$f":"IF($R13=\"\",\"\",COUNTIF($ME13:$NN13,\"<75\"))","v":""},null,null,null,{"$f":"IF(GL13=\"\",\"\",IF(AND(GL13>=1,GL13<=3),GL13+12,GL13))","v":""},null,null,null,null,{"$f":"IF(SUM($GD13)=12,SUM($EL13),\"\")","v":""},null,null,{"$f":"IF(EW13=\"○\",SUM($EL13),\"\")","v":""},null,null,{"$f":"IF(EZ13=\"○\",SUM($EL13),\"\")","v":""},null,null,{"$f":"IF(FC13=\"○\",SUM($EL13),\"\")","v":""},null,null,{"$f":"IF(FF13=\"○\",SUM($EL13),\"\")","v":""},null,null,{"$f":"IF(FI13=\"○\",SUM($EL13),\"\")","v":""},null,null,{"$f":"IF(FL13=\"○\",SUM($EL13),\"\")","v":""},null,null,{"$f":"IF(FO13=\"○\",SUM($EL13),\"\")","v":""},null,null,{"$f":"IF(FR13=\"○\",SUM($EL13),\"\")","v":""},null,null,{"$f":"IF(FU13=\"○\",SUM($EL13),\"\")","v":""},null,null,{"$f":"IF(FX13=\"○\",SUM($EL13),\"\")","v":""},null,null,{"$f":"IF(GA13=\"○\",SUM($EL13),\"\")","v":""}]
[null,2,null,null,null,null,null,null,null,null,null,null,null,null,null,null,null,{"$f":"IF(AND($U14=\"\",$K14=\"\"),\"\",IF($U14=\"\",所得計算!$I7,$U14))","v":""},null,null,null,null,null,null,null,null,null,null,null,null,{"$f":"IF(所得計算!AJ$4=\"\",\"\",所得計算!AJ$4)","v":""},null,null,null,null,null,null,null,null,null,null,null,null,"",null,null,null,null,null,null,null,null,null,null,null,null,null,{"$f":"IF(所得計算!AJ$23=\"\",\"\",所得計算!AJ$23)","v":""},null,null,null,null,null,null,null,null,null,null,null,null,null,null,null,null,null,null,null,null,null,null,null,null,null,null,null,null,null,null,null,null,null,null,null,null,null,null,null,null,null,null,null,null,null,null,null,null,"",null,null,null,null,null,null,null,null,null,null,null,null,null,"",null,null,null,null,null,null,null,{"$f":"IF(OR(AND(SUM($AL14)=1,SUM($X14)<=8500000),AND(SUM($AL14)=1,SUM($X14)>8500000,SUM($BF14)>0)),\"所得金額調整控除１？\",IF(OR(AND(SUM($AL14)=2,OR(SUM(所得計算!$BF$5:$BF$15)=0,SUM($BF14)=0)),AND(SUM($AL14)=2,OR(SUM($X14)>8500000,SUM($BF14)=0))),\"所得金額調整控除２？\",IF(AND(SUM($AL14)=3,OR(SUM($X14)<=8500000,SUM($BF14)=0)),\"所得金額調整控除３？\",IF(AND($AL14=\"\",OR(SUM($X14)>8500000,AND(SUM(所得計算!$BF$5:$BF$15)>0,SUM($BF14)>0))),\"所得金額調整控除サイン不要？\",\"\"))))","v":""},null,null,null,null,null,null,null,null,null,null,null,null,{"$f":"SUM(DC14,$AU$2,CH14,CV14)-SUM(所得計算!$AU$4)","v":0},null,null,{"$f":"IF(OR(SUM(AE14)>0,SUM(BF14)>0),1,\"\")","v":""},null,null,2,null,null,null,null,null,null,null,null,null,null,null,null,null,null,null,null,null,null,null,null,null,null,null,null,null,null,null,null,null,null,null,null,null,null,null,null,null,"",null,null,null,null,null,null,null,null,null,null,{"$f":"IF($GL14=\"\",\"\",IF(HLOOKUP($GL14,$GT$12:$IC$22,3,FALSE)>=65,\"\",\"65未到達\"))","v":""},null,null,null,null,{"$f":"IF($R14=\"\",\"\",IF($U14=\"\",IF(EOMONTH(VALUE(\"R\"&基本項目!$B$3&\".\"&ET$12&\".1\"),0)<$K14,\"\",DATEDIF($K14-1,EOMONTH(VALUE(\"R\"&基本項目!$B$3&\".\"&ET$12&\".1\")-1,1),\"Y\")),$U14))","v":""},null,null,{"$f":"IF($R14=\"\",\"\",IF($U14=\"\",IF(EOMONTH(VALUE(\"R\"&基本項目!$B$3&\".\"&EW$12&\".1\"),0)<$K14,\"\",DATEDIF($K14-1,EOMONTH(VALUE(\"R\"&基本項目!$B$3&\".\"&EW$12&\".1\")-1,1),\"Y\")),$U14))","v":""},null,null,{"$f":"IF($R14=\"\",\"\",IF($U14=\"\",IF(EOMONTH(VALUE(\"R\"&基本項目!$B$3&\".\"&EZ$12&\".1\"),0)<$K14,\"\",DATEDIF($K14-1,EOMONTH(VALUE(\"R\"&基本項目!$B$3&\".\"&EZ$12&\".1\")-1,1),\"Y\")),$U14))","v":""},null,null,{"$f":"IF($R14=\"\",\"\",IF($U14=\"\",IF(EOMONTH(VALUE(\"R\"&基本項目!$B$3&\".\"&FC$12&\".1\"),0)<$K14,\"\",DATEDIF($K14-1,EOMONTH(VALUE(\"R\"&基本項目!$B$3&\".\"&FC$12&\".1\")-1,1),\"Y\")),$U14))","v":""},null,null,{"$f":"IF($R14=\"\",\"\",IF($U14=\"\",IF(EOMONTH(VALUE(\"R\"&基本項目!$B$3&\".\"&FF$12&\".1\"),0)<$K14,\"\",DATEDIF($K14-1,EOMONTH(VALUE(\"R\"&基本項目!$B$3&\".\"&FF$12&\".1\")-1,1),\"Y\")),$U14))","v":""},null,null,{"$f":"IF($R14=\"\",\"\",IF($U14=\"\",IF(EOMONTH(VALUE(\"R\"&基本項目!$B$3&\".\"&FI$12&\".1\"),0)<$K14,\"\",DATEDIF($K14-1,EOMONTH(VALUE(\"R\"&基本項目!$B$3&\".\"&FI$12&\".1\")-1,1),\"Y\")),$U14))","v":""},null,null,{"$f":"IF($R14=\"\",\"\",IF($U14=\"\",IF(EOMONTH(VALUE(\"R\"&基本項目!$B$3&\".\"&FL$12&\".1\"),0)<$K14,\"\",DATEDIF($K14-1,EOMONTH(VALUE(\"R\"&基本項目!$B$3&\".\"&FL$12&\".1\")-1,1),\"Y\")),$U14))","v":""},null,null,{"$f":"IF($R14=\"\",\"\",IF($U14=\"\",IF(EOMONTH(VALUE(\"R\"&基本項目!$B$3&\".\"&FO$12&\".1\"),0)<$K14,\"\",DATEDIF($K14-1,EOMONTH(VALUE(\"R\"&基本項目!$B$3&\".\"&FO$12&\".1\")-1,1),\"Y\")),$U14))","v":""},null,null,{"$f":"IF($R14=\"\",\"\",IF($U14=\"\",IF(EOMONTH(VALUE(\"R\"&基本項目!$B$3&\".\"&FR$12&\".1\"),0)<$K14,\"\",DATEDIF($K14-1,EOMONTH(VALUE(\"R\"&基本項目!$B$3&\".\"&FR$12&\".1\")-1,1),\"Y\")),$U14))","v":""},null,null,{"$f":"IF($R14=\"\",\"\",IF($U14=\"\",IF(EOMONTH(VALUE(\"R\"&基本項目!$B$3+1&\".\"&FU$12&\".1\"),0)<$K14,\"\",DATEDIF($K14-1,EOMONTH(VALUE(\"R\"&基本項目!$B$3+1&\".\"&FU$12&\".1\")-1,1),\"Y\")),$U14))","v":""},null,null,{"$f":"IF($R14=\"\",\"\",IF($U14=\"\",IF(EOMONTH(VALUE(\"R\"&基本項目!$B$3+1&\".\"&FX$12&\".1\"),0)<$K14,\"\",DATEDIF($K14-1,EOMONTH(VALUE(\"R\"&基本項目!$B$3+1&\".\"&FX$12&\".1\")-1,1),\"Y\")),$U14))","v":""},null,null,{"$f":"IF($R14=\"\",\"\",IF($U14=\"\",IF(EOMONTH(VALUE(\"R\"&基本項目!$B$3+1&\".\"&GA$12&\".1\"),0)<$K14,\"\",DATEDIF($K14-1,EOMONTH(VALUE(\"R\"&基本項目!$B$3+1&\".\"&GA$12&\".1\")-1,1),\"Y\")),$U14))","v":""},null,null,"",null,null,null,"",null,null,null,null,null,{"$f":"IF($R14=\"\",\"\",IF($U14=\"\",IF(EOMONTH(VALUE(\"R\"&基本項目!$B$3&\".\"&ET$12&\".1\"),0)<$K14,\"\",DATEDIF($K14,EOMONTH(VALUE(\"R\"&基本項目!$B$3&\".\"&ET$12&\".1\")-1,1),\"Y\")),$U14))","v":""},null,null,{"$f":"IF($R14=\"\",\"\",IF($U14=\"\",IF(EOMONTH(VALUE(\"R\"&基本項目!$B$3&\".\"&EW$12&\".1\"),0)<$K14,\"\",DATEDIF($K14,EOMONTH(VALUE(\"R\"&基本項目!$B$3&\".\"&EW$12&\".1\")-1,1),\"Y\")),$U14))","v":""},null,null,{"$f":"IF($R14=\"\",\"\",IF($U14=\"\",IF(EOMONTH(VALUE(\"R\"&基本項目!$B$3&\".\"&EZ$12&\".1\"),0)<$K14,\"\",DATEDIF($K14,EOMONTH(VALUE(\"R\"&基本項目!$B$3&\".\"&EZ$12&\".1\")-1,1),\"Y\")),$U14))","v":""},null,null,{"$f":"IF($R14=\"\",\"\",IF($U14=\"\",IF(EOMONTH(VALUE(\"R\"&基本項目!$B$3&\".\"&FC$12&\".1\"),0)<$K14,\"\",DATEDIF($K14,EOMONTH(VALUE(\"R\"&基本項目!$B$3&\".\"&FC$12&\".1\")-1,1),\"Y\")),$U14))","v":""},null,null,{"$f":"IF($R14=\"\",\"\",IF($U14=\"\",IF(EOMONTH(VALUE(\"R\"&基本項目!$B$3&\".\"&FF$12&\".1\"),0)<$K14,\"\",DATEDIF($K14,EOMONTH(VALUE(\"R\"&基本項目!$B$3&\".\"&FF$12&\".1\")-1,1),\"Y\")),$U14))","v":""},null,null,{"$f":"IF($R14=\"\",\"\",IF($U14=\"\",IF(EOMONTH(VALUE(\"R\"&基本項目!$B$3&\".\"&FI$12&\".1\"),0)<$K14,\"\",DATEDIF($K14,EOMONTH(VALUE(\"R\"&基本項目!$B$3&\".\"&FI$12&\".1\")-1,1),\"Y\")),$U14))","v":""},null,null,{"$f":"IF($R14=\"\",\"\",IF($U14=\"\",IF(EOMONTH(VALUE(\"R\"&基本項目!$B$3&\".\"&FL$12&\".1\"),0)<$K14,\"\",DATEDIF($K14,EOMONTH(VALUE(\"R\"&基本項目!$B$3&\".\"&FL$12&\".1\")-1,1),\"Y\")),$U14))","v":""},null,null,{"$f":"IF($R14=\"\",\"\",IF($U14=\"\",IF(EOMONTH(VALUE(\"R\"&基本項目!$B$3&\".\"&FO$12&\".1\"),0)<$K14,\"\",DATEDIF($K14,EOMONTH(VALUE(\"R\"&基本項目!$B$3&\".\"&FO$12&\".1\")-1,1),\"Y\")),$U14))","v":""},null,null,{"$f":"IF($R14=\"\",\"\",IF($U14=\"\",IF(EOMONTH(VALUE(\"R\"&基本項目!$B$3&\".\"&FR$12&\".1\"),0)<$K14,\"\",DATEDIF($K14,EOMONTH(VALUE(\"R\"&基本項目!$B$3&\".\"&FR$12&\".1\")-1,1),\"Y\")),$U14))","v":""},null,null,{"$f":"IF($R14=\"\",\"\",IF($U14=\"\",IF(EOMONTH(VALUE(\"R\"&基本項目!$B$3+1&\".\"&FU$12&\".1\"),0)<$K14,\"\",DATEDIF($K14,EOMONTH(VALUE(\"R\"&基本項目!$B$3+1&\".\"&FU$12&\".1\")-1,1),\"Y\")),$U14))","v":""},null,null,{"$f":"IF($R14=\"\",\"\",IF($U14=\"\",IF(EOMONTH(VALUE(\"R\"&基本項目!$B$3+1&\".\"&FX$12&\".1\"),0)<$K14,\"\",DATEDIF($K14,EOMONTH(VALUE(\"R\"&基本項目!$B$3+1&\".\"&FX$12&\".1\")-1,1),\"Y\")),$U14))","v":""},null,null,{"$f":"IF($R14=\"\",\"\",IF($U14=\"\",IF(EOMONTH(VALUE(\"R\"&基本項目!$B$3+1&\".\"&GA$12&\".1\"),0)<$K14,\"\",DATEDIF($K14,EOMONTH(VALUE(\"R\"&基本項目!$B$3+1&\".\"&GA$12&\".1\")-1,1),\"Y\")),$U14))","v":""},null,null,"",null,null,null,"",null,null,null,null,null,"",null,null,"",null,null,"",null,null,"",null,null,"",null,null,"",null,null,"",null,null,"",null,null,"",null,null,"",null,null,"",null,null,"",null,null,"",null,null,null,"",null,null,null,"",null,null,null,null,"",null,null,"",null,null,"",null,null,"",null,null,"",null,null,"",null,null,"",null,null,"",null,null,"",null,null,"",null,null,"",null,null,"",null,null,"",null,null,null,"",null,null,null,"",null,null,null,null,{"$f":"IF(SUM($GD14)=12,SUM($EL14),\"\")","v":""},null,null,{"$f":"IF(EW14=\"○\",SUM($EL14),\"\")","v":""},null,null,"",null,null,"",null,null,"",null,null,"",null,null,"",null,null,"",null,null,"",null,null,"",null,null,"",null,null,""]
[null,3,null,null,null,null,null,null,null,null,null,null,null,null,null,null,null,{"$f":"IF(AND($U15=\"\",$K15=\"\"),\"\",IF($U15=\"\",所得計算!$I8,$U15))","v":""},null,null,null,null,null,null,null,null,null,null,null,null,{"$f":"IF(所得計算!AK$4=\"\",\"\",所得計算!AK$4)","v":""},null,null,null,null,null,null,null,null,null,null,null,null,"",null,null,null,null,null,null,null,null,null,null,null,null,null,{"$f":"IF(所得計算!AK$23=\"\",\"\",所得計算!AK$23)","v":""},null,null,null,null,null,null,null,null,null,null,null,null,null,null,null,null,null,null,null,null,null,null,null,null,null,null,null,null,null,null,null,null,null,null,null,null,null,null,null,null,null,null,null,null,null,null,null,null,"",null,null,null,null,null,null,null,null,null,null,null,null,null,"",null,null,null,null,null,null,null,{"$f":"IF(OR(AND(SUM($AL15)=1,SUM($X15)<=8500000),AND(SUM($AL15)=1,SUM($X15)>8500000,SUM($BF15)>0)),\"所得金額調整控除１？\",IF(OR(AND(SUM($AL15)=2,OR(SUM(所得計算!$BG$5:$BG$15)=0,SUM($BF15)=0)),AND(SUM($AL15)=2,OR(SUM($X15)>8500000,SUM($BF15)=0))),\"所得金額調整控除２？\",IF(AND(SUM($AL15)=3,OR(SUM($X15)<=8500000,SUM($BF15)=0)),\"所得金額調整控除３？\",IF(AND($AL15=\"\",OR(SUM($X15)>8500000,AND(SUM(所得計算!$BG$5:$BG$15)>0,SUM($BF15)>0))),\"所得金額調整控除サイン不要？\",\"\"))))","v":""},null,null,null,null,null,null,null,null,null,null,null,null,{"$f":"SUM(DC15,$AU$2,CH15,CV15)-SUM(所得計算!$AV$4)","v":0},null,null,"",null,null,3,null,null,null,null,null,null,null,null,null,null,null,null,null,null,null,null,null,null,null,null,null,null,null,null,null,null,null,null,null,null,null,null,null,null,null,null,null,"",null,null,null,null,null,null,null,null,null,null,{"$f":"IF($GL15=\"\",\"\",IF(HLOOKUP($GL15,$GT$12:$IC$22,4,FALSE)>=65,\"\",\"65未到達\"))","v":""},null,null,null,null,{"$f":"IF($R15=\"\",\"\",IF($U15=\"\",IF(EOMONTH(VALUE(\"R\"&基本項目!$B$3&\".\"&ET$12&\".1\"),0)<$K15,\"\",DATEDIF($K15-1,EOMONTH(VALUE(\"R\"&基本項目!$B$3&\".\"&ET$12&\".1\")-1,1),\"Y\")),$U15))","v":""},null,null,{"$f":"IF($R15=\"\",\"\",IF($U15=\"\",IF(EOMONTH(VALUE(\"R\"&基本項目!$B$3&\".\"&EW$12&\".1\"),0)<$K15,\"\",DATEDIF($K15-1,EOMONTH(VALUE(\"R\"&基本項目!$B$3&\".\"&EW$12&\".1\")-1,1),\"Y\")),$U15))","v":""},null,null,{"$f":"IF($R15=\"\",\"\",IF($U15=\"\",IF(EOMONTH(VALUE(\"R\"&基本項目!$B$3&\".\"&EZ$12&\".1\"),0)<$K15,\"\",DATEDIF($K15-1,EOMONTH(VALUE(\"R\"&基本項目!$B$3&\".\"&EZ$12&\".1\")-1,1),\"Y\")),$U15))","v":""},null,null,{"$f":"IF($R15=\"\",\"\",IF($U15=\"\",IF(EOMONTH(VALUE(\"R\"&基本項目!$B$3&\".\"&FC$12&\".1\"),0)<$K15,\"\",DATEDIF($K15-1,EOMONTH(VALUE(\"R\"&基本項目!$B$3&\".\"&FC$12&\".1\")-1,1),\"Y\")),$U15))","v":""},null,null,{"$f":"IF($R15=\"\",\"\",IF($U15=\"\",IF(EOMONTH(VALUE(\"R\"&基本項目!$B$3&\".\"&FF$12&\".1\"),0)<$K15,\"\",DATEDIF($K15-1,EOMONTH(VALUE(\"R\"&基本項目!$B$3&\".\"&FF$12&\".1\")-1,1),\"Y\")),$U15))","v":""},null,null,{"$f":"IF($R15=\"\",\"\",IF($U15=\"\",IF(EOMONTH(VALUE(\"R\"&基本項目!$B$3&\".\"&FI$12&\".1\"),0)<$K15,\"\",DATEDIF($K15-1,EOMONTH(VALUE(\"R\"&基本項目!$B$3&\".\"&FI$12&\".1\")-1,1),\"Y\")),$U15))","v":""},null,null,{"$f":"IF($R15=\"\",\"\",IF($U15=\"\",IF(EOMONTH(VALUE(\"R\"&基本項目!$B$3&\".\"&FL$12&\".1\"),0)<$K15,\"\",DATEDIF($K15-1,EOMONTH(VALUE(\"R\"&基本項目!$B$3&\".\"&FL$12&\".1\")-1,1),\"Y\")),$U15))","v":""},null,null,{"$f":"IF($R15=\"\",\"\",IF($U15=\"\",IF(EOMONTH(VALUE(\"R\"&基本項目!$B$3&\".\"&FO$12&\".1\"),0)<$K15,\"\",DATEDIF($K15-1,EOMONTH(VALUE(\"R\"&基本項目!$B$3&\".\"&FO$12&\".1\")-1,1),\"Y\")),$U15))","v":""},null,null,{"$f":"IF($R15=\"\",\"\",IF($U15=\"\",IF(EOMONTH(VALUE(\"R\"&基本項目!$B$3&\".\"&FR$12&\".1\"),0)<$K15,\"\",DATEDIF($K15-1,EOMONTH(VALUE(\"R\"&基本項目!$B$3&\".\"&FR$12&\".1\")-1,1),\"Y\")),$U15))","v":""},null,null,{"$f":"IF($R15=\"\",\"\",IF($U15=\"\",IF(EOMONTH(VALUE(\"R\"&基本項目!$B$3+1&\".\"&FU$12&\".1\"),0)<$K15,\"\",DATEDIF($K15-1,EOMONTH(VALUE(\"R\"&基本項目!$B$3+1&\".\"&FU$12&\".1\")-1,1),\"Y\")),$U15))","v":""},null,null,{"$f":"IF($R15=\"\",\"\",IF($U15=\"\",IF(EOMONTH(VALUE(\"R\"&基本項目!$B$3+1&\".\"&FX$12&\".1\"),0)<$K15,\"\",DATEDIF($K15-1,EOMONTH(VALUE(\"R\"&基本項目!$B$3+1&\".\"&FX$12&\".1\")-1,1),\"Y\")),$U15))","v":""},null,null,{"$f":"IF($R15=\"\",\"\",IF($U15=\"\",IF(EOMONTH(VALUE(\"R\"&基本項目!$B$3+1&\".\"&GA$12&\".1\"),0)<$K15,\"\",DATEDIF($K15-1,EOMONTH(VALUE(\"R\"&基本項目!$B$3+1&\".\"&GA$12&\".1\")-1,1),\"Y\")),$U15))","v":""},null,null,"",null,null,null,"",null,null,null,null,null,{"$f":"IF($R15=\"\",\"\",IF($U15=\"\",IF(EOMONTH(VALUE(\"R\"&基本項目!$B$3&\".\"&ET$12&\".1\"),0)<$K15,\"\",DATEDIF($K15,EOMONTH(VALUE(\"R\"&基本項目!$B$3&\".\"&ET$12&\".1\")-1,1),\"Y\")),$U15))","v":""},null,null,{"$f":"IF($R15=\"\",\"\",IF($U15=\"\",IF(EOMONTH(VALUE(\"R\"&基本項目!$B$3&\".\"&EW$12&\".1\"),0)<$K15,\"\",DATEDIF($K15,EOMONTH(VALUE(\"R\"&基本項目!$B$3&\".\"&EW$12&\".1\")-1,1),\"Y\")),$U15))","v":""},null,null,{"$f":"IF($R15=\"\",\"\",IF($U15=\"\",IF(EOMONTH(VALUE(\"R\"&基本項目!$B$3&\".\"&EZ$12&\".1\"),0)<$K15,\"\",DATEDIF($K15,EOMONTH(VALUE(\"R\"&基本項目!$B$3&\".\"&EZ$12&\".1\")-1,1),\"Y\")),$U15))","v":""},null,null,{"$f":"IF($R15=\"\",\"\",IF($U15=\"\",IF(EOMONTH(VALUE(\"R\"&基本項目!$B$3&\".\"&FC$12&\".1\"),0)<$K15,\"\",DATEDIF($K15,EOMONTH(VALUE(\"R\"&基本項目!$B$3&\".\"&FC$12&\".1\")-1,1),\"Y\")),$U15))","v":""},null,null,{"$f":"IF($R15=\"\",\"\",IF($U15=\"\",IF(EOMONTH(VALUE(\"R\"&基本項目!$B$3&\".\"&FF$12&\".1\"),0)<$K15,\"\",DATEDIF($K15,EOMONTH(VALUE(\"R\"&基本項目!$B$3&\".\"&FF$12&\".1\")-1,1),\"Y\")),$U15))","v":""},null,null,{"$f":"IF($R15=\"\",\"\",IF($U15=\"\",IF(EOMONTH(VALUE(\"R\"&基本項目!$B$3&\".\"&FI$12&\".1\"),0)<$K15,\"\",DATEDIF($K15,EOMONTH(VALUE(\"R\"&基本項目!$B$3&\".\"&FI$12&\".1\")-1,1),\"Y\")),$U15))","v":""},null,null,{"$f":"IF($R15=\"\",\"\",IF($U15=\"\",IF(EOMONTH(VALUE(\"R\"&基本項目!$B$3&\".\"&FL$12&\".1\"),0)<$K15,\"\",DATEDIF($K15,EOMONTH(VALUE(\"R\"&基本項目!$B$3&\".\"&FL$12&\".1\")-1,1),\"Y\")),$U15))","v":""},null,null,{"$f":"IF($R15=\"\",\"\",IF($U15=\"\",IF(EOMONTH(VALUE(\"R\"&基本項目!$B$3&\".\"&FO$12&\".1\"),0)<$K15,\"\",DATEDIF($K15,EOMONTH(VALUE(\"R\"&基本項目!$B$3&\".\"&FO$12&\".1\")-1,1),\"Y\")),$U15))","v":""},null,null,{"$f":"IF($R15=\"\",\"\",IF($U15=\"\",IF(EOMONTH(VALUE(\"R\"&基本項目!$B$3&\".\"&FR$12&\".1\"),0)<$K15,\"\",DATEDIF($K15,EOMONTH(VALUE(\"R\"&基本項目!$B$3&\".\"&FR$12&\".1\")-1,1),\"Y\")),$U15))","v":""},null,null,{"$f":"IF($R15=\"\",\"\",IF($U15=\"\",IF(EOMONTH(VALUE(\"R\"&基本項目!$B$3+1&\".\"&FU$12&\".1\"),0)<$K15,\"\",DATEDIF($K15,EOMONTH(VALUE(\"R\"&基本項目!$B$3+1&\".\"&FU$12&\".1\")-1,1),\"Y\")),$U15))","v":""},null,null,{"$f":"IF($R15=\"\",\"\",IF($U15=\"\",IF(EOMONTH(VALUE(\"R\"&基本項目!$B$3+1&\".\"&FX$12&\".1\"),0)<$K15,\"\",DATEDIF($K15,EOMONTH(VALUE(\"R\"&基本項目!$B$3+1&\".\"&FX$12&\".1\")-1,1),\"Y\")),$U15))","v":""},null,null,{"$f":"IF($R15=\"\",\"\",IF($U15=\"\",IF(EOMONTH(VALUE(\"R\"&基本項目!$B$3+1&\".\"&GA$12&\".1\"),0)<$K15,\"\",DATEDIF($K15,EOMONTH(VALUE(\"R\"&基本項目!$B$3+1&\".\"&GA$12&\".1\")-1,1),\"Y\")),$U15))","v":""},null,null,"",null,null,null,"",null,null,null,null,null,"",null,null,"",null,null,"",null,null,"",null,null,"",null,null,"",null,null,"",null,null,"",null,null,"",null,null,"",null,null,"",null,null,"",null,null,"",null,null,null,"",null,null,null,"",null,null,null,null,"",null,null,"",null,null,"",null,null,"",null,null,"",null,null,"",null,null,"",null,null,"",null,null,"",null,null,"",null,null,"",null,null,"",null,null,"",null,null,null,"",null,null,null,"",null,null,null,null,"",null,null,"",null,null,"",null,null,"",null,null,"",null,null,"",null,null,"",null,null,"",null,null,"",null,null,"",null,null,"",null,null,""]
[null,4,null,null,null,null,null,null,null,null,null,null,null,null,null,null,null,{"$f":"IF(AND($U16=\"\",$K16=\"\"),\"\",IF($U16=\"\",所得計算!$I9,$U16))","v":""},null,null,null,null,null,null,null,null,null,null,null,null,{"$f":"IF(所得計算!AL$4=\"\",\"\",所得計算!AL$4)","v":""},null,null,null,null,null,null,null,null,null,null,null,null,"",null,null,null,null,null,null,null,null,null,null,null,null,null,{"$f":"IF(所得計算!AL$23=\"\",\"\",所得計算!AL$23)","v":""},null,null,null,null,null,null,null,null,null,null,null,null,null,null,null,null,null,null,null,null,null,null,null,null,null,null,null,null,null,null,null,null,null,null,null,null,null,null,null,null,null,null,null,null,null,null,null,null,"",null,null,null,null,null,null,null,null,null,null,null,null,null,"",null,null,null,null,null,null,null,{"$f":"IF(OR(AND(SUM($AL16)=1,SUM($X16)<=8500000),AND(SUM($AL16)=1,SUM($X16)>8500000,SUM($BF16)>0)),\"所得金額調整控除１？\",IF(OR(AND(SUM($AL16)=2,OR(SUM(所得計算!$BH$5:$BH$15)=0,SUM($BF16)=0)),AND(SUM($AL16)=2,OR(SUM($X16)>8500000,SUM($BF16)=0))),\"所得金額調整控除２？\",IF(AND(SUM($AL16)=3,OR(SUM($X16)<=8500000,SUM($BF16)=0)),\"所得金額調整控除３？\",IF(AND($AL16=\"\",OR(SUM($X16)>8500000,AND(SUM(所得計算!$BH$5:$BH$15)>0,SUM($BF16)>0))),\"所得金額調整控除サイン不要？\",\"\"))))","v":""},null,null,null,null,null,null,null,null,null,null,null,null,{"$f":"SUM(DC16,$AU$2,CH16,CV16)-SUM(所得計算!$AW$4)","v":0},null,null,"",null,null,4,null,null,null,null,null,null,null,null,null,null,null,null,null,null,null,null,null,null,null,null,null,null,null,null,null,null,null,null,null,null,null,null,null,null,null,null,null,"",null,null,null,null,null,null,null,null,null,null,{"$f":"IF($GL16=\"\",\"\",IF(HLOOKUP($GL16,$GT$12:$IC$22,5,FALSE)>=65,\"\",\"65未到達\"))","v":""},null,null,null,null,{"$f":"IF($R16=\"\",\"\",IF($U16=\"\",IF(EOMONTH(VALUE(\"R\"&基本項目!$B$3&\".\"&ET$12&\".1\"),0)<$K16,\"\",DATEDIF($K16-1,EOMONTH(VALUE(\"R\"&基本項目!$B$3&\".\"&ET$12&\".1\")-1,1),\"Y\")),$U16))","v":""},null,null,{"$f":"IF($R16=\"\",\"\",IF($U16=\"\",IF(EOMONTH(VALUE(\"R\"&基本項目!$B$3&\".\"&EW$12&\".1\"),0)<$K16,\"\",DATEDIF($K16-1,EOMONTH(VALUE(\"R\"&基本項目!$B$3&\".\"&EW$12&\".1\")-1,1),\"Y\")),$U16))","v":""},null,null,{"$f":"IF($R16=\"\",\"\",IF($U16=\"\",IF(EOMONTH(VALUE(\"R\"&基本項目!$B$3&\".\"&EZ$12&\".1\"),0)<$K16,\"\",DATEDIF($K16-1,EOMONTH(VALUE(\"R\"&基本項目!$B$3&\".\"&EZ$12&\".1\")-1,1),\"Y\")),$U16))","v":""},null,null,{"$f":"IF($R16=\"\",\"\",IF($U16=\"\",IF(EOMONTH(VALUE(\"R\"&基本項目!$B$3&\".\"&FC$12&\".1\"),0)<$K16,\"\",DATEDIF($K16-1,EOMONTH(VALUE(\"R\"&基本項目!$B$3&\".\"&FC$12&\".1\")-1,1),\"Y\")),$U16))","v":""},null,null,{"$f":"IF($R16=\"\",\"\",IF($U16=\"\",IF(EOMONTH(VALUE(\"R\"&基本項目!$B$3&\".\"&FF$12&\".1\"),0)<$K16,\"\",DATEDIF($K16-1,EOMONTH(VALUE(\"R\"&基本項目!$B$3&\".\"&FF$12&\".1\")-1,1),\"Y\")),$U16))","v":""},null,null,{"$f":"IF($R16=\"\",\"\",IF($U16=\"\",IF(EOMONTH(VALUE(\"R\"&基本項目!$B$3&\".\"&FI$12&\".1\"),0)<$K16,\"\",DATEDIF($K16-1,EOMONTH(VALUE(\"R\"&基本項目!$B$3&\".\"&FI$12&\".1\")-1,1),\"Y\")),$U16))","v":""},null,null,{"$f":"IF($R16=\"\",\"\",IF($U16=\"\",IF(EOMONTH(VALUE(\"R\"&基本項目!$B$3&\".\"&FL$12&\".1\"),0)<$K16,\"\",DATEDIF($K16-1,EOMONTH(VALUE(\"R\"&基本項目!$B$3&\".\"&FL$12&\".1\")-1,1),\"Y\")),$U16))","v":""},null,null,{"$f":"IF($R16=\"\",\"\",IF($U16=\"\",IF(EOMONTH(VALUE(\"R\"&基本項目!$B$3&\".\"&FO$12&\".1\"),0)<$K16,\"\",DATEDIF($K16-1,EOMONTH(VALUE(\"R\"&基本項目!$B$3&\".\"&FO$12&\".1\")-1,1),\"Y\")),$U16))","v":""},null,null,{"$f":"IF($R16=\"\",\"\",IF($U16=\"\",IF(EOMONTH(VALUE(\"R\"&基本項目!$B$3&\".\"&FR$12&\".1\"),0)<$K16,\"\",DATEDIF($K16-1,EOMONTH(VALUE(\"R\"&基本項目!$B$3&\".\"&FR$12&\".1\")-1,1),\"Y\")),$U16))","v":""},null,null,{"$f":"IF($R16=\"\",\"\",IF($U16=\"\",IF(EOMONTH(VALUE(\"R\"&基本項目!$B$3+1&\".\"&FU$12&\".1\"),0)<$K16,\"\",DATEDIF($K16-1,EOMONTH(VALUE(\"R\"&基本項目!$B$3+1&\".\"&FU$12&\".1\")-1,1),\"Y\")),$U16))","v":""},null,null,{"$f":"IF($R16=\"\",\"\",IF($U16=\"\",IF(EOMONTH(VALUE(\"R\"&基本項目!$B$3+1&\".\"&FX$12&\".1\"),0)<$K16,\"\",DATEDIF($K16-1,EOMONTH(VALUE(\"R\"&基本項目!$B$3+1&\".\"&FX$12&\".1\")-1,1),\"Y\")),$U16))","v":""},null,null,{"$f":"IF($R16=\"\",\"\",IF($U16=\"\",IF(EOMONTH(VALUE(\"R\"&基本項目!$B$3+1&\".\"&GA$12&\".1\"),0)<$K16,\"\",DATEDIF($K16-1,EOMONTH(VALUE(\"R\"&基本項目!$B$3+1&\".\"&GA$12&\".1\")-1,1),\"Y\")),$U16))","v":""},null,null,"",null,null,null,"",null,null,null,null,null,{"$f":"IF($R16=\"\",\"\",IF($U16=\"\",IF(EOMONTH(VALUE(\"R\"&基本項目!$B$3&\".\"&ET$12&\".1\"),0)<$K16,\"\",DATEDIF($K16,EOMONTH(VALUE(\"R\"&基本項目!$B$3&\".\"&ET$12&\".1\")-1,1),\"Y\")),$U16))","v":""},null,null,{"$f":"IF($R16=\"\",\"\",IF($U16=\"\",IF(EOMONTH(VALUE(\"R\"&基本項目!$B$3&\".\"&EW$12&\".1\"),0)<$K16,\"\",DATEDIF($K16,EOMONTH(VALUE(\"R\"&基本項目!$B$3&\".\"&EW$12&\".1\")-1,1),\"Y\")),$U16))","v":""},null,null,{"$f":"IF($R16=\"\",\"\",IF($U16=\"\",IF(EOMONTH(VALUE(\"R\"&基本項目!$B$3&\".\"&EZ$12&\".1\"),0)<$K16,\"\",DATEDIF($K16,EOMONTH(VALUE(\"R\"&基本項目!$B$3&\".\"&EZ$12&\".1\")-1,1),\"Y\")),$U16))","v":""},null,null,{"$f":"IF($R16=\"\",\"\",IF($U16=\"\",IF(EOMONTH(VALUE(\"R\"&基本項目!$B$3&\".\"&FC$12&\".1\"),0)<$K16,\"\",DATEDIF($K16,EOMONTH(VALUE(\"R\"&基本項目!$B$3&\".\"&FC$12&\".1\")-1,1),\"Y\")),$U16))","v":""},null,null,{"$f":"IF($R16=\"\",\"\",IF($U16=\"\",IF(EOMONTH(VALUE(\"R\"&基本項目!$B$3&\".\"&FF$12&\".1\"),0)<$K16,\"\",DATEDIF($K16,EOMONTH(VALUE(\"R\"&基本項目!$B$3&\".\"&FF$12&\".1\")-1,1),\"Y\")),$U16))","v":""},null,null,{"$f":"IF($R16=\"\",\"\",IF($U16=\"\",IF(EOMONTH(VALUE(\"R\"&基本項目!$B$3&\".\"&FI$12&\".1\"),0)<$K16,\"\",DATEDIF($K16,EOMONTH(VALUE(\"R\"&基本項目!$B$3&\".\"&FI$12&\".1\")-1,1),\"Y\")),$U16))","v":""},null,null,{"$f":"IF($R16=\"\",\"\",IF($U16=\"\",IF(EOMONTH(VALUE(\"R\"&基本項目!$B$3&\".\"&FL$12&\".1\"),0)<$K16,\"\",DATEDIF($K16,EOMONTH(VALUE(\"R\"&基本項目!$B$3&\".\"&FL$12&\".1\")-1,1),\"Y\")),$U16))","v":""},null,null,{"$f":"IF($R16=\"\",\"\",IF($U16=\"\",IF(EOMONTH(VALUE(\"R\"&基本項目!$B$3&\".\"&FO$12&\".1\"),0)<$K16,\"\",DATEDIF($K16,EOMONTH(VALUE(\"R\"&基本項目!$B$3&\".\"&FO$12&\".1\")-1,1),\"Y\")),$U16))","v":""},null,null,{"$f":"IF($R16=\"\",\"\",IF($U16=\"\",IF(EOMONTH(VALUE(\"R\"&基本項目!$B$3&\".\"&FR$12&\".1\"),0)<$K16,\"\",DATEDIF($K16,EOMONTH(VALUE(\"R\"&基本項目!$B$3&\".\"&FR$12&\".1\")-1,1),\"Y\")),$U16))","v":""},null,null,{"$f":"IF($R16=\"\",\"\",IF($U16=\"\",IF(EOMONTH(VALUE(\"R\"&基本項目!$B$3+1&\".\"&FU$12&\".1\"),0)<$K16,\"\",DATEDIF($K16,EOMONTH(VALUE(\"R\"&基本項目!$B$3+1&\".\"&FU$12&\".1\")-1,1),\"Y\")),$U16))","v":""},null,null,{"$f":"IF($R16=\"\",\"\",IF($U16=\"\",IF(EOMONTH(VALUE(\"R\"&基本項目!$B$3+1&\".\"&FX$12&\".1\"),0)<$K16,\"\",DATEDIF($K16,EOMONTH(VALUE(\"R\"&基本項目!$B$3+1&\".\"&FX$12&\".1\")-1,1),\"Y\")),$U16))","v":""},null,null,{"$f":"IF($R16=\"\",\"\",IF($U16=\"\",IF(EOMONTH(VALUE(\"R\"&基本項目!$B$3+1&\".\"&GA$12&\".1\"),0)<$K16,\"\",DATEDIF($K16,EOMONTH(VALUE(\"R\"&基本項目!$B$3+1&\".\"&GA$12&\".1\")-1,1),\"Y\")),$U16))","v":""},null,null,"",null,null,null,"",null,null,null,null,null,"",null,null,"",null,null,"",null,null,"",null,null,"",null,null,"",null,null,"",null,null,"",null,null,"",null,null,"",null,null,"",null,null,"",null,null,"",null,null,null,"",null,null,null,"",null,null,null,null,"",null,null,"",null,null,"",null,null,"",null,null,"",null,null,"",null,null,"",null,null,"",null,null,"",null,null,"",null,null,"",null,null,"",null,null,"",null,null,null,"",null,null,null,"",null,null,null,null,"",null,null,"",null,null,"",null,null,"",null,null,"",null,null,"",null,null,"",null,null,"",null,null,"",null,null,"",null,null,"",null,null,""]
[null,5,null,null,null,null,null,null,null,null,null,null,null,null,null,null,null,{"$f":"IF(AND($U17=\"\",$K17=\"\"),\"\",IF($U17=\"\",所得計算!$I10,$U17))","v":""},null,null,null,null,null,null,null,null,null,null,null,null,{"$f":"IF(所得計算!AM$4=\"\",\"\",所得計算!AM$4)","v":""},null,null,null,null,null,null,null,null,null,null,null,null,"",null,null,null,null,null,null,null,null,null,null,null,null,null,{"$f":"IF(所得計算!AM$23=\"\",\"\",所得計算!AM$23)","v":""},null,null,null,null,null,null,null,null,null,null,null,null,null,null,null,null,null,null,null,null,null,null,null,null,null,null,null,null,null,null,null,null,null,null,null,null,null,null,null,null,null,null,null,null,null,null,null,null,"",null,null,null,null,null,null,null,null,null,null,null,null,null,"",null,null,null,null,null,null,null,{"$f":"IF(OR(AND(SUM($AL17)=1,SUM($X17)<=8500000),AND(SUM($AL17)=1,SUM($X17)>8500000,SUM($BF17)>0)),\"所得金額調整控除１？\",IF(OR(AND(SUM($AL17)=2,OR(SUM(所得計算!$BI$5:$BI$15)=0,SUM($BF17)=0)),AND(SUM($AL17)=2,OR(SUM($X17)>8500000,SUM($BF17)=0))),\"所得金額調整控除２？\",IF(AND(SUM($AL17)=3,OR(SUM($X17)<=8500000,SUM($BF17)=0)),\"所得金額調整控除３？\",IF(AND($AL17=\"\",OR(SUM($X17)>8500000,AND(SUM(所得計算!$BI$5:$BI$15)>0,SUM($BF17)>0))),\"所得金額調整控除サイン不要？\",\"\"))))","v":""},null,null,null,null,null,null,null,null,null,null,null,null,{"$f":"SUM(DC17,$AU$2,CH17,CV17)-SUM(所得計算!$AX$4)","v":0},null,null,"",null,null,5,null,null,null,null,null,null,null,null,null,null,null,null,null,null,null,null,null,null,null,null,null,null,null,null,null,null,null,null,null,null,null,null,null,null,null,null,null,"",null,null,null,null,null,null,null,null,null,null,{"$f":"IF($GL17=\"\",\"\",IF(HLOOKUP($GL17,$GT$12:$IC$22,6,FALSE)>=65,\"\",\"65未到達\"))","v":""},null,null,null,null,{"$f":"IF($R17=\"\",\"\",IF($U17=\"\",IF(EOMONTH(VALUE(\"R\"&基本項目!$B$3&\".\"&ET$12&\".1\"),0)<$K17,\"\",DATEDIF($K17-1,EOMONTH(VALUE(\"R\"&基本項目!$B$3&\".\"&ET$12&\".1\")-1,1),\"Y\")),$U17))","v":""},null,null,{"$f":"IF($R17=\"\",\"\",IF($U17=\"\",IF(EOMONTH(VALUE(\"R\"&基本項目!$B$3&\".\"&EW$12&\".1\"),0)<$K17,\"\",DATEDIF($K17-1,EOMONTH(VALUE(\"R\"&基本項目!$B$3&\".\"&EW$12&\".1\")-1,1),\"Y\")),$U17))","v":""},null,null,{"$f":"IF($R17=\"\",\"\",IF($U17=\"\",IF(EOMONTH(VALUE(\"R\"&基本項目!$B$3&\".\"&EZ$12&\".1\"),0)<$K17,\"\",DATEDIF($K17-1,EOMONTH(VALUE(\"R\"&基本項目!$B$3&\".\"&EZ$12&\".1\")-1,1),\"Y\")),$U17))","v":""},null,null,{"$f":"IF($R17=\"\",\"\",IF($U17=\"\",IF(EOMONTH(VALUE(\"R\"&基本項目!$B$3&\".\"&FC$12&\".1\"),0)<$K17,\"\",DATEDIF($K17-1,EOMONTH(VALUE(\"R\"&基本項目!$B$3&\".\"&FC$12&\".1\")-1,1),\"Y\")),$U17))","v":""},null,null,{"$f":"IF($R17=\"\",\"\",IF($U17=\"\",IF(EOMONTH(VALUE(\"R\"&基本項目!$B$3&\".\"&FF$12&\".1\"),0)<$K17,\"\",DATEDIF($K17-1,EOMONTH(VALUE(\"R\"&基本項目!$B$3&\".\"&FF$12&\".1\")-1,1),\"Y\")),$U17))","v":""},null,null,{"$f":"IF($R17=\"\",\"\",IF($U17=\"\",IF(EOMONTH(VALUE(\"R\"&基本項目!$B$3&\".\"&FI$12&\".1\"),0)<$K17,\"\",DATEDIF($K17-1,EOMONTH(VALUE(\"R\"&基本項目!$B$3&\".\"&FI$12&\".1\")-1,1),\"Y\")),$U17))","v":""},null,null,{"$f":"IF($R17=\"\",\"\",IF($U17=\"\",IF(EOMONTH(VALUE(\"R\"&基本項目!$B$3&\".\"&FL$12&\".1\"),0)<$K17,\"\",DATEDIF($K17-1,EOMONTH(VALUE(\"R\"&基本項目!$B$3&\".\"&FL$12&\".1\")-1,1),\"Y\")),$U17))","v":""},null,null,{"$f":"IF($R17=\"\",\"\",IF($U17=\"\",IF(EOMONTH(VALUE(\"R\"&基本項目!$B$3&\".\"&FO$12&\".1\"),0)<$K17,\"\",DATEDIF($K17-1,EOMONTH(VALUE(\"R\"&基本項目!$B$3&\".\"&FO$12&\".1\")-1,1),\"Y\")),$U17))","v":""},null,null,{"$f":"IF($R17=\"\",\"\",IF($U17=\"\",IF(EOMONTH(VALUE(\"R\"&基本項目!$B$3&\".\"&FR$12&\".1\"),0)<$K17,\"\",DATEDIF($K17-1,EOMONTH(VALUE(\"R\"&基本項目!$B$3&\".\"&FR$12&\".1\")-1,1),\"Y\")),$U17))","v":""},null,null,{"$f":"IF($R17=\"\",\"\",IF($U17=\"\",IF(EOMONTH(VALUE(\"R\"&基本項目!$B$3+1&\".\"&FU$12&\".1\"),0)<$K17,\"\",DATEDIF($K17-1,EOMONTH(VALUE(\"R\"&基本項目!$B$3+1&\".\"&FU$12&\".1\")-1,1),\"Y\")),$U17))","v":""},null,null,{"$f":"IF($R17=\"\",\"\",IF($U17=\"\",IF(EOMONTH(VALUE(\"R\"&基本項目!$B$3+1&\".\"&FX$12&\".1\"),0)<$K17,\"\",DATEDIF($K17-1,EOMONTH(VALUE(\"R\"&基本項目!$B$3+1&\".\"&FX$12&\".1\")-1,1),\"Y\")),$U17))","v":""},null,null,{"$f":"IF($R17=\"\",\"\",IF($U17=\"\",IF(EOMONTH(VALUE(\"R\"&基本項目!$B$3+1&\".\"&GA$12&\".1\"),0)<$K17,\"\",DATEDIF($K17-1,EOMONTH(VALUE(\"R\"&基本項目!$B$3+1&\".\"&GA$12&\".1\")-1,1),\"Y\")),$U17))","v":""},null,null,"",null,null,null,"",null,null,null,null,null,{"$f":"IF($R17=\"\",\"\",IF($U17=\"\",IF(EOMONTH(VALUE(\"R\"&基本項目!$B$3&\".\"&ET$12&\".1\"),0)<$K17,\"\",DATEDIF($K17,EOMONTH(VALUE(\"R\"&基本項目!$B$3&\".\"&ET$12&\".1\")-1,1),\"Y\")),$U17))","v":""},null,null,{"$f":"IF($R17=\"\",\"\",IF($U17=\"\",IF(EOMONTH(VALUE(\"R\"&基本項目!$B$3&\".\"&EW$12&\".1\"),0)<$K17,\"\",DATEDIF($K17,EOMONTH(VALUE(\"R\"&基本項目!$B$3&\".\"&EW$12&\".1\")-1,1),\"Y\")),$U17))","v":""},null,null,{"$f":"IF($R17=\"\",\"\",IF($U17=\"\",IF(EOMONTH(VALUE(\"R\"&基本項目!$B$3&\".\"&EZ$12&\".1\"),0)<$K17,\"\",DATEDIF($K17,EOMONTH(VALUE(\"R\"&基本項目!$B$3&\".\"&EZ$12&\".1\")-1,1),\"Y\")),$U17))","v":""},null,null,{"$f":"IF($R17=\"\",\"\",IF($U17=\"\",IF(EOMONTH(VALUE(\"R\"&基本項目!$B$3&\".\"&FC$12&\".1\"),0)<$K17,\"\",DATEDIF($K17,EOMONTH(VALUE(\"R\"&基本項目!$B$3&\".\"&FC$12&\".1\")-1,1),\"Y\")),$U17))","v":""},null,null,{"$f":"IF($R17=\"\",\"\",IF($U17=\"\",IF(EOMONTH(VALUE(\"R\"&基本項目!$B$3&\".\"&FF$12&\".1\"),0)<$K17,\"\",DATEDIF($K17,EOMONTH(VALUE(\"R\"&基本項目!$B$3&\".\"&FF$12&\".1\")-1,1),\"Y\")),$U17))","v":""},null,null,{"$f":"IF($R17=\"\",\"\",IF($U17=\"\",IF(EOMONTH(VALUE(\"R\"&基本項目!$B$3&\".\"&FI$12&\".1\"),0)<$K17,\"\",DATEDIF($K17,EOMONTH(VALUE(\"R\"&基本項目!$B$3&\".\"&FI$12&\".1\")-1,1),\"Y\")),$U17))","v":""},null,null,{"$f":"IF($R17=\"\",\"\",IF($U17=\"\",IF(EOMONTH(VALUE(\"R\"&基本項目!$B$3&\".\"&FL$12&\".1\"),0)<$K17,\"\",DATEDIF($K17,EOMONTH(VALUE(\"R\"&基本項目!$B$3&\".\"&FL$12&\".1\")-1,1),\"Y\")),$U17))","v":""},null,null,{"$f":"IF($R17=\"\",\"\",IF($U17=\"\",IF(EOMONTH(VALUE(\"R\"&基本項目!$B$3&\".\"&FO$12&\".1\"),0)<$K17,\"\",DATEDIF($K17,EOMONTH(VALUE(\"R\"&基本項目!$B$3&\".\"&FO$12&\".1\")-1,1),\"Y\")),$U17))","v":""},null,null,{"$f":"IF($R17=\"\",\"\",IF($U17=\"\",IF(EOMONTH(VALUE(\"R\"&基本項目!$B$3&\".\"&FR$12&\".1\"),0)<$K17,\"\",DATEDIF($K17,EOMONTH(VALUE(\"R\"&基本項目!$B$3&\".\"&FR$12&\".1\")-1,1),\"Y\")),$U17))","v":""},null,null,{"$f":"IF($R17=\"\",\"\",IF($U17=\"\",IF(EOMONTH(VALUE(\"R\"&基本項目!$B$3+1&\".\"&FU$12&\".1\"),0)<$K17,\"\",DATEDIF($K17,EOMONTH(VALUE(\"R\"&基本項目!$B$3+1&\".\"&FU$12&\".1\")-1,1),\"Y\")),$U17))","v":""},null,null,{"$f":"IF($R17=\"\",\"\",IF($U17=\"\",IF(EOMONTH(VALUE(\"R\"&基本項目!$B$3+1&\".\"&FX$12&\".1\"),0)<$K17,\"\",DATEDIF($K17,EOMONTH(VALUE(\"R\"&基本項目!$B$3+1&\".\"&FX$12&\".1\")-1,1),\"Y\")),$U17))","v":""},null,null,{"$f":"IF($R17=\"\",\"\",IF($U17=\"\",IF(EOMONTH(VALUE(\"R\"&基本項目!$B$3+1&\".\"&GA$12&\".1\"),0)<$K17,\"\",DATEDIF($K17,EOMONTH(VALUE(\"R\"&基本項目!$B$3+1&\".\"&GA$12&\".1\")-1,1),\"Y\")),$U17))","v":""},null,null,"",null,null,null,"",null,null,null,null,null,"",null,null,"",null,null,"",null,null,"",null,null,"",null,null,"",null,null,"",null,null,"",null,null,"",null,null,"",null,null,"",null,null,"",null,null,"",null,null,null,"",null,null,null,"",null,null,null,null,"",null,null,"",null,null,"",null,null,"",null,null,"",null,null,"",null,null,"",null,null,"",null,null,"",null,null,"",null,null,"",null,null,"",null,null,"",null,null,null,"",null,null,null,"",null,null,null,null,"",null,null,"",null,null,"",null,null,"",null,null,"",null,null,"",null,null,"",null,null,"",null,null,"",null,null,"",null,null,"",null,null,""]
[null,6,null,null,null,null,null,null,null,null,null,null,null,null,null,null,null,{"$f":"IF(AND($U18=\"\",$K18=\"\"),\"\",IF($U18=\"\",所得計算!$I11,$U18))","v":""},null,null,null,null,null,null,null,null,null,null,null,null,{"$f":"IF(所得計算!AN$4=\"\",\"\",所得計算!AN$4)","v":""},null,null,null,null,null,null,null,null,null,null,null,null,"",null,null,null,null,null,null,null,null,null,null,null,null,null,{"$f":"IF(所得計算!AN$23=\"\",\"\",所得計算!AN$23)","v":""},null,null,null,null,null,null,null,null,null,null,null,null,null,null,null,null,null,null,null,null,null,null,null,null,null,null,null,null,null,null,null,null,null,null,null,null,null,null,null,null,null,null,null,null,null,null,null,null,"",null,null,null,null,null,null,null,null,null,null,null,null,null,"",null,null,null,null,null,null,null,{"$f":"IF(OR(AND(SUM($AL18)=1,SUM($X18)<=8500000),AND(SUM($AL18)=1,SUM($X18)>8500000,SUM($BF18)>0)),\"所得金額調整控除１？\",IF(OR(AND(SUM($AL18)=2,OR(SUM(所得計算!$BJ$5:$BJ$15)=0,SUM($BF18)=0)),AND(SUM($AL18)=2,OR(SUM($X18)>8500000,SUM($BF18)=0))),\"所得金額調整控除２？\",IF(AND(SUM($AL18)=3,OR(SUM($X18)<=8500000,SUM($BF18)=0)),\"所得金額調整控除３？\",IF(AND($AL18=\"\",OR(SUM($X18)>8500000,AND(SUM(所得計算!$BJ$5:$BJ$15)>0,SUM($BF18)>0))),\"所得金額調整控除サイン不要？\",\"\"))))","v":""},null,null,null,null,null,null,null,null,null,null,null,null,{"$f":"SUM(DC18,$AU$2,CH18,CV18)-SUM(所得計算!$AY$4)","v":0},null,null,"",null,null,6,null,null,null,null,null,null,null,null,null,null,null,null,null,null,null,null,null,null,null,null,null,null,null,null,null,null,null,null,null,null,null,null,null,null,null,null,null,"",null,null,null,null,null,null,null,null,null,null,{"$f":"IF($GL18=\"\",\"\",IF(HLOOKUP($GL18,$GT$12:$IC$22,7,FALSE)>=65,\"\",\"65未到達\"))","v":""},null,null,null,null,{"$f":"IF($R18=\"\",\"\",IF($U18=\"\",IF(EOMONTH(VALUE(\"R\"&基本項目!$B$3&\".\"&ET$12&\".1\"),0)<$K18,\"\",DATEDIF($K18-1,EOMONTH(VALUE(\"R\"&基本項目!$B$3&\".\"&ET$12&\".1\")-1,1),\"Y\")),$U18))","v":""},null,null,{"$f":"IF($R18=\"\",\"\",IF($U18=\"\",IF(EOMONTH(VALUE(\"R\"&基本項目!$B$3&\".\"&EW$12&\".1\"),0)<$K18,\"\",DATEDIF($K18-1,EOMONTH(VALUE(\"R\"&基本項目!$B$3&\".\"&EW$12&\".1\")-1,1),\"Y\")),$U18))","v":""},null,null,{"$f":"IF($R18=\"\",\"\",IF($U18=\"\",IF(EOMONTH(VALUE(\"R\"&基本項目!$B$3&\".\"&EZ$12&\".1\"),0)<$K18,\"\",DATEDIF($K18-1,EOMONTH(VALUE(\"R\"&基本項目!$B$3&\".\"&EZ$12&\".1\")-1,1),\"Y\")),$U18))","v":""},null,null,{"$f":"IF($R18=\"\",\"\",IF($U18=\"\",IF(EOMONTH(VALUE(\"R\"&基本項目!$B$3&\".\"&FC$12&\".1\"),0)<$K18,\"\",DATEDIF($K18-1,EOMONTH(VALUE(\"R\"&基本項目!$B$3&\".\"&FC$12&\".1\")-1,1),\"Y\")),$U18))","v":""},null,null,{"$f":"IF($R18=\"\",\"\",IF($U18=\"\",IF(EOMONTH(VALUE(\"R\"&基本項目!$B$3&\".\"&FF$12&\".1\"),0)<$K18,\"\",DATEDIF($K18-1,EOMONTH(VALUE(\"R\"&基本項目!$B$3&\".\"&FF$12&\".1\")-1,1),\"Y\")),$U18))","v":""},null,null,{"$f":"IF($R18=\"\",\"\",IF($U18=\"\",IF(EOMONTH(VALUE(\"R\"&基本項目!$B$3&\".\"&FI$12&\".1\"),0)<$K18,\"\",DATEDIF($K18-1,EOMONTH(VALUE(\"R\"&基本項目!$B$3&\".\"&FI$12&\".1\")-1,1),\"Y\")),$U18))","v":""},null,null,{"$f":"IF($R18=\"\",\"\",IF($U18=\"\",IF(EOMONTH(VALUE(\"R\"&基本項目!$B$3&\".\"&FL$12&\".1\"),0)<$K18,\"\",DATEDIF($K18-1,EOMONTH(VALUE(\"R\"&基本項目!$B$3&\".\"&FL$12&\".1\")-1,1),\"Y\")),$U18))","v":""},null,null,{"$f":"IF($R18=\"\",\"\",IF($U18=\"\",IF(EOMONTH(VALUE(\"R\"&基本項目!$B$3&\".\"&FO$12&\".1\"),0)<$K18,\"\",DATEDIF($K18-1,EOMONTH(VALUE(\"R\"&基本項目!$B$3&\".\"&FO$12&\".1\")-1,1),\"Y\")),$U18))","v":""},null,null,{"$f":"IF($R18=\"\",\"\",IF($U18=\"\",IF(EOMONTH(VALUE(\"R\"&基本項目!$B$3&\".\"&FR$12&\".1\"),0)<$K18,\"\",DATEDIF($K18-1,EOMONTH(VALUE(\"R\"&基本項目!$B$3&\".\"&FR$12&\".1\")-1,1),\"Y\")),$U18))","v":""},null,null,{"$f":"IF($R18=\"\",\"\",IF($U18=\"\",IF(EOMONTH(VALUE(\"R\"&基本項目!$B$3+1&\".\"&FU$12&\".1\"),0)<$K18,\"\",DATEDIF($K18-1,EOMONTH(VALUE(\"R\"&基本項目!$B$3+1&\".\"&FU$12&\".1\")-1,1),\"Y\")),$U18))","v":""},null,null,{"$f":"IF($R18=\"\",\"\",IF($U18=\"\",IF(EOMONTH(VALUE(\"R\"&基本項目!$B$3+1&\".\"&FX$12&\".1\"),0)<$K18,\"\",DATEDIF($K18-1,EOMONTH(VALUE(\"R\"&基本項目!$B$3+1&\".\"&FX$12&\".1\")-1,1),\"Y\")),$U18))","v":""},null,null,{"$f":"IF($R18=\"\",\"\",IF($U18=\"\",IF(EOMONTH(VALUE(\"R\"&基本項目!$B$3+1&\".\"&GA$12&\".1\"),0)<$K18,\"\",DATEDIF($K18-1,EOMONTH(VALUE(\"R\"&基本項目!$B$3+1&\".\"&GA$12&\".1\")-1,1),\"Y\")),$U18))","v":""},null,null,"",null,null,null,"",null,null,null,null,null,{"$f":"IF($R18=\"\",\"\",IF($U18=\"\",IF(EOMONTH(VALUE(\"R\"&基本項目!$B$3&\".\"&ET$12&\".1\"),0)<$K18,\"\",DATEDIF($K18,EOMONTH(VALUE(\"R\"&基本項目!$B$3&\".\"&ET$12&\".1\")-1,1),\"Y\")),$U18))","v":""},null,null,{"$f":"IF($R18=\"\",\"\",IF($U18=\"\",IF(EOMONTH(VALUE(\"R\"&基本項目!$B$3&\".\"&EW$12&\".1\"),0)<$K18,\"\",DATEDIF($K18,EOMONTH(VALUE(\"R\"&基本項目!$B$3&\".\"&EW$12&\".1\")-1,1),\"Y\")),$U18))","v":""},null,null,{"$f":"IF($R18=\"\",\"\",IF($U18=\"\",IF(EOMONTH(VALUE(\"R\"&基本項目!$B$3&\".\"&EZ$12&\".1\"),0)<$K18,\"\",DATEDIF($K18,EOMONTH(VALUE(\"R\"&基本項目!$B$3&\".\"&EZ$12&\".1\")-1,1),\"Y\")),$U18))","v":""},null,null,{"$f":"IF($R18=\"\",\"\",IF($U18=\"\",IF(EOMONTH(VALUE(\"R\"&基本項目!$B$3&\".\"&FC$12&\".1\"),0)<$K18,\"\",DATEDIF($K18,EOMONTH(VALUE(\"R\"&基本項目!$B$3&\".\"&FC$12&\".1\")-1,1),\"Y\")),$U18))","v":""},null,null,{"$f":"IF($R18=\"\",\"\",IF($U18=\"\",IF(EOMONTH(VALUE(\"R\"&基本項目!$B$3&\".\"&FF$12&\".1\"),0)<$K18,\"\",DATEDIF($K18,EOMONTH(VALUE(\"R\"&基本項目!$B$3&\".\"&FF$12&\".1\")-1,1),\"Y\")),$U18))","v":""},null,null,{"$f":"IF($R18=\"\",\"\",IF($U18=\"\",IF(EOMONTH(VALUE(\"R\"&基本項目!$B$3&\".\"&FI$12&\".1\"),0)<$K18,\"\",DATEDIF($K18,EOMONTH(VALUE(\"R\"&基本項目!$B$3&\".\"&FI$12&\".1\")-1,1),\"Y\")),$U18))","v":""},null,null,{"$f":"IF($R18=\"\",\"\",IF($U18=\"\",IF(EOMONTH(VALUE(\"R\"&基本項目!$B$3&\".\"&FL$12&\".1\"),0)<$K18,\"\",DATEDIF($K18,EOMONTH(VALUE(\"R\"&基本項目!$B$3&\".\"&FL$12&\".1\")-1,1),\"Y\")),$U18))","v":""},null,null,{"$f":"IF($R18=\"\",\"\",IF($U18=\"\",IF(EOMONTH(VALUE(\"R\"&基本項目!$B$3&\".\"&FO$12&\".1\"),0)<$K18,\"\",DATEDIF($K18,EOMONTH(VALUE(\"R\"&基本項目!$B$3&\".\"&FO$12&\".1\")-1,1),\"Y\")),$U18))","v":""},null,null,{"$f":"IF($R18=\"\",\"\",IF($U18=\"\",IF(EOMONTH(VALUE(\"R\"&基本項目!$B$3&\".\"&FR$12&\".1\"),0)<$K18,\"\",DATEDIF($K18,EOMONTH(VALUE(\"R\"&基本項目!$B$3&\".\"&FR$12&\".1\")-1,1),\"Y\")),$U18))","v":""},null,null,{"$f":"IF($R18=\"\",\"\",IF($U18=\"\",IF(EOMONTH(VALUE(\"R\"&基本項目!$B$3+1&\".\"&FU$12&\".1\"),0)<$K18,\"\",DATEDIF($K18,EOMONTH(VALUE(\"R\"&基本項目!$B$3+1&\".\"&FU$12&\".1\")-1,1),\"Y\")),$U18))","v":""},null,null,{"$f":"IF($R18=\"\",\"\",IF($U18=\"\",IF(EOMONTH(VALUE(\"R\"&基本項目!$B$3+1&\".\"&FX$12&\".1\"),0)<$K18,\"\",DATEDIF($K18,EOMONTH(VALUE(\"R\"&基本項目!$B$3+1&\".\"&FX$12&\".1\")-1,1),\"Y\")),$U18))","v":""},null,null,{"$f":"IF($R18=\"\",\"\",IF($U18=\"\",IF(EOMONTH(VALUE(\"R\"&基本項目!$B$3+1&\".\"&GA$12&\".1\"),0)<$K18,\"\",DATEDIF($K18,EOMONTH(VALUE(\"R\"&基本項目!$B$3+1&\".\"&GA$12&\".1\")-1,1),\"Y\")),$U18))","v":""},null,null,"",null,null,null,"",null,null,null,null,null,"",null,null,"",null,null,"",null,null,"",null,null,"",null,null,"",null,null,"",null,null,"",null,null,"",null,null,"",null,null,"",null,null,"",null,null,"",null,null,null,"",null,null,null,"",null,null,null,null,"",null,null,"",null,null,"",null,null,"",null,null,"",null,null,"",null,null,"",null,null,"",null,null,"",null,null,"",null,null,"",null,null,"",null,null,"",null,null,null,"",null,null,null,"",null,null,null,null,"",null,null,"",null,null,"",null,null,"",null,null,"",null,null,"",null,null,"",null,null,"",null,null,"",null,null,"",null,null,"",null,null,""]
[null,7,null,null,null,null,null,null,null,null,null,null,null,null,null,null,null,{"$f":"IF(AND($U19=\"\",$K19=\"\"),\"\",IF($U19=\"\",所得計算!$I12,$U19))","v":""},null,null,null,null,null,null,null,null,null,null,null,null,{"$f":"IF(所得計算!AO$4=\"\",\"\",所得計算!AO$4)","v":""},null,null,null,null,null,null,null,null,null,null,null,null,"",null,null,null,null,null,null,null,null,null,null,null,null,null,{"$f":"IF(所得計算!AO$23=\"\",\"\",所得計算!AO$23)","v":""},null,null,null,null,null,null,null,null,null,null,null,null,null,null,null,null,null,null,null,null,null,null,null,null,null,null,null,null,null,null,null,null,null,null,null,null,null,null,null,null,null,null,null,null,null,null,null,null,"",null,null,null,null,null,null,null,null,null,null,null,null,null,"",null,null,null,null,null,null,null,{"$f":"IF(OR(AND(SUM($AL19)=1,SUM($X19)<=8500000),AND(SUM($AL19)=1,SUM($X19)>8500000,SUM($BF19)>0)),\"所得金額調整控除１？\",IF(OR(AND(SUM($AL19)=2,OR(SUM(所得計算!$BK$5:$BK$15)=0,SUM($BF19)=0)),AND(SUM($AL19)=2,OR(SUM($X19)>8500000,SUM($BF19)=0))),\"所得金額調整控除２？\",IF(AND(SUM($AL19)=3,OR(SUM($X19)<=8500000,SUM($BF19)=0)),\"所得金額調整控除３？\",IF(AND($AL19=\"\",OR(SUM($X19)>8500000,AND(SUM(所得計算!$BK$5:$BK$15)>0,SUM($BF19)>0))),\"所得金額調整控除サイン不要？\",\"\"))))","v":""},null,null,null,null,null,null,null,null,null,null,null,null,{"$f":"SUM(DC19,$AU$2,CH19,CV19)-SUM(所得計算!$AZ$4)","v":0},null,null,"",null,null,7,null,null,null,null,null,null,null,null,null,null,null,null,null,null,null,null,null,null,null,null,null,null,null,null,null,null,null,null,null,null,null,null,null,null,null,null,null,"",null,null,null,null,null,null,null,null,null,null,{"$f":"IF($GL19=\"\",\"\",IF(HLOOKUP($GL19,$GT$12:$IC$22,8,FALSE)>=65,\"\",\"65未到達\"))","v":""},null,null,null,null,{"$f":"IF($R19=\"\",\"\",IF($U19=\"\",IF(EOMONTH(VALUE(\"R\"&基本項目!$B$3&\".\"&ET$12&\".1\"),0)<$K19,\"\",DATEDIF($K19-1,EOMONTH(VALUE(\"R\"&基本項目!$B$3&\".\"&ET$12&\".1\")-1,1),\"Y\")),$U19))","v":""},null,null,{"$f":"IF($R19=\"\",\"\",IF($U19=\"\",IF(EOMONTH(VALUE(\"R\"&基本項目!$B$3&\".\"&EW$12&\".1\"),0)<$K19,\"\",DATEDIF($K19-1,EOMONTH(VALUE(\"R\"&基本項目!$B$3&\".\"&EW$12&\".1\")-1,1),\"Y\")),$U19))","v":""},null,null,{"$f":"IF($R19=\"\",\"\",IF($U19=\"\",IF(EOMONTH(VALUE(\"R\"&基本項目!$B$3&\".\"&EZ$12&\".1\"),0)<$K19,\"\",DATEDIF($K19-1,EOMONTH(VALUE(\"R\"&基本項目!$B$3&\".\"&EZ$12&\".1\")-1,1),\"Y\")),$U19))","v":""},null,null,{"$f":"IF($R19=\"\",\"\",IF($U19=\"\",IF(EOMONTH(VALUE(\"R\"&基本項目!$B$3&\".\"&FC$12&\".1\"),0)<$K19,\"\",DATEDIF($K19-1,EOMONTH(VALUE(\"R\"&基本項目!$B$3&\".\"&FC$12&\".1\")-1,1),\"Y\")),$U19))","v":""},null,null,{"$f":"IF($R19=\"\",\"\",IF($U19=\"\",IF(EOMONTH(VALUE(\"R\"&基本項目!$B$3&\".\"&FF$12&\".1\"),0)<$K19,\"\",DATEDIF($K19-1,EOMONTH(VALUE(\"R\"&基本項目!$B$3&\".\"&FF$12&\".1\")-1,1),\"Y\")),$U19))","v":""},null,null,{"$f":"IF($R19=\"\",\"\",IF($U19=\"\",IF(EOMONTH(VALUE(\"R\"&基本項目!$B$3&\".\"&FI$12&\".1\"),0)<$K19,\"\",DATEDIF($K19-1,EOMONTH(VALUE(\"R\"&基本項目!$B$3&\".\"&FI$12&\".1\")-1,1),\"Y\")),$U19))","v":""},null,null,{"$f":"IF($R19=\"\",\"\",IF($U19=\"\",IF(EOMONTH(VALUE(\"R\"&基本項目!$B$3&\".\"&FL$12&\".1\"),0)<$K19,\"\",DATEDIF($K19-1,EOMONTH(VALUE(\"R\"&基本項目!$B$3&\".\"&FL$12&\".1\")-1,1),\"Y\")),$U19))","v":""},null,null,{"$f":"IF($R19=\"\",\"\",IF($U19=\"\",IF(EOMONTH(VALUE(\"R\"&基本項目!$B$3&\".\"&FO$12&\".1\"),0)<$K19,\"\",DATEDIF($K19-1,EOMONTH(VALUE(\"R\"&基本項目!$B$3&\".\"&FO$12&\".1\")-1,1),\"Y\")),$U19))","v":""},null,null,{"$f":"IF($R19=\"\",\"\",IF($U19=\"\",IF(EOMONTH(VALUE(\"R\"&基本項目!$B$3&\".\"&FR$12&\".1\"),0)<$K19,\"\",DATEDIF($K19-1,EOMONTH(VALUE(\"R\"&基本項目!$B$3&\".\"&FR$12&\".1\")-1,1),\"Y\")),$U19))","v":""},null,null,{"$f":"IF($R19=\"\",\"\",IF($U19=\"\",IF(EOMONTH(VALUE(\"R\"&基本項目!$B$3+1&\".\"&FU$12&\".1\"),0)<$K19,\"\",DATEDIF($K19-1,EOMONTH(VALUE(\"R\"&基本項目!$B$3+1&\".\"&FU$12&\".1\")-1,1),\"Y\")),$U19))","v":""},null,null,{"$f":"IF($R19=\"\",\"\",IF($U19=\"\",IF(EOMONTH(VALUE(\"R\"&基本項目!$B$3+1&\".\"&FX$12&\".1\"),0)<$K19,\"\",DATEDIF($K19-1,EOMONTH(VALUE(\"R\"&基本項目!$B$3+1&\".\"&FX$12&\".1\")-1,1),\"Y\")),$U19))","v":""},null,null,{"$f":"IF($R19=\"\",\"\",IF($U19=\"\",IF(EOMONTH(VALUE(\"R\"&基本項目!$B$3+1&\".\"&GA$12&\".1\"),0)<$K19,\"\",DATEDIF($K19-1,EOMONTH(VALUE(\"R\"&基本項目!$B$3+1&\".\"&GA$12&\".1\")-1,1),\"Y\")),$U19))","v":""},null,null,"",null,null,null,"",null,null,null,null,null,{"$f":"IF($R19=\"\",\"\",IF($U19=\"\",IF(EOMONTH(VALUE(\"R\"&基本項目!$B$3&\".\"&ET$12&\".1\"),0)<$K19,\"\",DATEDIF($K19,EOMONTH(VALUE(\"R\"&基本項目!$B$3&\".\"&ET$12&\".1\")-1,1),\"Y\")),$U19))","v":""},null,null,{"$f":"IF($R19=\"\",\"\",IF($U19=\"\",IF(EOMONTH(VALUE(\"R\"&基本項目!$B$3&\".\"&EW$12&\".1\"),0)<$K19,\"\",DATEDIF($K19,EOMONTH(VALUE(\"R\"&基本項目!$B$3&\".\"&EW$12&\".1\")-1,1),\"Y\")),$U19))","v":""},null,null,{"$f":"IF($R19=\"\",\"\",IF($U19=\"\",IF(EOMONTH(VALUE(\"R\"&基本項目!$B$3&\".\"&EZ$12&\".1\"),0)<$K19,\"\",DATEDIF($K19,EOMONTH(VALUE(\"R\"&基本項目!$B$3&\".\"&EZ$12&\".1\")-1,1),\"Y\")),$U19))","v":""},null,null,{"$f":"IF($R19=\"\",\"\",IF($U19=\"\",IF(EOMONTH(VALUE(\"R\"&基本項目!$B$3&\".\"&FC$12&\".1\"),0)<$K19,\"\",DATEDIF($K19,EOMONTH(VALUE(\"R\"&基本項目!$B$3&\".\"&FC$12&\".1\")-1,1),\"Y\")),$U19))","v":""},null,null,{"$f":"IF($R19=\"\",\"\",IF($U19=\"\",IF(EOMONTH(VALUE(\"R\"&基本項目!$B$3&\".\"&FF$12&\".1\"),0)<$K19,\"\",DATEDIF($K19,EOMONTH(VALUE(\"R\"&基本項目!$B$3&\".\"&FF$12&\".1\")-1,1),\"Y\")),$U19))","v":""},null,null,{"$f":"IF($R19=\"\",\"\",IF($U19=\"\",IF(EOMONTH(VALUE(\"R\"&基本項目!$B$3&\".\"&FI$12&\".1\"),0)<$K19,\"\",DATEDIF($K19,EOMONTH(VALUE(\"R\"&基本項目!$B$3&\".\"&FI$12&\".1\")-1,1),\"Y\")),$U19))","v":""},null,null,{"$f":"IF($R19=\"\",\"\",IF($U19=\"\",IF(EOMONTH(VALUE(\"R\"&基本項目!$B$3&\".\"&FL$12&\".1\"),0)<$K19,\"\",DATEDIF($K19,EOMONTH(VALUE(\"R\"&基本項目!$B$3&\".\"&FL$12&\".1\")-1,1),\"Y\")),$U19))","v":""},null,null,{"$f":"IF($R19=\"\",\"\",IF($U19=\"\",IF(EOMONTH(VALUE(\"R\"&基本項目!$B$3&\".\"&FO$12&\".1\"),0)<$K19,\"\",DATEDIF($K19,EOMONTH(VALUE(\"R\"&基本項目!$B$3&\".\"&FO$12&\".1\")-1,1),\"Y\")),$U19))","v":""},null,null,{"$f":"IF($R19=\"\",\"\",IF($U19=\"\",IF(EOMONTH(VALUE(\"R\"&基本項目!$B$3&\".\"&FR$12&\".1\"),0)<$K19,\"\",DATEDIF($K19,EOMONTH(VALUE(\"R\"&基本項目!$B$3&\".\"&FR$12&\".1\")-1,1),\"Y\")),$U19))","v":""},null,null,{"$f":"IF($R19=\"\",\"\",IF($U19=\"\",IF(EOMONTH(VALUE(\"R\"&基本項目!$B$3+1&\".\"&FU$12&\".1\"),0)<$K19,\"\",DATEDIF($K19,EOMONTH(VALUE(\"R\"&基本項目!$B$3+1&\".\"&FU$12&\".1\")-1,1),\"Y\")),$U19))","v":""},null,null,{"$f":"IF($R19=\"\",\"\",IF($U19=\"\",IF(EOMONTH(VALUE(\"R\"&基本項目!$B$3+1&\".\"&FX$12&\".1\"),0)<$K19,\"\",DATEDIF($K19,EOMONTH(VALUE(\"R\"&基本項目!$B$3+1&\".\"&FX$12&\".1\")-1,1),\"Y\")),$U19))","v":""},null,null,{"$f":"IF($R19=\"\",\"\",IF($U19=\"\",IF(EOMONTH(VALUE(\"R\"&基本項目!$B$3+1&\".\"&GA$12&\".1\"),0)<$K19,\"\",DATEDIF($K19,EOMONTH(VALUE(\"R\"&基本項目!$B$3+1&\".\"&GA$12&\".1\")-1,1),\"Y\")),$U19))","v":""},null,null,"",null,null,null,"",null,null,null,null,null,"",null,null,"",null,null,"",null,null,"",null,null,"",null,null,"",null,null,"",null,null,"",null,null,"",null,null,"",null,null,"",null,null,"",null,null,"",null,null,null,"",null,null,null,"",null,null,null,null,"",null,null,"",null,null,"",null,null,"",null,null,"",null,null,"",null,null,"",null,null,"",null,null,"",null,null,"",null,null,"",null,null,"",null,null,"",null,null,null,"",null,null,null,"",null,null,null,null,"",null,null,"",null,null,"",null,null,"",null,null,"",null,null,"",null,null,"",null,null,"",null,null,"",null,null,"",null,null,"",null,null,""]
[null,8,null,null,null,null,null,null,null,null,null,null,null,null,null,null,null,{"$f":"IF(AND($U20=\"\",$K20=\"\"),\"\",IF($U20=\"\",所得計算!$I13,$U20))","v":""},null,null,null,null,null,null,null,null,null,null,null,null,{"$f":"IF(所得計算!AP$4=\"\",\"\",所得計算!AP$4)","v":""},null,null,null,null,null,null,null,null,null,null,null,null,"",null,null,null,null,null,null,null,null,null,null,null,null,null,{"$f":"IF(所得計算!AP$23=\"\",\"\",所得計算!AP$23)","v":""},null,null,null,null,null,null,null,null,null,null,null,null,null,null,null,null,null,null,null,null,null,null,null,null,null,null,null,null,null,null,null,null,null,null,null,null,null,null,null,null,null,null,null,null,null,null,null,null,"",null,null,null,null,null,null,null,null,null,null,null,null,null,"",null,null,null,null,null,null,null,{"$f":"IF(OR(AND(SUM($AL20)=1,SUM($X20)<=8500000),AND(SUM($AL20)=1,SUM($X20)>8500000,SUM($BF20)>0)),\"所得金額調整控除１？\",IF(OR(AND(SUM($AL20)=2,OR(SUM(所得計算!$BL$5:$BL$15)=0,SUM($BF20)=0)),AND(SUM($AL20)=2,OR(SUM($X20)>8500000,SUM($BF20)=0))),\"所得金額調整控除２？\",IF(AND(SUM($AL20)=3,OR(SUM($X20)<=8500000,SUM($BF20)=0)),\"所得金額調整控除３？\",IF(AND($AL20=\"\",OR(SUM($X20)>8500000,AND(SUM(所得計算!$BL$5:$BL$15)>0,SUM($BF20)>0))),\"所得金額調整控除サイン不要？\",\"\"))))","v":""},null,null,null,null,null,null,null,null,null,null,null,null,{"$f":"SUM(DC20,$AU$2,CH20,CV20)-SUM(所得計算!$BA$4)","v":0},null,null,"",null,null,8,null,null,null,null,null,null,null,null,null,null,null,null,null,null,null,null,null,null,null,null,null,null,null,null,null,null,null,null,null,null,null,null,null,null,null,null,null,"",null,null,null,null,null,null,null,null,null,null,{"$f":"IF($GL20=\"\",\"\",IF(HLOOKUP($GL20,$GT$12:$IC$22,9,FALSE)>=65,\"\",\"65未到達\"))","v":""},null,null,null,null,{"$f":"IF($R20=\"\",\"\",IF($U20=\"\",IF(EOMONTH(VALUE(\"R\"&基本項目!$B$3&\".\"&ET$12&\".1\"),0)<$K20,\"\",DATEDIF($K20-1,EOMONTH(VALUE(\"R\"&基本項目!$B$3&\".\"&ET$12&\".1\")-1,1),\"Y\")),$U20))","v":""},null,null,{"$f":"IF($R20=\"\",\"\",IF($U20=\"\",IF(EOMONTH(VALUE(\"R\"&基本項目!$B$3&\".\"&EW$12&\".1\"),0)<$K20,\"\",DATEDIF($K20-1,EOMONTH(VALUE(\"R\"&基本項目!$B$3&\".\"&EW$12&\".1\")-1,1),\"Y\")),$U20))","v":""},null,null,{"$f":"IF($R20=\"\",\"\",IF($U20=\"\",IF(EOMONTH(VALUE(\"R\"&基本項目!$B$3&\".\"&EZ$12&\".1\"),0)<$K20,\"\",DATEDIF($K20-1,EOMONTH(VALUE(\"R\"&基本項目!$B$3&\".\"&EZ$12&\".1\")-1,1),\"Y\")),$U20))","v":""},null,null,{"$f":"IF($R20=\"\",\"\",IF($U20=\"\",IF(EOMONTH(VALUE(\"R\"&基本項目!$B$3&\".\"&FC$12&\".1\"),0)<$K20,\"\",DATEDIF($K20-1,EOMONTH(VALUE(\"R\"&基本項目!$B$3&\".\"&FC$12&\".1\")-1,1),\"Y\")),$U20))","v":""},null,null,{"$f":"IF($R20=\"\",\"\",IF($U20=\"\",IF(EOMONTH(VALUE(\"R\"&基本項目!$B$3&\".\"&FF$12&\".1\"),0)<$K20,\"\",DATEDIF($K20-1,EOMONTH(VALUE(\"R\"&基本項目!$B$3&\".\"&FF$12&\".1\")-1,1),\"Y\")),$U20))","v":""},null,null,{"$f":"IF($R20=\"\",\"\",IF($U20=\"\",IF(EOMONTH(VALUE(\"R\"&基本項目!$B$3&\".\"&FI$12&\".1\"),0)<$K20,\"\",DATEDIF($K20-1,EOMONTH(VALUE(\"R\"&基本項目!$B$3&\".\"&FI$12&\".1\")-1,1),\"Y\")),$U20))","v":""},null,null,{"$f":"IF($R20=\"\",\"\",IF($U20=\"\",IF(EOMONTH(VALUE(\"R\"&基本項目!$B$3&\".\"&FL$12&\".1\"),0)<$K20,\"\",DATEDIF($K20-1,EOMONTH(VALUE(\"R\"&基本項目!$B$3&\".\"&FL$12&\".1\")-1,1),\"Y\")),$U20))","v":""},null,null,{"$f":"IF($R20=\"\",\"\",IF($U20=\"\",IF(EOMONTH(VALUE(\"R\"&基本項目!$B$3&\".\"&FO$12&\".1\"),0)<$K20,\"\",DATEDIF($K20-1,EOMONTH(VALUE(\"R\"&基本項目!$B$3&\".\"&FO$12&\".1\")-1,1),\"Y\")),$U20))","v":""},null,null,{"$f":"IF($R20=\"\",\"\",IF($U20=\"\",IF(EOMONTH(VALUE(\"R\"&基本項目!$B$3&\".\"&FR$12&\".1\"),0)<$K20,\"\",DATEDIF($K20-1,EOMONTH(VALUE(\"R\"&基本項目!$B$3&\".\"&FR$12&\".1\")-1,1),\"Y\")),$U20))","v":""},null,null,{"$f":"IF($R20=\"\",\"\",IF($U20=\"\",IF(EOMONTH(VALUE(\"R\"&基本項目!$B$3+1&\".\"&FU$12&\".1\"),0)<$K20,\"\",DATEDIF($K20-1,EOMONTH(VALUE(\"R\"&基本項目!$B$3+1&\".\"&FU$12&\".1\")-1,1),\"Y\")),$U20))","v":""},null,null,{"$f":"IF($R20=\"\",\"\",IF($U20=\"\",IF(EOMONTH(VALUE(\"R\"&基本項目!$B$3+1&\".\"&FX$12&\".1\"),0)<$K20,\"\",DATEDIF($K20-1,EOMONTH(VALUE(\"R\"&基本項目!$B$3+1&\".\"&FX$12&\".1\")-1,1),\"Y\")),$U20))","v":""},null,null,{"$f":"IF($R20=\"\",\"\",IF($U20=\"\",IF(EOMONTH(VALUE(\"R\"&基本項目!$B$3+1&\".\"&GA$12&\".1\"),0)<$K20,\"\",DATEDIF($K20-1,EOMONTH(VALUE(\"R\"&基本項目!$B$3+1&\".\"&GA$12&\".1\")-1,1),\"Y\")),$U20))","v":""},null,null,"",null,null,null,"",null,null,null,null,null,{"$f":"IF($R20=\"\",\"\",IF($U20=\"\",IF(EOMONTH(VALUE(\"R\"&基本項目!$B$3&\".\"&ET$12&\".1\"),0)<$K20,\"\",DATEDIF($K20,EOMONTH(VALUE(\"R\"&基本項目!$B$3&\".\"&ET$12&\".1\")-1,1),\"Y\")),$U20))","v":""},null,null,{"$f":"IF($R20=\"\",\"\",IF($U20=\"\",IF(EOMONTH(VALUE(\"R\"&基本項目!$B$3&\".\"&EW$12&\".1\"),0)<$K20,\"\",DATEDIF($K20,EOMONTH(VALUE(\"R\"&基本項目!$B$3&\".\"&EW$12&\".1\")-1,1),\"Y\")),$U20))","v":""},null,null,{"$f":"IF($R20=\"\",\"\",IF($U20=\"\",IF(EOMONTH(VALUE(\"R\"&基本項目!$B$3&\".\"&EZ$12&\".1\"),0)<$K20,\"\",DATEDIF($K20,EOMONTH(VALUE(\"R\"&基本項目!$B$3&\".\"&EZ$12&\".1\")-1,1),\"Y\")),$U20))","v":""},null,null,{"$f":"IF($R20=\"\",\"\",IF($U20=\"\",IF(EOMONTH(VALUE(\"R\"&基本項目!$B$3&\".\"&FC$12&\".1\"),0)<$K20,\"\",DATEDIF($K20,EOMONTH(VALUE(\"R\"&基本項目!$B$3&\".\"&FC$12&\".1\")-1,1),\"Y\")),$U20))","v":""},null,null,{"$f":"IF($R20=\"\",\"\",IF($U20=\"\",IF(EOMONTH(VALUE(\"R\"&基本項目!$B$3&\".\"&FF$12&\".1\"),0)<$K20,\"\",DATEDIF($K20,EOMONTH(VALUE(\"R\"&基本項目!$B$3&\".\"&FF$12&\".1\")-1,1),\"Y\")),$U20))","v":""},null,null,{"$f":"IF($R20=\"\",\"\",IF($U20=\"\",IF(EOMONTH(VALUE(\"R\"&基本項目!$B$3&\".\"&FI$12&\".1\"),0)<$K20,\"\",DATEDIF($K20,EOMONTH(VALUE(\"R\"&基本項目!$B$3&\".\"&FI$12&\".1\")-1,1),\"Y\")),$U20))","v":""},null,null,{"$f":"IF($R20=\"\",\"\",IF($U20=\"\",IF(EOMONTH(VALUE(\"R\"&基本項目!$B$3&\".\"&FL$12&\".1\"),0)<$K20,\"\",DATEDIF($K20,EOMONTH(VALUE(\"R\"&基本項目!$B$3&\".\"&FL$12&\".1\")-1,1),\"Y\")),$U20))","v":""},null,null,{"$f":"IF($R20=\"\",\"\",IF($U20=\"\",IF(EOMONTH(VALUE(\"R\"&基本項目!$B$3&\".\"&FO$12&\".1\"),0)<$K20,\"\",DATEDIF($K20,EOMONTH(VALUE(\"R\"&基本項目!$B$3&\".\"&FO$12&\".1\")-1,1),\"Y\")),$U20))","v":""},null,null,{"$f":"IF($R20=\"\",\"\",IF($U20=\"\",IF(EOMONTH(VALUE(\"R\"&基本項目!$B$3&\".\"&FR$12&\".1\"),0)<$K20,\"\",DATEDIF($K20,EOMONTH(VALUE(\"R\"&基本項目!$B$3&\".\"&FR$12&\".1\")-1,1),\"Y\")),$U20))","v":""},null,null,{"$f":"IF($R20=\"\",\"\",IF($U20=\"\",IF(EOMONTH(VALUE(\"R\"&基本項目!$B$3+1&\".\"&FU$12&\".1\"),0)<$K20,\"\",DATEDIF($K20,EOMONTH(VALUE(\"R\"&基本項目!$B$3+1&\".\"&FU$12&\".1\")-1,1),\"Y\")),$U20))","v":""},null,null,{"$f":"IF($R20=\"\",\"\",IF($U20=\"\",IF(EOMONTH(VALUE(\"R\"&基本項目!$B$3+1&\".\"&FX$12&\".1\"),0)<$K20,\"\",DATEDIF($K20,EOMONTH(VALUE(\"R\"&基本項目!$B$3+1&\".\"&FX$12&\".1\")-1,1),\"Y\")),$U20))","v":""},null,null,{"$f":"IF($R20=\"\",\"\",IF($U20=\"\",IF(EOMONTH(VALUE(\"R\"&基本項目!$B$3+1&\".\"&GA$12&\".1\"),0)<$K20,\"\",DATEDIF($K20,EOMONTH(VALUE(\"R\"&基本項目!$B$3+1&\".\"&GA$12&\".1\")-1,1),\"Y\")),$U20))","v":""},null,null,"",null,null,null,"",null,null,null,null,null,"",null,null,"",null,null,"",null,null,"",null,null,"",null,null,"",null,null,"",null,null,"",null,null,"",null,null,"",null,null,"",null,null,"",null,null,"",null,null,null,"",null,null,null,"",null,null,null,null,"",null,null,"",null,null,"",null,null,"",null,null,"",null,null,"",null,null,"",null,null,"",null,null,"",null,null,"",null,null,"",null,null,"",null,null,"",null,null,null,"",null,null,null,"",null,null,null,null,"",null,null,"",null,null,"",null,null,"",null,null,"",null,null,"",null,null,"",null,null,"",null,null,"",null,null,"",null,null,"",null,null,""]
[null,9,null,null,null,null,null,null,null,null,null,null,null,null,null,null,null,{"$f":"IF(AND($U21=\"\",$K21=\"\"),\"\",IF($U21=\"\",所得計算!$I14,$U21))","v":""},null,null,null,null,null,null,null,null,null,null,null,null,{"$f":"IF(所得計算!AQ$4=\"\",\"\",所得計算!AQ$4)","v":""},null,null,null,null,null,null,null,null,null,null,null,null,"",null,null,null,null,null,null,null,null,null,null,null,null,null,{"$f":"IF(所得計算!AQ$23=\"\",\"\",所得計算!AQ$23)","v":""},null,null,null,null,null,null,null,null,null,null,null,null,null,null,null,null,null,null,null,null,null,null,null,null,null,null,null,null,null,null,null,null,null,null,null,null,null,null,null,null,null,null,null,null,null,null,null,null,"",null,null,null,null,null,null,null,null,null,null,null,null,null,"",null,null,null,null,null,null,null,{"$f":"IF(OR(AND(SUM($AL21)=1,SUM($X21)<=8500000),AND(SUM($AL21)=1,SUM($X21)>8500000,SUM($BF21)>0)),\"所得金額調整控除１？\",IF(OR(AND(SUM($AL21)=2,OR(SUM(所得計算!$BM$5:$BM$15)=0,SUM($BF21)=0)),AND(SUM($AL21)=2,OR(SUM($X21)>8500000,SUM($BF21)=0))),\"所得金額調整控除２？\",IF(AND(SUM($AL21)=3,OR(SUM($X21)<=8500000,SUM($BF21)=0)),\"所得金額調整控除３？\",IF(AND($AL21=\"\",OR(SUM($X21)>8500000,AND(SUM(所得計算!$BM$5:$BM$15)>0,SUM($BF21)>0))),\"所得金額調整控除サイン不要？\",\"\"))))","v":""},null,null,null,null,null,null,null,null,null,null,null,null,{"$f":"SUM(DC21,$AU$2,CH21,CV21)-SUM(所得計算!$BB$4)","v":0},null,null,"",null,null,9,null,null,null,null,null,null,null,null,null,null,null,null,null,null,null,null,null,null,null,null,null,null,null,null,null,null,null,null,null,null,null,null,null,null,null,null,null,"",null,null,null,null,null,null,null,null,null,null,{"$f":"IF($GL21=\"\",\"\",IF(HLOOKUP($GL21,$GT$12:$IC$22,10,FALSE)>=65,\"\",\"65未到達\"))","v":""},null,null,null,null,{"$f":"IF($R21=\"\",\"\",IF($U21=\"\",IF(EOMONTH(VALUE(\"R\"&基本項目!$B$3&\".\"&ET$12&\".1\"),0)<$K21,\"\",DATEDIF($K21-1,EOMONTH(VALUE(\"R\"&基本項目!$B$3&\".\"&ET$12&\".1\")-1,1),\"Y\")),$U21))","v":""},null,null,{"$f":"IF($R21=\"\",\"\",IF($U21=\"\",IF(EOMONTH(VALUE(\"R\"&基本項目!$B$3&\".\"&EW$12&\".1\"),0)<$K21,\"\",DATEDIF($K21-1,EOMONTH(VALUE(\"R\"&基本項目!$B$3&\".\"&EW$12&\".1\")-1,1),\"Y\")),$U21))","v":""},null,null,{"$f":"IF($R21=\"\",\"\",IF($U21=\"\",IF(EOMONTH(VALUE(\"R\"&基本項目!$B$3&\".\"&EZ$12&\".1\"),0)<$K21,\"\",DATEDIF($K21-1,EOMONTH(VALUE(\"R\"&基本項目!$B$3&\".\"&EZ$12&\".1\")-1,1),\"Y\")),$U21))","v":""},null,null,{"$f":"IF($R21=\"\",\"\",IF($U21=\"\",IF(EOMONTH(VALUE(\"R\"&基本項目!$B$3&\".\"&FC$12&\".1\"),0)<$K21,\"\",DATEDIF($K21-1,EOMONTH(VALUE(\"R\"&基本項目!$B$3&\".\"&FC$12&\".1\")-1,1),\"Y\")),$U21))","v":""},null,null,{"$f":"IF($R21=\"\",\"\",IF($U21=\"\",IF(EOMONTH(VALUE(\"R\"&基本項目!$B$3&\".\"&FF$12&\".1\"),0)<$K21,\"\",DATEDIF($K21-1,EOMONTH(VALUE(\"R\"&基本項目!$B$3&\".\"&FF$12&\".1\")-1,1),\"Y\")),$U21))","v":""},null,null,{"$f":"IF($R21=\"\",\"\",IF($U21=\"\",IF(EOMONTH(VALUE(\"R\"&基本項目!$B$3&\".\"&FI$12&\".1\"),0)<$K21,\"\",DATEDIF($K21-1,EOMONTH(VALUE(\"R\"&基本項目!$B$3&\".\"&FI$12&\".1\")-1,1),\"Y\")),$U21))","v":""},null,null,{"$f":"IF($R21=\"\",\"\",IF($U21=\"\",IF(EOMONTH(VALUE(\"R\"&基本項目!$B$3&\".\"&FL$12&\".1\"),0)<$K21,\"\",DATEDIF($K21-1,EOMONTH(VALUE(\"R\"&基本項目!$B$3&\".\"&FL$12&\".1\")-1,1),\"Y\")),$U21))","v":""},null,null,{"$f":"IF($R21=\"\",\"\",IF($U21=\"\",IF(EOMONTH(VALUE(\"R\"&基本項目!$B$3&\".\"&FO$12&\".1\"),0)<$K21,\"\",DATEDIF($K21-1,EOMONTH(VALUE(\"R\"&基本項目!$B$3&\".\"&FO$12&\".1\")-1,1),\"Y\")),$U21))","v":""},null,null,{"$f":"IF($R21=\"\",\"\",IF($U21=\"\",IF(EOMONTH(VALUE(\"R\"&基本項目!$B$3&\".\"&FR$12&\".1\"),0)<$K21,\"\",DATEDIF($K21-1,EOMONTH(VALUE(\"R\"&基本項目!$B$3&\".\"&FR$12&\".1\")-1,1),\"Y\")),$U21))","v":""},null,null,{"$f":"IF($R21=\"\",\"\",IF($U21=\"\",IF(EOMONTH(VALUE(\"R\"&基本項目!$B$3+1&\".\"&FU$12&\".1\"),0)<$K21,\"\",DATEDIF($K21-1,EOMONTH(VALUE(\"R\"&基本項目!$B$3+1&\".\"&FU$12&\".1\")-1,1),\"Y\")),$U21))","v":""},null,null,{"$f":"IF($R21=\"\",\"\",IF($U21=\"\",IF(EOMONTH(VALUE(\"R\"&基本項目!$B$3+1&\".\"&FX$12&\".1\"),0)<$K21,\"\",DATEDIF($K21-1,EOMONTH(VALUE(\"R\"&基本項目!$B$3+1&\".\"&FX$12&\".1\")-1,1),\"Y\")),$U21))","v":""},null,null,{"$f":"IF($R21=\"\",\"\",IF($U21=\"\",IF(EOMONTH(VALUE(\"R\"&基本項目!$B$3+1&\".\"&GA$12&\".1\"),0)<$K21,\"\",DATEDIF($K21-1,EOMONTH(VALUE(\"R\"&基本項目!$B$3+1&\".\"&GA$12&\".1\")-1,1),\"Y\")),$U21))","v":""},null,null,"",null,null,null,"",null,null,null,null,null,{"$f":"IF($R21=\"\",\"\",IF($U21=\"\",IF(EOMONTH(VALUE(\"R\"&基本項目!$B$3&\".\"&ET$12&\".1\"),0)<$K21,\"\",DATEDIF($K21,EOMONTH(VALUE(\"R\"&基本項目!$B$3&\".\"&ET$12&\".1\")-1,1),\"Y\")),$U21))","v":""},null,null,{"$f":"IF($R21=\"\",\"\",IF($U21=\"\",IF(EOMONTH(VALUE(\"R\"&基本項目!$B$3&\".\"&EW$12&\".1\"),0)<$K21,\"\",DATEDIF($K21,EOMONTH(VALUE(\"R\"&基本項目!$B$3&\".\"&EW$12&\".1\")-1,1),\"Y\")),$U21))","v":""},null,null,{"$f":"IF($R21=\"\",\"\",IF($U21=\"\",IF(EOMONTH(VALUE(\"R\"&基本項目!$B$3&\".\"&EZ$12&\".1\"),0)<$K21,\"\",DATEDIF($K21,EOMONTH(VALUE(\"R\"&基本項目!$B$3&\".\"&EZ$12&\".1\")-1,1),\"Y\")),$U21))","v":""},null,null,{"$f":"IF($R21=\"\",\"\",IF($U21=\"\",IF(EOMONTH(VALUE(\"R\"&基本項目!$B$3&\".\"&FC$12&\".1\"),0)<$K21,\"\",DATEDIF($K21,EOMONTH(VALUE(\"R\"&基本項目!$B$3&\".\"&FC$12&\".1\")-1,1),\"Y\")),$U21))","v":""},null,null,{"$f":"IF($R21=\"\",\"\",IF($U21=\"\",IF(EOMONTH(VALUE(\"R\"&基本項目!$B$3&\".\"&FF$12&\".1\"),0)<$K21,\"\",DATEDIF($K21,EOMONTH(VALUE(\"R\"&基本項目!$B$3&\".\"&FF$12&\".1\")-1,1),\"Y\")),$U21))","v":""},null,null,{"$f":"IF($R21=\"\",\"\",IF($U21=\"\",IF(EOMONTH(VALUE(\"R\"&基本項目!$B$3&\".\"&FI$12&\".1\"),0)<$K21,\"\",DATEDIF($K21,EOMONTH(VALUE(\"R\"&基本項目!$B$3&\".\"&FI$12&\".1\")-1,1),\"Y\")),$U21))","v":""},null,null,{"$f":"IF($R21=\"\",\"\",IF($U21=\"\",IF(EOMONTH(VALUE(\"R\"&基本項目!$B$3&\".\"&FL$12&\".1\"),0)<$K21,\"\",DATEDIF($K21,EOMONTH(VALUE(\"R\"&基本項目!$B$3&\".\"&FL$12&\".1\")-1,1),\"Y\")),$U21))","v":""},null,null,{"$f":"IF($R21=\"\",\"\",IF($U21=\"\",IF(EOMONTH(VALUE(\"R\"&基本項目!$B$3&\".\"&FO$12&\".1\"),0)<$K21,\"\",DATEDIF($K21,EOMONTH(VALUE(\"R\"&基本項目!$B$3&\".\"&FO$12&\".1\")-1,1),\"Y\")),$U21))","v":""},null,null,{"$f":"IF($R21=\"\",\"\",IF($U21=\"\",IF(EOMONTH(VALUE(\"R\"&基本項目!$B$3&\".\"&FR$12&\".1\"),0)<$K21,\"\",DATEDIF($K21,EOMONTH(VALUE(\"R\"&基本項目!$B$3&\".\"&FR$12&\".1\")-1,1),\"Y\")),$U21))","v":""},null,null,{"$f":"IF($R21=\"\",\"\",IF($U21=\"\",IF(EOMONTH(VALUE(\"R\"&基本項目!$B$3+1&\".\"&FU$12&\".1\"),0)<$K21,\"\",DATEDIF($K21,EOMONTH(VALUE(\"R\"&基本項目!$B$3+1&\".\"&FU$12&\".1\")-1,1),\"Y\")),$U21))","v":""},null,null,{"$f":"IF($R21=\"\",\"\",IF($U21=\"\",IF(EOMONTH(VALUE(\"R\"&基本項目!$B$3+1&\".\"&FX$12&\".1\"),0)<$K21,\"\",DATEDIF($K21,EOMONTH(VALUE(\"R\"&基本項目!$B$3+1&\".\"&FX$12&\".1\")-1,1),\"Y\")),$U21))","v":""},null,null,{"$f":"IF($R21=\"\",\"\",IF($U21=\"\",IF(EOMONTH(VALUE(\"R\"&基本項目!$B$3+1&\".\"&GA$12&\".1\"),0)<$K21,\"\",DATEDIF($K21,EOMONTH(VALUE(\"R\"&基本項目!$B$3+1&\".\"&GA$12&\".1\")-1,1),\"Y\")),$U21))","v":""},null,null,"",null,null,null,"",null,null,null,null,null,"",null,null,"",null,null,"",null,null,"",null,null,"",null,null,"",null,null,"",null,null,"",null,null,"",null,null,"",null,null,"",null,null,"",null,null,"",null,null,null,"",null,null,null,"",null,null,null,null,"",null,null,"",null,null,"",null,null,"",null,null,"",null,null,"",null,null,"",null,null,"",null,null,"",null,null,"",null,null,"",null,null,"",null,null,"",null,null,null,"",null,null,null,"",null,null,null,null,"",null,null,"",null,null,"",null,null,"",null,null,"",null,null,"",null,null,"",null,null,"",null,null,"",null,null,"",null,null,"",null,null,""]
[null,10,null,null,null,null,null,null,null,null,null,null,null,null,null,null,null,{"$f":"IF(AND($U22=\"\",$K22=\"\"),\"\",IF($U22=\"\",所得計算!$I15,$U22))","v":""},null,null,null,null,null,null,null,null,null,null,null,null,{"$f":"IF(所得計算!AR$4=\"\",\"\",所得計算!AR$4)","v":""},null,null,null,null,null,null,null,null,null,null,null,null,"",null,null,null,null,null,null,null,null,null,null,null,null,null,{"$f":"IF(所得計算!AR$23=\"\",\"\",所得計算!AR$23)","v":""},null,null,null,null,null,null,null,null,null,null,null,null,null,null,null,null,null,null,null,null,null,null,null,null,null,null,null,null,null,null,null,null,null,null,null,null,null,null,null,null,null,null,null,null,null,null,null,null,"",null,null,null,null,null,null,null,null,null,null,null,null,null,"",null,null,null,null,null,null,null,{"$f":"IF(OR(AND(SUM($AL22)=1,SUM($X22)<=8500000),AND(SUM($AL22)=1,SUM($X22)>8500000,SUM($BF22)>0)),\"所得金額調整控除１？\",IF(OR(AND(SUM($AL22)=2,OR(SUM(所得計算!$BN$5:$BN$15)=0,SUM($BF22)=0)),AND(SUM($AL22)=2,OR(SUM($X22)>8500000,SUM($BF22)=0))),\"所得金額調整控除２？\",IF(AND(SUM($AL22)=3,OR(SUM($X22)<=8500000,SUM($BF22)=0)),\"所得金額調整控除３？\",IF(AND($AL22=\"\",OR(SUM($X22)>8500000,AND(SUM(所得計算!$BN$5:$BN$15)>0,SUM($BF22)>0))),\"所得金額調整控除サイン不要？\",\"\"))))","v":""},null,null,null,null,null,null,null,null,null,null,null,null,{"$f":"SUM(DC22,$AU$2,CH22,CV22)-SUM(所得計算!$BC$4)","v":0},null,null,"",null,null,10,null,null,null,null,null,null,null,null,null,null,null,null,null,null,null,null,null,null,null,null,null,null,null,null,null,null,null,null,null,null,null,null,null,null,null,null,null,"",null,null,null,null,null,null,null,null,null,null,{"$f":"IF($GL22=\"\",\"\",IF(HLOOKUP($GL22,$GT$12:$IC$22,11,FALSE)>=65,\"\",\"65未到達\"))","v":""},null,null,null,null,{"$f":"IF($R22=\"\",\"\",IF($U22=\"\",IF(EOMONTH(VALUE(\"R\"&基本項目!$B$3&\".\"&ET$12&\".1\"),0)<$K22,\"\",DATEDIF($K22-1,EOMONTH(VALUE(\"R\"&基本項目!$B$3&\".\"&ET$12&\".1\")-1,1),\"Y\")),$U22))","v":""},null,null,{"$f":"IF($R22=\"\",\"\",IF($U22=\"\",IF(EOMONTH(VALUE(\"R\"&基本項目!$B$3&\".\"&EW$12&\".1\"),0)<$K22,\"\",DATEDIF($K22-1,EOMONTH(VALUE(\"R\"&基本項目!$B$3&\".\"&EW$12&\".1\")-1,1),\"Y\")),$U22))","v":""},null,null,{"$f":"IF($R22=\"\",\"\",IF($U22=\"\",IF(EOMONTH(VALUE(\"R\"&基本項目!$B$3&\".\"&EZ$12&\".1\"),0)<$K22,\"\",DATEDIF($K22-1,EOMONTH(VALUE(\"R\"&基本項目!$B$3&\".\"&EZ$12&\".1\")-1,1),\"Y\")),$U22))","v":""},null,null,{"$f":"IF($R22=\"\",\"\",IF($U22=\"\",IF(EOMONTH(VALUE(\"R\"&基本項目!$B$3&\".\"&FC$12&\".1\"),0)<$K22,\"\",DATEDIF($K22-1,EOMONTH(VALUE(\"R\"&基本項目!$B$3&\".\"&FC$12&\".1\")-1,1),\"Y\")),$U22))","v":""},null,null,{"$f":"IF($R22=\"\",\"\",IF($U22=\"\",IF(EOMONTH(VALUE(\"R\"&基本項目!$B$3&\".\"&FF$12&\".1\"),0)<$K22,\"\",DATEDIF($K22-1,EOMONTH(VALUE(\"R\"&基本項目!$B$3&\".\"&FF$12&\".1\")-1,1),\"Y\")),$U22))","v":""},null,null,{"$f":"IF($R22=\"\",\"\",IF($U22=\"\",IF(EOMONTH(VALUE(\"R\"&基本項目!$B$3&\".\"&FI$12&\".1\"),0)<$K22,\"\",DATEDIF($K22-1,EOMONTH(VALUE(\"R\"&基本項目!$B$3&\".\"&FI$12&\".1\")-1,1),\"Y\")),$U22))","v":""},null,null,{"$f":"IF($R22=\"\",\"\",IF($U22=\"\",IF(EOMONTH(VALUE(\"R\"&基本項目!$B$3&\".\"&FL$12&\".1\"),0)<$K22,\"\",DATEDIF($K22-1,EOMONTH(VALUE(\"R\"&基本項目!$B$3&\".\"&FL$12&\".1\")-1,1),\"Y\")),$U22))","v":""},null,null,{"$f":"IF($R22=\"\",\"\",IF($U22=\"\",IF(EOMONTH(VALUE(\"R\"&基本項目!$B$3&\".\"&FO$12&\".1\"),0)<$K22,\"\",DATEDIF($K22-1,EOMONTH(VALUE(\"R\"&基本項目!$B$3&\".\"&FO$12&\".1\")-1,1),\"Y\")),$U22))","v":""},null,null,{"$f":"IF($R22=\"\",\"\",IF($U22=\"\",IF(EOMONTH(VALUE(\"R\"&基本項目!$B$3&\".\"&FR$12&\".1\"),0)<$K22,\"\",DATEDIF($K22-1,EOMONTH(VALUE(\"R\"&基本項目!$B$3&\".\"&FR$12&\".1\")-1,1),\"Y\")),$U22))","v":""},null,null,{"$f":"IF($R22=\"\",\"\",IF($U22=\"\",IF(EOMONTH(VALUE(\"R\"&基本項目!$B$3+1&\".\"&FU$12&\".1\"),0)<$K22,\"\",DATEDIF($K22-1,EOMONTH(VALUE(\"R\"&基本項目!$B$3+1&\".\"&FU$12&\".1\")-1,1),\"Y\")),$U22))","v":""},null,null,{"$f":"IF($R22=\"\",\"\",IF($U22=\"\",IF(EOMONTH(VALUE(\"R\"&基本項目!$B$3+1&\".\"&FX$12&\".1\"),0)<$K22,\"\",DATEDIF($K22-1,EOMONTH(VALUE(\"R\"&基本項目!$B$3+1&\".\"&FX$12&\".1\")-1,1),\"Y\")),$U22))","v":""},null,null,{"$f":"IF($R22=\"\",\"\",IF($U22=\"\",IF(EOMONTH(VALUE(\"R\"&基本項目!$B$3+1&\".\"&GA$12&\".1\"),0)<$K22,\"\",DATEDIF($K22-1,EOMONTH(VALUE(\"R\"&基本項目!$B$3+1&\".\"&GA$12&\".1\")-1,1),\"Y\")),$U22))","v":""},null,null,"",null,null,null,"",null,null,null,null,null,{"$f":"IF($R22=\"\",\"\",IF($U22=\"\",IF(EOMONTH(VALUE(\"R\"&基本項目!$B$3&\".\"&ET$12&\".1\"),0)<$K22,\"\",DATEDIF($K22,EOMONTH(VALUE(\"R\"&基本項目!$B$3&\".\"&ET$12&\".1\")-1,1),\"Y\")),$U22))","v":""},null,null,{"$f":"IF($R22=\"\",\"\",IF($U22=\"\",IF(EOMONTH(VALUE(\"R\"&基本項目!$B$3&\".\"&EW$12&\".1\"),0)<$K22,\"\",DATEDIF($K22,EOMONTH(VALUE(\"R\"&基本項目!$B$3&\".\"&EW$12&\".1\")-1,1),\"Y\")),$U22))","v":""},null,null,{"$f":"IF($R22=\"\",\"\",IF($U22=\"\",IF(EOMONTH(VALUE(\"R\"&基本項目!$B$3&\".\"&EZ$12&\".1\"),0)<$K22,\"\",DATEDIF($K22,EOMONTH(VALUE(\"R\"&基本項目!$B$3&\".\"&EZ$12&\".1\")-1,1),\"Y\")),$U22))","v":""},null,null,{"$f":"IF($R22=\"\",\"\",IF($U22=\"\",IF(EOMONTH(VALUE(\"R\"&基本項目!$B$3&\".\"&FC$12&\".1\"),0)<$K22,\"\",DATEDIF($K22,EOMONTH(VALUE(\"R\"&基本項目!$B$3&\".\"&FC$12&\".1\")-1,1),\"Y\")),$U22))","v":""},null,null,{"$f":"IF($R22=\"\",\"\",IF($U22=\"\",IF(EOMONTH(VALUE(\"R\"&基本項目!$B$3&\".\"&FF$12&\".1\"),0)<$K22,\"\",DATEDIF($K22,EOMONTH(VALUE(\"R\"&基本項目!$B$3&\".\"&FF$12&\".1\")-1,1),\"Y\")),$U22))","v":""},null,null,{"$f":"IF($R22=\"\",\"\",IF($U22=\"\",IF(EOMONTH(VALUE(\"R\"&基本項目!$B$3&\".\"&FI$12&\".1\"),0)<$K22,\"\",DATEDIF($K22,EOMONTH(VALUE(\"R\"&基本項目!$B$3&\".\"&FI$12&\".1\")-1,1),\"Y\")),$U22))","v":""},null,null,{"$f":"IF($R22=\"\",\"\",IF($U22=\"\",IF(EOMONTH(VALUE(\"R\"&基本項目!$B$3&\".\"&FL$12&\".1\"),0)<$K22,\"\",DATEDIF($K22,EOMONTH(VALUE(\"R\"&基本項目!$B$3&\".\"&FL$12&\".1\")-1,1),\"Y\")),$U22))","v":""},null,null,{"$f":"IF($R22=\"\",\"\",IF($U22=\"\",IF(EOMONTH(VALUE(\"R\"&基本項目!$B$3&\".\"&FO$12&\".1\"),0)<$K22,\"\",DATEDIF($K22,EOMONTH(VALUE(\"R\"&基本項目!$B$3&\".\"&FO$12&\".1\")-1,1),\"Y\")),$U22))","v":""},null,null,{"$f":"IF($R22=\"\",\"\",IF($U22=\"\",IF(EOMONTH(VALUE(\"R\"&基本項目!$B$3&\".\"&FR$12&\".1\"),0)<$K22,\"\",DATEDIF($K22,EOMONTH(VALUE(\"R\"&基本項目!$B$3&\".\"&FR$12&\".1\")-1,1),\"Y\")),$U22))","v":""},null,null,{"$f":"IF($R22=\"\",\"\",IF($U22=\"\",IF(EOMONTH(VALUE(\"R\"&基本項目!$B$3+1&\".\"&FU$12&\".1\"),0)<$K22,\"\",DATEDIF($K22,EOMONTH(VALUE(\"R\"&基本項目!$B$3+1&\".\"&FU$12&\".1\")-1,1),\"Y\")),$U22))","v":""},null,null,{"$f":"IF($R22=\"\",\"\",IF($U22=\"\",IF(EOMONTH(VALUE(\"R\"&基本項目!$B$3+1&\".\"&FX$12&\".1\"),0)<$K22,\"\",DATEDIF($K22,EOMONTH(VALUE(\"R\"&基本項目!$B$3+1&\".\"&FX$12&\".1\")-1,1),\"Y\")),$U22))","v":""},null,null,{"$f":"IF($R22=\"\",\"\",IF($U22=\"\",IF(EOMONTH(VALUE(\"R\"&基本項目!$B$3+1&\".\"&GA$12&\".1\"),0)<$K22,\"\",DATEDIF($K22,EOMONTH(VALUE(\"R\"&基本項目!$B$3+1&\".\"&GA$12&\".1\")-1,1),\"Y\")),$U22))","v":""},null,null,"",null,null,null,"",null,null,null,null,null,"",null,null,"",null,null,"",null,null,"",null,null,"",null,null,"",null,null,"",null,null,"",null,null,"",null,null,"",null,null,"",null,null,"",null,null,"",null,null,null,"",null,null,null,"",null,null,null,null,"",null,null,"",null,null,"",null,null,"",null,null,"",null,null,"",null,null,"",null,null,"",null,null,"",null,null,"",null,null,"",null,null,"",null,null,"",null,null,null,"",null,null,null,"",null,null,null,null,"",null,null,"",null,null,"",null,null,"",null,null,"",null,null,"",null,null,"",null,null,"",null,null,"",null,null,"",null,null,"",null,null,""]
[null,null,null,null,null,null,null,null,null,null,null,null,null,null,null,null,null,null,null,null,null,null,null,null,null,null,null,null,null,null,null,null,null,null,null,null,null,null,null,null,null,null,null,null,null,null,null,null,null,null,null,null,null,null,null,null,null,null,null,null,null,null,null,null,null,null,null,null,null,null,null,null,null,null,null,null,null,null,null,null,null,null,null,null,null,null,null,null,null,null,null,null,null,null,null,null,null,null,null,null,null,null,null,null,null,null,null,null,null,null,null,null,null,null,null,null,null,null,null,null,null,null,null,null,null,null,null,null,null,null,null,null,null,null,null,null,null,null,null,null,null,null,null,null,null,null,null,null,null,{"$f":"IF(SUM($GD13)=12,1,IF(ET13=\"○\",1,0))+IF(SUM($GD14)=12,1,IF(ET14=\"○\",1,0))+IF(SUM($GD15)=12,1,IF(ET15=\"○\",1,0))+IF(SUM($GD16)=12,1,IF(ET16=\"○\",1,0))+IF(SUM($GD17)=12,1,IF(ET17=\"○\",1,0))+IF(SUM($GD18)=12,1,IF(ET18=\"○\",1,0))+IF(SUM($GD19)=12,1,IF(ET19=\"○\",1,0))+IF(SUM($GD20)=12,1,IF(ET20=\"○\",1,0))+IF(SUM($GD21)=12,1,IF(ET21=\"○\",1,0))+IF(SUM($GD22)=12,1,IF(ET22=\"○\",1,0))","v":0},null,null,{"$f":"IF(SUM($GD13)=12,1,IF(EW13=\"○\",1,0))+IF(SUM($GD14)=12,1,IF(EW14=\"○\",1,0))+IF(SUM($GD15)=12,1,IF(EW15=\"○\",1,0))+IF(SUM($GD16)=12,1,IF(EW16=\"○\",1,0))+IF(SUM($GD17)=12,1,IF(EW17=\"○\",1,0))+IF(SUM($GD18)=12,1,IF(EW18=\"○\",1,0))+IF(SUM($GD19)=12,1,IF(EW19=\"○\",1,0))+IF(SUM($GD20)=12,1,IF(EW20=\"○\",1,0))+IF(SUM($GD21)=12,1,IF(EW21=\"○\",1,0))+IF(SUM($GD22)=12,1,IF(EW22=\"○\",1,0))","v":0},null,null,{"$f":"IF(SUM($GD13)=12,1,IF(EZ13=\"○\",1,0))+IF(SUM($GD14)=12,1,IF(EZ14=\"○\",1,0))+IF(SUM($GD15)=12,1,IF(EZ15=\"○\",1,0))+IF(SUM($GD16)=12,1,IF(EZ16=\"○\",1,0))+IF(SUM($GD17)=12,1,IF(EZ17=\"○\",1,0))+IF(SUM($GD18)=12,1,IF(EZ18=\"○\",1,0))+IF(SUM($GD19)=12,1,IF(EZ19=\"○\",1,0))+IF(SUM($GD20)=12,1,IF(EZ20=\"○\",1,0))+IF(SUM($GD21)=12,1,IF(EZ21=\"○\",1,0))+IF(SUM($GD22)=12,1,IF(EZ22=\"○\",1,0))","v":0},null,null,{"$f":"IF(SUM($GD13)=12,1,IF(FC13=\"○\",1,0))+IF(SUM($GD14)=12,1,IF(FC14=\"○\",1,0))+IF(SUM($GD15)=12,1,IF(FC15=\"○\",1,0))+IF(SUM($GD16)=12,1,IF(FC16=\"○\",1,0))+IF(SUM($GD17)=12,1,IF(FC17=\"○\",1,0))+IF(SUM($GD18)=12,1,IF(FC18=\"○\",1,0))+IF(SUM($GD19)=12,1,IF(FC19=\"○\",1,0))+IF(SUM($GD20)=12,1,IF(FC20=\"○\",1,0))+IF(SUM($GD21)=12,1,IF(FC21=\"○\",1,0))+IF(SUM($GD22)=12,1,IF(FC22=\"○\",1,0))","v":0},null,null,{"$f":"IF(SUM($GD13)=12,1,IF(FF13=\"○\",1,0))+IF(SUM($GD14)=12,1,IF(FF14=\"○\",1,0))+IF(SUM($GD15)=12,1,IF(FF15=\"○\",1,0))+IF(SUM($GD16)=12,1,IF(FF16=\"○\",1,0))+IF(SUM($GD17)=12,1,IF(FF17=\"○\",1,0))+IF(SUM($GD18)=12,1,IF(FF18=\"○\",1,0))+IF(SUM($GD19)=12,1,IF(FF19=\"○\",1,0))+IF(SUM($GD20)=12,1,IF(FF20=\"○\",1,0))+IF(SUM($GD21)=12,1,IF(FF21=\"○\",1,0))+IF(SUM($GD22)=12,1,IF(FF22=\"○\",1,0))","v":0},null,null,{"$f":"IF(SUM($GD13)=12,1,IF(FI13=\"○\",1,0))+IF(SUM($GD14)=12,1,IF(FI14=\"○\",1,0))+IF(SUM($GD15)=12,1,IF(FI15=\"○\",1,0))+IF(SUM($GD16)=12,1,IF(FI16=\"○\",1,0))+IF(SUM($GD17)=12,1,IF(FI17=\"○\",1,0))+IF(SUM($GD18)=12,1,IF(FI18=\"○\",1,0))+IF(SUM($GD19)=12,1,IF(FI19=\"○\",1,0))+IF(SUM($GD20)=12,1,IF(FI20=\"○\",1,0))+IF(SUM($GD21)=12,1,IF(FI21=\"○\",1,0))+IF(SUM($GD22)=12,1,IF(FI22=\"○\",1,0))","v":0},null,null,{"$f":"IF(SUM($GD13)=12,1,IF(FL13=\"○\",1,0))+IF(SUM($GD14)=12,1,IF(FL14=\"○\",1,0))+IF(SUM($GD15)=12,1,IF(FL15=\"○\",1,0))+IF(SUM($GD16)=12,1,IF(FL16=\"○\",1,0))+IF(SUM($GD17)=12,1,IF(FL17=\"○\",1,0))+IF(SUM($GD18)=12,1,IF(FL18=\"○\",1,0))+IF(SUM($GD19)=12,1,IF(FL19=\"○\",1,0))+IF(SUM($GD20)=12,1,IF(FL20=\"○\",1,0))+IF(SUM($GD21)=12,1,IF(FL21=\"○\",1,0))+IF(SUM($GD22)=12,1,IF(FL22=\"○\",1,0))","v":0},null,null,{"$f":"IF(SUM($GD13)=12,1,IF(FO13=\"○\",1,0))+IF(SUM($GD14)=12,1,IF(FO14=\"○\",1,0))+IF(SUM($GD15)=12,1,IF(FO15=\"○\",1,0))+IF(SUM($GD16)=12,1,IF(FO16=\"○\",1,0))+IF(SUM($GD17)=12,1,IF(FO17=\"○\",1,0))+IF(SUM($GD18)=12,1,IF(FO18=\"○\",1,0))+IF(SUM($GD19)=12,1,IF(FO19=\"○\",1,0))+IF(SUM($GD20)=12,1,IF(FO20=\"○\",1,0))+IF(SUM($GD21)=12,1,IF(FO21=\"○\",1,0))+IF(SUM($GD22)=12,1,IF(FO22=\"○\",1,0))","v":0},null,null,{"$f":"IF(SUM($GD13)=12,1,IF(FR13=\"○\",1,0))+IF(SUM($GD14)=12,1,IF(FR14=\"○\",1,0))+IF(SUM($GD15)=12,1,IF(FR15=\"○\",1,0))+IF(SUM($GD16)=12,1,IF(FR16=\"○\",1,0))+IF(SUM($GD17)=12,1,IF(FR17=\"○\",1,0))+IF(SUM($GD18)=12,1,IF(FR18=\"○\",1,0))+IF(SUM($GD19)=12,1,IF(FR19=\"○\",1,0))+IF(SUM($GD20)=12,1,IF(FR20=\"○\",1,0))+IF(SUM($GD21)=12,1,IF(FR21=\"○\",1,0))+IF(SUM($GD22)=12,1,IF(FR22=\"○\",1,0))","v":0},null,null,{"$f":"IF(SUM($GD13)=12,1,IF(FU13=\"○\",1,0))+IF(SUM($GD14)=12,1,IF(FU14=\"○\",1,0))+IF(SUM($GD15)=12,1,IF(FU15=\"○\",1,0))+IF(SUM($GD16)=12,1,IF(FU16=\"○\",1,0))+IF(SUM($GD17)=12,1,IF(FU17=\"○\",1,0))+IF(SUM($GD18)=12,1,IF(FU18=\"○\",1,0))+IF(SUM($GD19)=12,1,IF(FU19=\"○\",1,0))+IF(SUM($GD20)=12,1,IF(FU20=\"○\",1,0))+IF(SUM($GD21)=12,1,IF(FU21=\"○\",1,0))+IF(SUM($GD22)=12,1,IF(FU22=\"○\",1,0))","v":0},null,null,{"$f":"IF(SUM($GD13)=12,1,IF(FX13=\"○\",1,0))+IF(SUM($GD14)=12,1,IF(FX14=\"○\",1,0))+IF(SUM($GD15)=12,1,IF(FX15=\"○\",1,0))+IF(SUM($GD16)=12,1,IF(FX16=\"○\",1,0))+IF(SUM($GD17)=12,1,IF(FX17=\"○\",1,0))+IF(SUM($GD18)=12,1,IF(FX18=\"○\",1,0))+IF(SUM($GD19)=12,1,IF(FX19=\"○\",1,0))+IF(SUM($GD20)=12,1,IF(FX20=\"○\",1,0))+IF(SUM($GD21)=12,1,IF(FX21=\"○\",1,0))+IF(SUM($GD22)=12,1,IF(FX22=\"○\",1,0))","v":0},null,null,{"$f":"IF(SUM($GD13)=12,1,IF(GA13=\"○\",1,0))+IF(SUM($GD14)=12,1,IF(GA14=\"○\",1,0))+IF(SUM($GD15)=12,1,IF(GA15=\"○\",1,0))+IF(SUM($GD16)=12,1,IF(GA16=\"○\",1,0))+IF(SUM($GD17)=12,1,IF(GA17=\"○\",1,0))+IF(SUM($GD18)=12,1,IF(GA18=\"○\",1,0))+IF(SUM($GD19)=12,1,IF(GA19=\"○\",1,0))+IF(SUM($GD20)=12,1,IF(GA20=\"○\",1,0))+IF(SUM($GD21)=12,1,IF(GA21=\"○\",1,0))+IF(SUM($GD22)=12,1,IF(GA22=\"○\",1,0))","v":0},null,null,{"$f":"COUNT(GD13:GG22)","v":0},null,null,null,null,null,null,null,null,null,null,null,null,null,null,null,null,null,null,null,null,null,null,null,null,null,null,null,null,null,null,null,null,null,null,null,null,null,null,null,null,null,null,null,null,null,null,null,null,null,null,null,null,null,null,null,null,null,null,null,null,null,null,null,null,null,null,null,null,null,null,null,null,null,null,null,null,null,null,null,null,null,null,null,null,null,null,null,null,null,null,null,null,null,null,null,null,null,null,null,null,null,null,null,null,null,null,null,null,null,null,null,null,null,null,null,null,null,null,null,null,null,null,null,null,null,null,null,null,null,null,null,null,null,null,null,null,null,null,null,null,null,null,null,null,null,null,null,null,null,null,null,null,null,null,null,null,{"$f":"IF(AND(COUNT(ME13:MG22)>1,COUNTIF(ME13:MG22,\"<75\")=1),1,\"\")","v":""},null,null,{"$f":"IF(SUM($ME23)>=1,1,IF(AND(COUNT(MH13:MJ22)>1,COUNTIF(MH13:MJ22,\"<75\")=1),1,\"\"))","v":""},null,null,{"$f":"IF(SUM($ME23:MJ23)>=1,1,IF(AND(COUNT(MK13:MM22)>1,COUNTIF(MK13:MM22,\"<75\")=1),1,\"\"))","v":""},null,null,{"$f":"IF(SUM($ME23:MM23)>=1,1,IF(AND(COUNT(MN13:MP22)>1,COUNTIF(MN13:MP22,\"<75\")=1),1,\"\"))","v":""},null,null,{"$f":"IF(SUM($ME23:MP23)>=1,1,IF(AND(COUNT(MQ13:MS22)>1,COUNTIF(MQ13:MS22,\"<75\")=1),1,\"\"))","v":""},null,null,{"$f":"IF(SUM($ME23:MS23)>=1,1,IF(AND(COUNT(MT13:MV22)>1,COUNTIF(MT13:MV22,\"<75\")=1),1,\"\"))","v":""},null,null,{"$f":"IF(SUM($ME23:MV23)>=1,1,IF(AND(COUNT(MW13:MY22)>1,COUNTIF(MW13:MY22,\"<75\")=1),1,\"\"))","v":""},null,null,{"$f":"IF(SUM($ME23:MY23)>=1,1,IF(AND(COUNT(MZ13:NB22)>1,COUNTIF(MZ13:NB22,\"<75\")=1),1,\"\"))","v":""},null,null,{"$f":"IF(SUM($ME23:NB23)>=1,1,IF(AND(COUNT(NC13:NE22)>1,COUNTIF(NC13:NE22,\"<75\")=1),1,\"\"))","v":""},null,null,{"$f":"IF(SUM($ME23:NE23)>=1,1,IF(AND(COUNT(NF13:NH22)>1,COUNTIF(NF13:NH22,\"<75\")=1),1,\"\"))","v":""},null,null,{"$f":"IF(SUM($ME23:NH23)>=1,1,IF(AND(COUNT(NI13:NK22)>1,COUNTIF(NI13:NK22,\"<75\")=1),1,\"\"))","v":""},null,null,{"$f":"IF(SUM($ME23:NK23)>=1,1,IF(AND(COUNT(NL13:NN22)>1,COUNTIF(NL13:NN22,\"<75\")=1),1,\"\"))","v":""},null,null,{"$f":"SUM(ME23:NN23)","v":0},null,null,null,"←平等割額の軽減特例措置判定用"]
[null,null,null,null,null,null,null,null,null,null,null,null,null,null,null,null,null,null,null,null,null,null,null,null,null,null,null,null,null,null,null,null,null,null,null,null,null,null,null,null,null,null,null,null,null,null,null,null,null,null,null,null,null,null,null,null,null,null,null,null,null,null,null,null,null,null,null,null,null,null,null,null,null,null,null,null,null,null,null,null,null,null,null,null,null,null,null,null,null,null,null,null,null,null,null,null,null,null,null,null,null,null,null,null,null,null,null,null,null,null,null,null,null,null,null,null,null,null,null,null,null,null,null,null,null,null,null,null,null,null,null,null,null,null,null,null,null,null,null,null,null,null,null,null,null,null,null,null,null,{"$f":"IF(COUNTIF(GD13:GG22,12)>0,ET12,IF(ET23>0,ET12,\"\"))","v":""},null,null,{"$f":"IF(SUM($ET24:ET24)=0,IF(EW23>0,EW12,\"\"),\"\")","v":""},null,null,{"$f":"IF(SUM($ET24:EW24)=0,IF(EZ23>0,EZ12,\"\"),\"\")","v":""},null,null,{"$f":"IF(SUM($ET24:EZ24)=0,IF(FC23>0,FC12,\"\"),\"\")","v":""},null,null,{"$f":"IF(SUM($ET24:FC24)=0,IF(FF23>0,FF12,\"\"),\"\")","v":""},null,null,{"$f":"IF(SUM($ET24:FF24)=0,IF(FI23>0,FI12,\"\"),\"\")","v":""},null,null,{"$f":"IF(SUM($ET24:FI24)=0,IF(FL23>0,FL12,\"\"),\"\")","v":""},null,null,{"$f":"IF(SUM($ET24:FL24)=0,IF(FO23>0,FO12,\"\"),\"\")","v":""},null,null,{"$f":"IF(SUM($ET24:FO24)=0,IF(FR23>0,FR12,\"\"),\"\")","v":""},null,null,{"$f":"IF(SUM($ET24:FR24)=0,IF(FU23>0,FU12,\"\"),\"\")","v":""},null,null,{"$f":"IF(SUM($ET24:FU24)=0,IF(FX23>0,FX12,\"\"),\"\")","v":""},null,null,{"$f":"IF(SUM($ET24:FX24)=0,IF(GA23>0,GA12,\"\"),\"\")","v":""},null,null,{"$f":"SUM(ET24:GC24)","v":0},null,null,"←世帯ができた月"]
[null,"医療\n保険分",null,null,null,null,null,null,null,null,"所得割",null,null,null,null,"率",null,null,null,null,6.4,null,null,null,null,null,{"$f":"\"（前年の総所得金額－基礎控除額）×\"&IF(U25=\"\",\"\",U25)&\"％\"","v":"（前年の総所得金額－基礎控除額）×6.4％"},null,null,null,null,null,null,null,null,null,null,null,null,null,null,null,null,null,null,null,null,null,null,null,null,null,null,null,null,null,null,null,null,null,null,null,null,null,null,null,null,null,null,null,null,null,null,null,null,null,null,null,null,null,null,null,null,null,null,null,null,null,null,null,null,null,null,null,null,null,null,null,null,null,null,null,null,null,null,null,null,null,null,null,null,null,null,null,null,null,null,null,null,null,null,null,null,null,null,null,null,null,null,null,null,null,null,null,null,null,null,null,null,null,null,null,null,null,null,null,null,null,null,{"$f":"IF(AND(SUM(ET24)=4,COUNTIF(ET13:EV22,\"○\")=0),SUMPRODUCT((GD13:GD22=12)*1,$EO$13:$EO$22),IF(SUM(ET24)=0,\"\",IF(SUM(ET23)=0,\"\",SUMPRODUCT((ET13:EV22=\"○\")*1,$EO$13:$EQ$22))))","v":""},null,null,{"$f":"IF(SUM(EW24)=0,\"\",IF(SUM(EW23)=0,\"\",SUMPRODUCT((EW13:EY22=\"○\")*1,$EO$13:$EQ$22)))","v":""},null,null,{"$f":"IF(SUM(EZ24)=0,\"\",IF(SUM(EZ23)=0,\"\",SUMPRODUCT((EZ13:FB22=\"○\")*1,$EO$13:$EQ$22)))","v":""},null,null,{"$f":"IF(SUM(FC24)=0,\"\",IF(SUM(FC23)=0,\"\",SUMPRODUCT((FC13:FE22=\"○\")*1,$EO$13:$EQ$22)))","v":""},null,null,{"$f":"IF(SUM(FF24)=0,\"\",IF(SUM(FF23)=0,\"\",SUMPRODUCT((FF13:FH22=\"○\")*1,$EO$13:$EQ$22)))","v":""},null,null,{"$f":"IF(SUM(FI24)=0,\"\",IF(SUM(FI23)=0,\"\",SUMPRODUCT((FI13:FK22=\"○\")*1,$EO$13:$EQ$22)))","v":""},null,null,{"$f":"IF(SUM(FL24)=0,\"\",IF(SUM(FL23)=0,\"\",SUMPRODUCT((FL13:FN22=\"○\")*1,$EO$13:$EQ$22)))","v":""},null,null,{"$f":"IF(SUM(FO24)=0,\"\",IF(SUM(FO23)=0,\"\",SUMPRODUCT((FO13:FQ22=\"○\")*1,$EO$13:$EQ$22)))","v":""},null,null,{"$f":"IF(SUM(FR24)=0,\"\",IF(SUM(FR23)=0,\"\",SUMPRODUCT((FR13:FT22=\"○\")*1,$EO$13:$EQ$22)))","v":""},null,null,{"$f":"IF(SUM(FU24)=0,\"\",IF(SUM(FU23)=0,\"\",SUMPRODUCT((FU13:FW22=\"○\")*1,$EO$13:$EQ$22)))","v":""},null,null,{"$f":"IF(SUM(FX24)=0,\"\",IF(SUM(FX23)=0,\"\",SUMPRODUCT((FX13:FZ22=\"○\")*1,$EO$13:$EQ$22)))","v":""},null,null,{"$f":"IF(SUM(GA24)=0,\"\",IF(SUM(GA23)=0,\"\",SUMPRODUCT((GA13:GC22=\"○\")*1,$EO$13:$EQ$22)))","v":""},null,null,{"$f":"SUM(ET25:GC25)","v":0},null,null,"←給与・年金所得あり人数（＋10万円×（給与所得者※-1）の判定用）"]
[null,null,null,null,null,null,null,null,null,null,null,null,null,null,null,"控除額",null,null,null,null,"基礎控除",null,null,null,null,null,null,null,null,null,null,null,null,null,null,null,null,null,null,null,null,null,null,null,null,null,null,null,null,null,null,null,null,null,null,null,null,null,null,null,null,null,null,null,null,null,null,null,null,null,null,null,null,null,null,null,null,null,null,null,null,null,null,null,null,null,null,null,null,null,null,null,null,null,null,null,null,null,null,null,null,null,null,null,null,null,null,null,null,null,null,null,null,null,null,null,null,null,null,null,null,null,null,null,null,null,null,null,null,null,null,null,null,null,null,null,null,null,null,null,null,null,null,null,null,null,null,null,null,{"$f":"IF(ET$24=\"\",\"\",SUM(OB13:OD22))","v":""},null,null,{"$f":"IF(EW$24=\"\",\"\",SUM(OE13:OG22))","v":""},null,null,{"$f":"IF(EZ$24=\"\",\"\",SUM(OH13:OJ22))","v":""},null,null,{"$f":"IF(FC$24=\"\",\"\",SUM(OK13:OM22))","v":""},null,null,{"$f":"IF(FF$24=\"\",\"\",SUM(ON13:OP22))","v":""},null,null,{"$f":"IF(FI$24=\"\",\"\",SUM(OQ13:OS22))","v":""},null,null,{"$f":"IF(FL$24=\"\",\"\",SUM(OT13:OV22))","v":""},null,null,{"$f":"IF(FO$24=\"\",\"\",SUM(OW13:OY22))","v":""},null,null,{"$f":"IF(FR$24=\"\",\"\",SUM(OZ13:PB22))","v":""},null,null,{"$f":"IF(FU$24=\"\",\"\",SUM(PC13:PE22))","v":""},null,null,{"$f":"IF(FX$24=\"\",\"\",SUM(PF13:PH22))","v":""},null,null,{"$f":"IF(GA$24=\"\",\"\",SUM(PI13:PK22))","v":""},null,null,{"$f":"SUM(ET26:GC26)","v":0},null,null,"←軽減判定用所得（特定同一世帯所属者を除く）"]
[null,null,null,null,null,null,null,null,null,null,"均等割",null,null,null,null,null,null,null,null,null,20400,null,null,null,null,null,"←１人当たり",null,null,null,null,null,null,null,null,null,null,null,null,null,null,null,null,null,null,null,null,null,null,null,null,null,null,null,null,null,null,null,null,null,null,null,null,null,null,null,null,null,null,null,null,null,null,null,null,null,null,null,null,null,null,null,null,null,null,null,null,null,null,null,null,null,null,null,null,null,null,null,null,null,null,null,null,null,null,null,null,null,null,null,null,null,null,null,null,null,null,null,null,null,null,null,null,null,null,null,null,null,null,null,null,null,null,null,null,null,null,null,null,null,null,null,null,null,null,null,null,null,null,{"$f":"IF(SUM(ET24)=0,\"\",SUM(ET23))","v":""},null,null,{"$f":"IF(SUM(EW24)=0,\"\",SUM(EW23))","v":""},null,null,{"$f":"IF(SUM(EZ24)=0,\"\",SUM(EZ23))","v":""},null,null,{"$f":"IF(SUM(FC24)=0,\"\",SUM(FC23))","v":""},null,null,{"$f":"IF(SUM(FF24)=0,\"\",SUM(FF23))","v":""},null,null,{"$f":"IF(SUM(FI24)=0,\"\",SUM(FI23))","v":""},null,null,{"$f":"IF(SUM(FL24)=0,\"\",SUM(FL23))","v":""},null,null,{"$f":"IF(SUM(FO24)=0,\"\",SUM(FO23))","v":""},null,null,{"$f":"IF(SUM(FR24)=0,\"\",SUM(FR23))","v":""},null,null,{"$f":"IF(SUM(FU24)=0,\"\",SUM(FU23))","v":""},null,null,{"$f":"IF(SUM(FX24)=0,\"\",SUM(FX23))","v":""},null,null,{"$f":"IF(SUM(GA24)=0,\"\",SUM(GA23))","v":""},null,null,{"$f":"SUM(ET27:GC27)","v":0},null,null,"←軽減判定用人数"]
[null,null,null,null,null,null,null,null,null,null,"平等割",null,null,null,null,null,null,null,null,null,21000,null,null,null,null,null,"←１世帯当たり"]
[null,null,null,null,null,null,null,null,null,null,"限度額",null,null,null,null,null,null,null,null,null,650000,null,null,null,null,null,null,null,null,null,null,null,null,null,null,null,null,null,null,null,null,null,null,null,null,null,null,null,null,null,null,null,null,null,null,null,null,null,null,null,null,null,null,null,null,null,null,null,null,null,null,null,null,null,null,null,null,null,null,null,null,null,null,null,null,null,null,null,null,null,{"$f":"IF(SUM(GD45)<>0,\"平等割額の軽減特例措置該当↓\",\"\")","v":""},null,null,null,null,null,null,null,null,null,null,null,null,null,null,null,null,null,null,null,null,{"$f":"IF(SUM($GD45)=0,\"\",\"　 (\"&TEXT(BK34,\"#,##0\")&\"－\"&IF(SUM(BY34)=0,0,TEXT(BY34,\"#,##0\"))&\")×1/2×\"&TEXT(GD45,\"#,##0\")&\"/12＝\"&TEXT(DA30,\"#,##0\")&\"\n←　\"&TEXT(BK34,\"#,##0\")&\"－\"&IF(SUM(BY34)=0,0,TEXT(BY34,\"#,##0\"))&\"－\"&TEXT(DA30,\"#,##0\")&\"＝\"&TEXT(DA34,\"#,##0\"))","v":""}]
[null,null,null,null,null,null,null,null,null,null,null,null,null,null,null,null,null,null,null,null,null,null,null,null,null,null,null,null,null,null,null,null,null,null,null,null,null,null,null,null,null,null,null,null,null,null,null,null,null,null,null,null,null,null,null,null,null,null,null,null,null,null,null,null,null,null,null,null,null,{"$f":"IF($AU$5=\"\",\"\",$AU$5)","v":""},null,null,null,null,null,null,null,null,null,null,null,null,null,null,null,null,null,null,null,null,{"$f":"IF(CM29=\"\",\"\",\"Ｃからこの金額を引く→\")","v":""},null,null,null,null,null,null,null,null,null,null,null,null,null,{"$f":"IF(SUM($GD45)=0,\"\",IF(SUM(GD13:GG22)=SUM(GD34:GG43),\"\",ROUNDDOWN(((SUM($BK34)-SUM($BY34)))/2*SUM($GD45)/12,0)))","v":""}]
[null,null,null,"該当者",null,null,null,null,null,null,null,null,null,null,null,null,null,null,null,null,"課税総所得金額",null,null,null,null,null,null,null,null,null,null,null,null,null,null,null,null,null,null,null,null,"算出額（全体）",null,null,null,null,null,null,null,null,null,null,null,null,null,null,null,null,null,null,null,null,null,null,null,null,null,null,null,"軽減額(2･5･7割額)",null,null,null,null,null,null,null,null,null,null,null,null,null,"軽減後(2･5･7割後)",null,null,null,null,null,null,null,null,null,null,null,null,null,null,null,null,null,null,null,null,null,null,null,null,null,null,null,"月数",null,null,null,null,null,null,null,"月割後"]
[null,null,null,"氏　名",null,null,null,null,null,null,"生年月日",null,null,null,null,null,null,"年齢",null,null,"①",null,null,null,null,null,null,"②",null,null,null,null,null,null,"③（①－②）",null,null,null,null,null,null,{"$f":"\"④(③×\"&DBCS(U25)&\"%)\"","v":"④(③×６．４%)"},null,null,null,null,null,null,"⑤",null,null,null,null,null,null,"④＋⑤",null,null,null,null,null,null,"⑥",null,null,null,null,null,null,"⑦",null,null,null,null,null,null,"⑧",null,null,null,null,null,null,"Ａ＝④",null,null,null,null,null,null,"Ｂ＝⑤－⑦",null,null,null,null,null,null,"Ａ＋Ｂ",null,null,null,null,null,null,"Ｃ＝⑥－⑧",null,null,null,null,null,null,"該当\n月数",null,null,null,"世帯\n月数",null,null,null,"所得割",null,null,null,null,null,null,"均等割",null,null,null,null,null,null,"平等割"]
[null,null,null,null,null,null,null,null,null,null,null,null,null,null,null,null,null,null,null,null,"総所得金額",null,null,null,null,null,null,"控除額",null,null,null,null,null,null,"課税所得",null,null,null,null,null,null,"所得割",null,null,null,null,null,null,"均等割",null,null,null,null,null,null,"合　計",null,null,null,null,null,null,"平等割",null,null,null,null,null,null,"均等割",null,null,null,null,null,null,"平等割",null,null,null,null,null,null,"所得割",null,null,null,null,null,null,"均等割",null,null,null,null,null,null,"合　計",null,null,null,null,null,null,"平等割",null,null,null,null,null,null,null,null,null,null,null,null,null,null,null,null,null,null,null,null,null,null,null,null,null,null,null,null,null,null,null,null,null,null,null,null,null,null,null,null,null,null,null,null,4,null,null,5,null,null,6,null,null,7,null,null,8,null,null,9,null,null,10,null,null,11,null,null,12,null,null,1,null,null,2,null,null,3,null,null,"月数計",null,null,null,"備考",null,null,null,null,null,null,null,null,null,null,null,null,null,null,null,null,null,null,null,null,null,null,null,null,null,null,4,null,null,5,null,null,6,null,null,7,null,null,8,null,null,9,null,null,10,null,null,11,null,null,12,null,null,13,null,null,14,null,null,15]
[null,1,null,{"$f":"IF($DH34=\"\",\"\",$D13)","v":""},null,null,null,null,null,null,{"$f":"IF($DH34=\"\",\"\",IF($K13=\"\",\"\",SUM($K13)))","v":""},null,null,null,null,null,null,{"$f":"IF($DH34=\"\",\"\",IF($R13=\"\",\"\",SUM($R13)))","v":""},null,null,{"$f":"IF($DH34=\"\",\"\",IF($DC13=\"\",\"\",SUM($DC13)))","v":""},null,null,null,null,null,null,{"$f":"IF($DH34=\"\",\"\",IF($U34=\"\",\"\",基礎控除!H3))","v":""},null,null,null,null,null,null,{"$f":"IF($DH34=\"\",\"\",IF($U34=\"\",\"\",IF(SUM($U34)>SUM($AB34),SUM($U34)-SUM($AB34),0)))","v":""},null,null,null,null,null,null,{"$f":"IF($DH34=\"\",\"\",ROUNDDOWN(SUM(AI34)*SUM($U$25)/100,0))","v":""},null,null,null,null,null,null,{"$f":"IF($DH34=\"\",\"\",SUM($U$27))","v":""},null,null,null,null,null,null,{"$f":"IF(SUM(AP34:BC34)=0,\"\",SUM(AP34:BC34))","v":""},null,null,null,null,null,null,{"$f":"IF($DL34=\"\",\"\",SUM($U$28))","v":""},null,null,null,null,null,null,{"$f":"IF($AU$5=\"\",\"\",IF($DH34=\"\",\"\",ROUNDDOWN(SUM($U$27)*SUM(IF($AU$5=\"２割軽減世帯\",2,IF($AU$5=\"５割軽減世帯\",5,IF($AU$5=\"７割軽減世帯\",7,\"\"))))/10,0)))","v":""},null,null,null,null,null,null,{"$f":"IF($AU$5=\"\",\"\",IF($DL34=\"\",\"\",ROUNDDOWN(SUM($U$28)*SUM(IF($AU$5=\"２割軽減世帯\",2,IF($AU$5=\"５割軽減世帯\",5,IF($AU$5=\"７割軽減世帯\",7,\"\"))))/10,0)))","v":""},null,null,null,null,null,null,{"$f":"IF($DH34=\"\",\"\",SUM($AP34))","v":""},null,null,null,null,null,null,{"$f":"IF($DH34=\"\",\"\",SUM($AW34)-SUM($BR34))","v":""},null,null,null,null,null,null,{"$f":"IF(SUM(CF34:CS34)=0,\"\",SUM(CF34:CS34))","v":""},null,null,null,null,null,null,{"$f":"IF($DL34=\"\",\"\",SUM($BK34)-SUM($BY34)-SUM(DA30))","v":""},null,null,null,null,null,null,{"$f":"IF(GD34=\"\",\"\",SUM(GD34))","v":""},null,null,null,{"$f":"IF($GH$13=\"\",\"\",SUM(GD46))","v":""},null,null,null,{"$f":"IF($DH34=\"\",\"\",ROUNDDOWN(SUM($CF34)*SUM($DH34)/12,0))","v":""},null,null,null,null,null,null,{"$f":"IF($DH34=\"\",\"\",IF(未就学児!F6=\"\",ROUNDDOWN(SUM($CM34)*SUM($DH34)/12,0),(ROUNDDOWN(SUM($CM34)*SUM($DH34)/12,0))*0.5))","v":""},null,null,null,null,null,null,{"$f":"IF($DL34=\"\",\"\",ROUNDDOWN(SUM($DA34)*SUM($DL34)/12,0))","v":""},null,null,null,null,null,null,{"$f":"IF(未就学児!$F6=1,\"←未就学児\",\"\")","v":""},null,null,null,null,null,null,null,null,{"$f":"IF(ME13=\"\",\"\",IF(ME13<75,IF(HI34=\"○\",\"○\",\"\"),\"\"))","v":""},null,null,{"$f":"IF(MH13=\"\",\"\",IF(MH13<75,IF(HL34=\"○\",\"○\",\"\"),\"\"))","v":""},null,null,{"$f":"IF(MK13=\"\",\"\",IF(MK13<75,IF(HO34=\"○\",\"○\",\"\"),\"\"))","v":""},null,null,{"$f":"IF(MN13=\"\",\"\",IF(MN13<75,IF(HR34=\"○\",\"○\",\"\"),\"\"))","v":""},null,null,{"$f":"IF(MQ13=\"\",\"\",IF(MQ13<75,IF(HU34=\"○\",\"○\",\"\"),\"\"))","v":""},null,null,{"$f":"IF(MT13=\"\",\"\",IF(MT13<75,IF(HX34=\"○\",\"○\",\"\"),\"\"))","v":""},null,null,{"$f":"IF(MW13=\"\",\"\",IF(MW13<75,IF(IA34=\"○\",\"○\",\"\"),\"\"))","v":""},null,null,{"$f":"IF(MZ13=\"\",\"\",IF(MZ13<75,IF(ID34=\"○\",\"○\",\"\"),\"\"))","v":""},null,null,{"$f":"IF(NC13=\"\",\"\",IF(NC13<75,IF(IG34=\"○\",\"○\",\"\"),\"\"))","v":""},null,null,{"$f":"IF(NF13=\"\",\"\",IF(NF13<75,IF(IJ34=\"○\",\"○\",\"\"),\"\"))","v":""},null,null,{"$f":"IF(NI13=\"\",\"\",IF(NI13<75,IF(IM34=\"○\",\"○\",\"\"),\"\"))","v":""},null,null,{"$f":"IF(NL13=\"\",\"\",IF(NL13<75,IF(IP34=\"○\",\"○\",\"\"),\"\"))","v":""},null,null,{"$f":"IF(COUNTIF(ET34:GC34,\"○\")=0,\"\",COUNTIF(ET34:GC34,\"○\"))","v":""},null,null,null,{"$f":"IF(SUM(NO13)=12,\"国保に該当しない。\",IF(OR(SUM(GD13)=SUM(NS13),SUM(NO13)=0),\"\",\"年度途中から後期高齢者医療制度移行あり。\"))","v":""},null,null,null,null,null,null,null,null,null,null,null,null,null,null,null,null,null,null,null,null,null,null,null,null,null,null,{"$f":"IF(ME13=\"\",\"\",IF($NW13>HI$33,\"○\",\"\"))","v":""},null,null,{"$f":"IF(MH13=\"\",\"\",IF($NW13>HL$33,\"○\",\"\"))","v":""},null,null,{"$f":"IF(MK13=\"\",\"\",IF($NW13>HO$33,\"○\",\"\"))","v":""},null,null,{"$f":"IF(MN13=\"\",\"\",IF($NW13>HR$33,\"○\",\"\"))","v":""},null,null,{"$f":"IF(MQ13=\"\",\"\",IF($NW13>HU$33,\"○\",\"\"))","v":""},null,null,{"$f":"IF(MT13=\"\",\"\",IF($NW13>HX$33,\"○\",\"\"))","v":""},null,null,{"$f":"IF(MW13=\"\",\"\",IF($NW13>IA$33,\"○\",\"\"))","v":""},null,null,{"$f":"IF(MZ13=\"\",\"\",IF($NW13>ID$33,\"○\",\"\"))","v":""},null,null,{"$f":"IF(NC13=\"\",\"\",IF($NW13>IG$33,\"○\",\"\"))","v":""},null,null,{"$f":"IF(NF13=\"\",\"\",IF($NW13>IJ$33,\"○\",\"\"))","v":""},null,null,{"$f":"IF(NI13=\"\",\"\",IF($NW13>IM$33,\"○\",\"\"))","v":""},null,null,{"$f":"IF(NL13=\"\",\"\",IF($NW13>IP$33,\"○\",\"\"))","v":""}]
[null,2,null,"",null,null,null,null,null,null,"",null,null,null,null,null,null,"",null,null,"",null,null,null,null,null,null,{"$f":"IF($DH35=\"\",\"\",IF($U35=\"\",\"\",基礎控除!H4))","v":""},null,null,null,null,null,null,"",null,null,null,null,null,null,"",null,null,null,null,null,null,"",null,null,null,null,null,null,"",null,null,null,null,null,null,null,null,null,null,null,null,null,"",null,null,null,null,null,null,null,null,null,null,null,null,null,"",null,null,null,null,null,null,"",null,null,null,null,null,null,"",null,null,null,null,null,null,null,null,null,null,null,null,null,{"$f":"IF(GD35=\"\",\"\",SUM(GD35))","v":""},null,null,null,null,null,null,null,"",null,null,null,null,null,null,{"$f":"IF($DH35=\"\",\"\",IF(未就学児!F7=\"\",ROUNDDOWN(SUM($CM35)*SUM($DH35)/12,0),(ROUNDDOWN(SUM($CM35)*SUM($DH35)/12,0))*0.5))","v":""},null,null,null,null,null,null,null,null,null,null,null,null,null,{"$f":"IF(未就学児!$F7=1,\"←未就学児\",\"\")","v":""},null,null,null,null,null,null,null,null,{"$f":"IF(ME14=\"\",\"\",IF(ME14<75,IF(HI35=\"○\",\"○\",\"\"),\"\"))","v":""},null,null,{"$f":"IF(MH14=\"\",\"\",IF(MH14<75,IF(HL35=\"○\",\"○\",\"\"),\"\"))","v":""},null,null,{"$f":"IF(MK14=\"\",\"\",IF(MK14<75,IF(HO35=\"○\",\"○\",\"\"),\"\"))","v":""},null,null,{"$f":"IF(MN14=\"\",\"\",IF(MN14<75,IF(HR35=\"○\",\"○\",\"\"),\"\"))","v":""},null,null,{"$f":"IF(MQ14=\"\",\"\",IF(MQ14<75,IF(HU35=\"○\",\"○\",\"\"),\"\"))","v":""},null,null,{"$f":"IF(MT14=\"\",\"\",IF(MT14<75,IF(HX35=\"○\",\"○\",\"\"),\"\"))","v":""},null,null,{"$f":"IF(MW14=\"\",\"\",IF(MW14<75,IF(IA35=\"○\",\"○\",\"\"),\"\"))","v":""},null,null,{"$f":"IF(MZ14=\"\",\"\",IF(MZ14<75,IF(ID35=\"○\",\"○\",\"\"),\"\"))","v":""},null,null,{"$f":"IF(NC14=\"\",\"\",IF(NC14<75,IF(IG35=\"○\",\"○\",\"\"),\"\"))","v":""},null,null,{"$f":"IF(NF14=\"\",\"\",IF(NF14<75,IF(IJ35=\"○\",\"○\",\"\"),\"\"))","v":""},null,null,{"$f":"IF(NI14=\"\",\"\",IF(NI14<75,IF(IM35=\"○\",\"○\",\"\"),\"\"))","v":""},null,null,{"$f":"IF(NL14=\"\",\"\",IF(NL14<75,IF(IP35=\"○\",\"○\",\"\"),\"\"))","v":""},null,null,{"$f":"IF(COUNTIF(ET35:GC35,\"○\")=0,\"\",COUNTIF(ET35:GC35,\"○\"))","v":""},null,null,null,"",null,null,null,null,null,null,null,null,null,null,null,null,null,null,null,null,null,null,null,null,null,null,null,null,null,null,{"$f":"IF(ME14=\"\",\"\",IF($NW14>HI$33,\"○\",\"\"))","v":""},null,null,{"$f":"IF(MH14=\"\",\"\",IF($NW14>HL$33,\"○\",\"\"))","v":""},null,null,{"$f":"IF(MK14=\"\",\"\",IF($NW14>HO$33,\"○\",\"\"))","v":""},null,null,{"$f":"IF(MN14=\"\",\"\",IF($NW14>HR$33,\"○\",\"\"))","v":""},null,null,{"$f":"IF(MQ14=\"\",\"\",IF($NW14>HU$33,\"○\",\"\"))","v":""},null,null,{"$f":"IF(MT14=\"\",\"\",IF($NW14>HX$33,\"○\",\"\"))","v":""},null,null,{"$f":"IF(MW14=\"\",\"\",IF($NW14>IA$33,\"○\",\"\"))","v":""},null,null,{"$f":"IF(MZ14=\"\",\"\",IF($NW14>ID$33,\"○\",\"\"))","v":""},null,null,{"$f":"IF(NC14=\"\",\"\",IF($NW14>IG$33,\"○\",\"\"))","v":""},null,null,{"$f":"IF(NF14=\"\",\"\",IF($NW14>IJ$33,\"○\",\"\"))","v":""},null,null,{"$f":"IF(NI14=\"\",\"\",IF($NW14>IM$33,\"○\",\"\"))","v":""},null,null,{"$f":"IF(NL14=\"\",\"\",IF($NW14>IP$33,\"○\",\"\"))","v":""}]
[null,3,null,"",null,null,null,null,null,null,"",null,null,null,null,null,null,"",null,null,"",null,null,null,null,null,null,{"$f":"IF($DH36=\"\",\"\",IF($U36=\"\",\"\",基礎控除!H5))","v":""},null,null,null,null,null,null,"",null,null,null,null,null,null,"",null,null,null,null,null,null,"",null,null,null,null,null,null,"",null,null,null,null,null,null,null,null,null,null,null,null,null,"",null,null,null,null,null,null,null,null,null,null,null,null,null,"",null,null,null,null,null,null,"",null,null,null,null,null,null,"",null,null,null,null,null,null,null,null,null,null,null,null,null,{"$f":"IF(GD36=\"\",\"\",SUM(GD36))","v":""},null,null,null,null,null,null,null,"",null,null,null,null,null,null,{"$f":"IF($DH36=\"\",\"\",IF(未就学児!F8=\"\",ROUNDDOWN(SUM($CM36)*SUM($DH36)/12,0),(ROUNDDOWN(SUM($CM36)*SUM($DH36)/12,0))*0.5))","v":""},null,null,null,null,null,null,null,null,null,null,null,null,null,{"$f":"IF(未就学児!$F8=1,\"←未就学児\",\"\")","v":""},null,null,null,null,null,null,null,null,{"$f":"IF(ME15=\"\",\"\",IF(ME15<75,IF(HI36=\"○\",\"○\",\"\"),\"\"))","v":""},null,null,{"$f":"IF(MH15=\"\",\"\",IF(MH15<75,IF(HL36=\"○\",\"○\",\"\"),\"\"))","v":""},null,null,{"$f":"IF(MK15=\"\",\"\",IF(MK15<75,IF(HO36=\"○\",\"○\",\"\"),\"\"))","v":""},null,null,{"$f":"IF(MN15=\"\",\"\",IF(MN15<75,IF(HR36=\"○\",\"○\",\"\"),\"\"))","v":""},null,null,{"$f":"IF(MQ15=\"\",\"\",IF(MQ15<75,IF(HU36=\"○\",\"○\",\"\"),\"\"))","v":""},null,null,{"$f":"IF(MT15=\"\",\"\",IF(MT15<75,IF(HX36=\"○\",\"○\",\"\"),\"\"))","v":""},null,null,{"$f":"IF(MW15=\"\",\"\",IF(MW15<75,IF(IA36=\"○\",\"○\",\"\"),\"\"))","v":""},null,null,{"$f":"IF(MZ15=\"\",\"\",IF(MZ15<75,IF(ID36=\"○\",\"○\",\"\"),\"\"))","v":""},null,null,{"$f":"IF(NC15=\"\",\"\",IF(NC15<75,IF(IG36=\"○\",\"○\",\"\"),\"\"))","v":""},null,null,{"$f":"IF(NF15=\"\",\"\",IF(NF15<75,IF(IJ36=\"○\",\"○\",\"\"),\"\"))","v":""},null,null,{"$f":"IF(NI15=\"\",\"\",IF(NI15<75,IF(IM36=\"○\",\"○\",\"\"),\"\"))","v":""},null,null,{"$f":"IF(NL15=\"\",\"\",IF(NL15<75,IF(IP36=\"○\",\"○\",\"\"),\"\"))","v":""},null,null,{"$f":"IF(COUNTIF(ET36:GC36,\"○\")=0,\"\",COUNTIF(ET36:GC36,\"○\"))","v":""},null,null,null,"",null,null,null,null,null,null,null,null,null,null,null,null,null,null,null,null,null,null,null,null,null,null,null,null,null,null,{"$f":"IF(ME15=\"\",\"\",IF($NW15>HI$33,\"○\",\"\"))","v":""},null,null,{"$f":"IF(MH15=\"\",\"\",IF($NW15>HL$33,\"○\",\"\"))","v":""},null,null,{"$f":"IF(MK15=\"\",\"\",IF($NW15>HO$33,\"○\",\"\"))","v":""},null,null,{"$f":"IF(MN15=\"\",\"\",IF($NW15>HR$33,\"○\",\"\"))","v":""},null,null,{"$f":"IF(MQ15=\"\",\"\",IF($NW15>HU$33,\"○\",\"\"))","v":""},null,null,{"$f":"IF(MT15=\"\",\"\",IF($NW15>HX$33,\"○\",\"\"))","v":""},null,null,{"$f":"IF(MW15=\"\",\"\",IF($NW15>IA$33,\"○\",\"\"))","v":""},null,null,{"$f":"IF(MZ15=\"\",\"\",IF($NW15>ID$33,\"○\",\"\"))","v":""},null,null,{"$f":"IF(NC15=\"\",\"\",IF($NW15>IG$33,\"○\",\"\"))","v":""},null,null,{"$f":"IF(NF15=\"\",\"\",IF($NW15>IJ$33,\"○\",\"\"))","v":""},null,null,{"$f":"IF(NI15=\"\",\"\",IF($NW15>IM$33,\"○\",\"\"))","v":""},null,null,{"$f":"IF(NL15=\"\",\"\",IF($NW15>IP$33,\"○\",\"\"))","v":""}]
[null,4,null,"",null,null,null,null,null,null,"",null,null,null,null,null,null,"",null,null,"",null,null,null,null,null,null,{"$f":"IF($DH37=\"\",\"\",IF($U37=\"\",\"\",基礎控除!H6))","v":""},null,null,null,null,null,null,"",null,null,null,null,null,null,"",null,null,null,null,null,null,"",null,null,null,null,null,null,"",null,null,null,null,null,null,null,null,null,null,null,null,null,"",null,null,null,null,null,null,null,null,null,null,null,null,null,"",null,null,null,null,null,null,"",null,null,null,null,null,null,"",null,null,null,null,null,null,null,null,null,null,null,null,null,"",null,null,null,null,null,null,null,"",null,null,null,null,null,null,{"$f":"IF($DH37=\"\",\"\",IF(未就学児!F9=\"\",ROUNDDOWN(SUM($CM37)*SUM($DH37)/12,0),(ROUNDDOWN(SUM($CM37)*SUM($DH37)/12,0))*0.5))","v":""},null,null,null,null,null,null,null,null,null,null,null,null,null,{"$f":"IF(未就学児!$F9=1,\"←未就学児\",\"\")","v":""},null,null,null,null,null,null,null,null,"",null,null,"",null,null,"",null,null,"",null,null,"",null,null,"",null,null,"",null,null,"",null,null,"",null,null,"",null,null,"",null,null,"",null,null,"",null,null,null,"",null,null,null,null,null,null,null,null,null,null,null,null,null,null,null,null,null,null,null,null,null,null,null,null,null,null,"",null,null,"",null,null,"",null,null,"",null,null,"",null,null,"",null,null,"",null,null,"",null,null,"",null,null,"",null,null,"",null,null,""]
[null,5,null,"",null,null,null,null,null,null,"",null,null,null,null,null,null,"",null,null,"",null,null,null,null,null,null,{"$f":"IF($DH38=\"\",\"\",IF($U38=\"\",\"\",基礎控除!H7))","v":""},null,null,null,null,null,null,"",null,null,null,null,null,null,"",null,null,null,null,null,null,"",null,null,null,null,null,null,"",null,null,null,null,null,null,null,null,null,null,null,null,null,"",null,null,null,null,null,null,null,null,null,null,null,null,null,"",null,null,null,null,null,null,"",null,null,null,null,null,null,"",null,null,null,null,null,null,null,null,null,null,null,null,null,"",null,null,null,null,null,null,null,"",null,null,null,null,null,null,{"$f":"IF($DH38=\"\",\"\",IF(未就学児!F10=\"\",ROUNDDOWN(SUM($CM38)*SUM($DH38)/12,0),(ROUNDDOWN(SUM($CM38)*SUM($DH38)/12,0))*0.5))","v":""},null,null,null,null,null,null,null,null,null,null,null,null,null,{"$f":"IF(未就学児!$F10=1,\"←未就学児\",\"\")","v":""},null,null,null,null,null,null,null,null,"",null,null,"",null,null,"",null,null,"",null,null,"",null,null,"",null,null,"",null,null,"",null,null,"",null,null,"",null,null,"",null,null,"",null,null,"",null,null,null,"",null,null,null,null,null,null,null,null,null,null,null,null,null,null,null,null,null,null,null,null,null,null,null,null,null,null,"",null,null,"",null,null,"",null,null,"",null,null,"",null,null,"",null,null,"",null,null,"",null,null,"",null,null,"",null,null,"",null,null,""]
[null,6,null,"",null,null,null,null,null,null,"",null,null,null,null,null,null,"",null,null,"",null,null,null,null,null,null,{"$f":"IF($DH39=\"\",\"\",IF($U39=\"\",\"\",基礎控除!H8))","v":""},null,null,null,null,null,null,"",null,null,null,null,null,null,"",null,null,null,null,null,null,"",null,null,null,null,null,null,"",null,null,null,null,null,null,null,null,null,null,null,null,null,"",null,null,null,null,null,null,null,null,null,null,null,null,null,"",null,null,null,null,null,null,"",null,null,null,null,null,null,"",null,null,null,null,null,null,null,null,null,null,null,null,null,"",null,null,null,null,null,null,null,"",null,null,null,null,null,null,{"$f":"IF($DH39=\"\",\"\",IF(未就学児!F11=\"\",ROUNDDOWN(SUM($CM39)*SUM($DH39)/12,0),(ROUNDDOWN(SUM($CM39)*SUM($DH39)/12,0))*0.5))","v":""},null,null,null,null,null,null,null,null,null,null,null,null,null,{"$f":"IF(未就学児!$F11=1,\"←未就学児\",\"\")","v":""},null,null,null,null,null,null,null,null,"",null,null,"",null,null,"",null,null,"",null,null,"",null,null,"",null,null,"",null,null,"",null,null,"",null,null,"",null,null,"",null,null,"",null,null,"",null,null,null,"",null,null,null,null,null,null,null,null,null,null,null,null,null,null,null,null,null,null,null,null,null,null,null,null,null,null,"",null,null,"",null,null,"",null,null,"",null,null,"",null,null,"",null,null,"",null,null,"",null,null,"",null,null,"",null,null,"",null,null,""]
[null,7,null,"",null,null,null,null,null,null,"",null,null,null,null,null,null,"",null,null,"",null,null,null,null,null,null,{"$f":"IF($DH40=\"\",\"\",IF($U40=\"\",\"\",基礎控除!H9))","v":""},null,null,null,null,null,null,"",null,null,null,null,null,null,"",null,null,null,null,null,null,"",null,null,null,null,null,null,"",null,null,null,null,null,null,null,null,null,null,null,null,null,"",null,null,null,null,null,null,null,null,null,null,null,null,null,"",null,null,null,null,null,null,"",null,null,null,null,null,null,"",null,null,null,null,null,null,null,null,null,null,null,null,null,"",null,null,null,null,null,null,null,"",null,null,null,null,null,null,{"$f":"IF($DH40=\"\",\"\",IF(未就学児!F12=\"\",ROUNDDOWN(SUM($CM40)*SUM($DH40)/12,0),(ROUNDDOWN(SUM($CM40)*SUM($DH40)/12,0))*0.5))","v":""},null,null,null,null,null,null,null,null,null,null,null,null,null,{"$f":"IF(未就学児!$F12=1,\"←未就学児\",\"\")","v":""},null,null,null,null,null,null,null,null,"",null,null,"",null,null,"",null,null,"",null,null,"",null,null,"",null,null,"",null,null,"",null,null,"",null,null,"",null,null,"",null,null,"",null,null,"",null,null,null,"",null,null,null,null,null,null,null,null,null,null,null,null,null,null,null,null,null,null,null,null,null,null,null,null,null,null,"",null,null,"",null,null,"",null,null,"",null,null,"",null,null,"",null,null,"",null,null,"",null,null,"",null,null,"",null,null,"",null,null,""]
[null,8,null,"",null,null,null,null,null,null,"",null,null,null,null,null,null,"",null,null,"",null,null,null,null,null,null,{"$f":"IF($DH41=\"\",\"\",IF($U41=\"\",\"\",基礎控除!H10))","v":""},null,null,null,null,null,null,"",null,null,null,null,null,null,"",null,null,null,null,null,null,"",null,null,null,null,null,null,"",null,null,null,null,null,null,null,null,null,null,null,null,null,"",null,null,null,null,null,null,null,null,null,null,null,null,null,"",null,null,null,null,null,null,"",null,null,null,null,null,null,"",null,null,null,null,null,null,null,null,null,null,null,null,null,"",null,null,null,null,null,null,null,"",null,null,null,null,null,null,{"$f":"IF($DH41=\"\",\"\",IF(未就学児!F13=\"\",ROUNDDOWN(SUM($CM41)*SUM($DH41)/12,0),(ROUNDDOWN(SUM($CM41)*SUM($DH41)/12,0))*0.5))","v":""},null,null,null,null,null,null,null,null,null,null,null,null,null,{"$f":"IF(未就学児!$F13=1,\"←未就学児\",\"\")","v":""},null,null,null,null,null,null,null,null,"",null,null,"",null,null,"",null,null,"",null,null,"",null,null,"",null,null,"",null,null,"",null,null,"",null,null,"",null,null,"",null,null,"",null,null,"",null,null,null,"",null,null,null,null,null,null,null,null,null,null,null,null,null,null,null,null,null,null,null,null,null,null,null,null,null,null,"",null,null,"",null,null,"",null,null,"",null,null,"",null,null,"",null,null,"",null,null,"",null,null,"",null,null,"",null,null,"",null,null,""]
[null,9,null,"",null,null,null,null,null,null,"",null,null,null,null,null,null,"",null,null,"",null,null,null,null,null,null,{"$f":"IF($DH42=\"\",\"\",IF($U42=\"\",\"\",基礎控除!H11))","v":""},null,null,null,null,null,null,"",null,null,null,null,null,null,"",null,null,null,null,null,null,"",null,null,null,null,null,null,"",null,null,null,null,null,null,null,null,null,null,null,null,null,"",null,null,null,null,null,null,null,null,null,null,null,null,null,"",null,null,null,null,null,null,"",null,null,null,null,null,null,"",null,null,null,null,null,null,null,null,null,null,null,null,null,"",null,null,null,null,null,null,null,"",null,null,null,null,null,null,{"$f":"IF($DH42=\"\",\"\",IF(未就学児!F14=\"\",ROUNDDOWN(SUM($CM42)*SUM($DH42)/12,0),(ROUNDDOWN(SUM($CM42)*SUM($DH42)/12,0))*0.5))","v":""},null,null,null,null,null,null,null,null,null,null,null,null,null,{"$f":"IF(未就学児!$F14=1,\"←未就学児\",\"\")","v":""},null,null,null,null,null,null,null,null,"",null,null,"",null,null,"",null,null,"",null,null,"",null,null,"",null,null,"",null,null,"",null,null,"",null,null,"",null,null,"",null,null,"",null,null,"",null,null,null,"",null,null,null,null,null,null,null,null,null,null,null,null,null,null,null,null,null,null,null,null,null,null,null,null,null,null,"",null,null,"",null,null,"",null,null,"",null,null,"",null,null,"",null,null,"",null,null,"",null,null,"",null,null,"",null,null,"",null,null,""]
[null,10,null,"",null,null,null,null,null,null,"",null,null,null,null,null,null,"",null,null,"",null,null,null,null,null,null,{"$f":"IF($DH43=\"\",\"\",IF($U43=\"\",\"\",基礎控除!H12))","v":""},null,null,null,null,null,null,"",null,null,null,null,null,null,"",null,null,null,null,null,null,"",null,null,null,null,null,null,"",null,null,null,null,null,null,null,null,null,null,null,null,null,"",null,null,null,null,null,null,null,null,null,null,null,null,null,"",null,null,null,null,null,null,"",null,null,null,null,null,null,"",null,null,null,null,null,null,null,null,null,null,null,null,null,"",null,null,null,null,null,null,null,"",null,null,null,null,null,null,{"$f":"IF($DH43=\"\",\"\",IF(未就学児!F15=\"\",ROUNDDOWN(SUM($CM43)*SUM($DH43)/12,0),(ROUNDDOWN(SUM($CM43)*SUM($DH43)/12,0))*0.5))","v":""},null,null,null,null,null,null,null,null,null,null,null,null,null,{"$f":"IF(未就学児!$F15=1,\"←未就学児\",\"\")","v":""},null,null,null,null,null,null,null,null,"",null,null,"",null,null,"",null,null,"",null,null,"",null,null,"",null,null,"",null,null,"",null,null,"",null,null,"",null,null,"",null,null,"",null,null,"",null,null,null,"",null,null,null,null,null,null,null,null,null,null,null,null,null,null,null,null,null,null,null,null,null,null,null,null,null,null,"",null,null,"",null,null,"",null,null,"",null,null,"",null,null,"",null,null,"",null,null,"",null,null,"",null,null,"",null,null,"",null,null,""]
[null,null,null,"合計",null,null,null,null,null,null,null,null,null,null,null,null,null,null,null,null,{"$f":"SUM(U34:AA43)","v":0},null,null,null,null,null,null,"*********",null,null,null,null,null,null,{"$f":"SUM(AI34:AO43)","v":0},null,null,null,null,null,null,{"$f":"SUM(AP34:AV43)","v":0},null,null,null,null,null,null,{"$f":"SUM(AW34:BC43)","v":0},null,null,null,null,null,null,{"$f":"SUM(BD34:BJ43)","v":0},null,null,null,null,null,null,{"$f":"SUM(BK34:BQ43)","v":0},null,null,null,null,null,null,{"$f":"SUM(BR34:BX43)","v":0},null,null,null,null,null,null,{"$f":"SUM(BY34:CE43)","v":0},null,null,null,null,null,null,{"$f":"SUM(CF34:CL43)","v":0},null,null,null,null,null,null,{"$f":"SUM(CM34:CS43)","v":0},null,null,null,null,null,null,{"$f":"SUM(CT34:CZ43)","v":0},null,null,null,null,null,null,{"$f":"SUM(DA34:DG43)","v":0},null,null,null,null,null,null,null,null,null,null,null,null,null,null,{"$f":"SUM(DP34:DV43)","v":0},null,null,null,null,null,null,{"$f":"SUM(DW34:EC43)","v":0},null,null,null,null,null,null,{"$f":"SUM(ED34:EJ43)","v":0},null,null,null,null,null,null,null,null,null,null,null,null,null,null,null,{"$f":"SUMPRODUCT((ET34:EV43=\"○\")*1)","v":0},null,null,{"$f":"SUMPRODUCT((EW34:EY43=\"○\")*1)","v":0},null,null,{"$f":"SUMPRODUCT((EZ34:FB43=\"○\")*1)","v":0},null,null,{"$f":"SUMPRODUCT((FC34:FE43=\"○\")*1)","v":0},null,null,{"$f":"SUMPRODUCT((FF34:FH43=\"○\")*1)","v":0},null,null,{"$f":"SUMPRODUCT((FI34:FK43=\"○\")*1)","v":0},null,null,{"$f":"SUMPRODUCT((FL34:FN43=\"○\")*1)","v":0},null,null,{"$f":"SUMPRODUCT((FO34:FQ43=\"○\")*1)","v":0},null,null,{"$f":"SUMPRODUCT((FR34:FT43=\"○\")*1)","v":0},null,null,{"$f":"SUMPRODUCT((FU34:FW43=\"○\")*1)","v":0},null,null,{"$f":"SUMPRODUCT((FX34:FZ43=\"○\")*1)","v":0},null,null,{"$f":"SUMPRODUCT((GA34:GC43=\"○\")*1)","v":0},null,null,"***"]
[null,null,null,null,null,null,null,null,null,null,null,null,null,null,null,null,null,null,null,null,null,null,null,null,null,null,null,null,null,null,null,null,null,null,null,null,null,null,null,null,null,null,null,null,null,null,null,null,null,null,null,null,null,null,null,null,null,null,null,null,null,null,{"$f":"IF(ROUNDDOWN(SUM(BD44:BQ44),-2)>SUM($U$29),SUM($U$29),ROUNDDOWN(SUM(BD44:BQ44),-2))","v":0},null,null,null,null,null,null,"※特例措置の軽減含む↑",null,null,null,null,null,null,null,null,null,null,null,null,null,null,null,null,null,null,null,null,null,null,null,null,null,null,null,null,null,null,null,null,null,"合計（Ａ＋Ｂ＋Ｃ）→",{"$f":"SUM(CT44:DG44)","v":0},null,null,null,null,null,null,null,null,null,null,null,null,null,null,null,null,null,null,null,null,null,null,null,null,null,null,null,"合計（Ａ＋Ｂ＋Ｃ）→",{"$f":"SUM(DP44:EJ44)","v":0},null,null,null,null,null,null,null,null,null,null,null,null,null,null,null,{"$f":"SUM(ME23)","v":0},null,null,{"$f":"SUM(MH23)","v":0},null,null,{"$f":"SUM(MK23)","v":0},null,null,{"$f":"SUM(MN23)","v":0},null,null,{"$f":"SUM(MQ23)","v":0},null,null,{"$f":"SUM(MT23)","v":0},null,null,{"$f":"SUM(MW23)","v":0},null,null,{"$f":"SUM(MZ23)","v":0},null,null,{"$f":"SUM(NC23)","v":0},null,null,{"$f":"SUM(NF23)","v":0},null,null,{"$f":"SUM(NI23)","v":0},null,null,{"$f":"SUM(NL23)","v":0},null,null,{"$f":"IF(SUM(GD23)=1,\"\",SUM(ET45:GC45))","v":0}]
[null,null,null,null,null,null,null,null,null,null,null,null,null,null,null,null,null,null,null,null,null,null,null,null,null,null,null,null,null,null,null,null,null,null,null,null,null,null,null,null,null,null,null,null,null,null,null,null,null,null,null,null,null,null,null,null,null,null,null,null,null,null,null,null,null,null,null,null,null,null,null,null,null,null,null,null,null,null,null,null,null,null,null,null,null,null,null,null,null,null,null,null,null,null,null,null,null,null,null,null,null,null,null,"Ｄ　限度額以下（百円未満切捨て）→",{"$f":"IF(ROUNDDOWN(SUM(DA45),-2)>SUM($U$29),SUM($U$29),ROUNDDOWN(SUM(DA45),-2))","v":0},null,null,null,null,null,null,null,null,null,null,null,null,null,null,null,null,null,null,null,null,null,null,null,null,null,null,null,"Ｄ　限度額以下（百円未満切捨て）→",{"$f":"IF(ROUNDDOWN(SUM(ED45),-2)>SUM($U$29),SUM($U$29),ROUNDDOWN(SUM(ED45),-2))","v":0},null,null,null,null,null,null,null,null,null,null,null,null,null,null,null,{"$f":"IF(SUMPRODUCT((ET34:EV43=\"○\")*1)>0,1,\"\")","v":""},null,null,{"$f":"IF(SUMPRODUCT((EW34:EY43=\"○\")*1)>0,1,\"\")","v":""},null,null,{"$f":"IF(SUMPRODUCT((EZ34:FB43=\"○\")*1)>0,1,\"\")","v":""},null,null,{"$f":"IF(SUMPRODUCT((FC34:FE43=\"○\")*1)>0,1,\"\")","v":""},null,null,{"$f":"IF(SUMPRODUCT((FF34:FH43=\"○\")*1)>0,1,\"\")","v":""},null,null,{"$f":"IF(SUMPRODUCT((FI34:FK43=\"○\")*1)>0,1,\"\")","v":""},null,null,{"$f":"IF(SUMPRODUCT((FL34:FN43=\"○\")*1)>0,1,\"\")","v":""},null,null,{"$f":"IF(SUMPRODUCT((FO34:FQ43=\"○\")*1)>0,1,\"\")","v":""},null,null,{"$f":"IF(SUMPRODUCT((FR34:FT43=\"○\")*1)>0,1,\"\")","v":""},null,null,{"$f":"IF(SUMPRODUCT((FU34:FW43=\"○\")*1)>0,1,\"\")","v":""},null,null,{"$f":"IF(SUMPRODUCT((FX34:FZ43=\"○\")*1)>0,1,\"\")","v":""},null,null,{"$f":"IF(SUMPRODUCT((GA34:GC43=\"○\")*1)>0,1,\"\")","v":""},null,null,{"$f":"SUM(ET46:GC46)","v":0}]
[null,null,null,null,null,null,null,null,null,null,null,null,null,null,null,null,null,null,null,null,null,null,null,null,null,null,null,null,null,null,null,null,null,null,null,null,null,null,null,null,null,null,null,null,null,null,null,null,null,null,null,null,null,null,null,null,null,null,null,null,null,null,null,null,null,null,null,null,null,null,null,null,null,null,null,null,null,null,null,null,null,null,null,null,null,null,null,null,null,null,null,null,null,null,null,null,null,null,null,null,null,null,null,"限度超過額→",{"$f":"IF(ROUNDDOWN(SUM(DA45),-2)>SUM(DA46),SUM(DA45)-SUM(DA46),0)","v":0},null,null,null,null,null,null,null,null,null,null,null,null,null,null,null,null,null,null,null,null,null,null,null,null,null,null,null,"限度超過額→",{"$f":"IF(ROUNDDOWN(SUM(ED45),-2)>SUM(ED46),SUM(ED45)-SUM(ED46),0)","v":0}]
[]
[null,"後期高齢者\n支援金分",null,null,null,null,null,null,null,null,"所得割",null,null,null,null,"率",null,null,null,null,2.75,null,null,null,null,null,{"$f":"\"（前年の総所得金額－基礎控除額）×\"&IF(U49=\"\",\"\",U49)&\"％\"","v":"（前年の総所得金額－基礎控除額）×2.75％"}]
[null,null,null,null,null,null,null,null,null,null,null,null,null,null,null,"控除額",null,null,null,null,"基礎控除"]
[null,null,null,null,null,null,null,null,null,null,"均等割",null,null,null,null,null,null,null,null,null,14400,null,null,null,null,null,"←１人当たり"]
[null,null,null,null,null,null,null,null,null,null,"限度額",null,null,null,null,null,null,null,null,null,240000]
[null,null,null,null,null,null,null,null,null,null,null,null,null,null,null,null,null,null,null,null,null,null,null,null,null,null,null,null,null,null,null,null,null,null,null,null,null,null,null,null,null,null,null,null,null,null,null,null,null,null,null,null,null,null,null,null,null,null,null,null,null,null,null,null,null,null,null,null,null,{"$f":"IF($AU$5=\"\",\"\",$AU$5)","v":""}]
[null,null,null,"該当者",null,null,null,null,null,null,null,null,null,null,null,null,null,null,null,null,"課税総所得金額",null,null,null,null,null,null,null,null,null,null,null,null,null,null,null,null,null,null,null,null,"算出額（全体）",null,null,null,null,null,null,null,null,null,null,null,null,null,null,null,null,null,null,null,null,null,null,null,null,null,null,null,"軽減額(2･5･7割額)",null,null,null,null,null,null,null,null,null,null,null,null,null,"軽減後(2･5･7割後)",null,null,null,null,null,null,null,null,null,null,null,null,null,null,null,null,null,null,null,null,null,null,null,null,null,null,null,"月数",null,null,null,null,null,null,null,"月割後"]
[null,null,null,"氏　名",null,null,null,null,null,null,"生年月日",null,null,null,null,null,null,"年齢",null,null,"①",null,null,null,null,null,null,"②",null,null,null,null,null,null,"③（①－②）",null,null,null,null,null,null,{"$f":"\"④(③×\"&DBCS(U49)&\"%)\"","v":"④(③×２．７５%)"},null,null,null,null,null,null,"⑤",null,null,null,null,null,null,"④＋⑤",null,null,null,null,null,null,null,null,null,null,null,null,null,"⑦",null,null,null,null,null,null,null,null,null,null,null,null,null,"Ａ＝④",null,null,null,null,null,null,"Ｂ＝⑤－⑦",null,null,null,null,null,null,"Ａ＋Ｂ",null,null,null,null,null,null,null,null,null,null,null,null,null,"該当\n月数",null,null,null,"世帯\n月数",null,null,null,"所得割",null,null,null,null,null,null,"均等割"]
[null,null,null,null,null,null,null,null,null,null,null,null,null,null,null,null,null,null,null,null,"総所得金額",null,null,null,null,null,null,"控除額",null,null,null,null,null,null,"課税所得",null,null,null,null,null,null,"所得割",null,null,null,null,null,null,"均等割",null,null,null,null,null,null,"合　計",null,null,null,null,null,null,null,null,null,null,null,null,null,"均等割",null,null,null,null,null,null,null,null,null,null,null,null,null,"所得割",null,null,null,null,null,null,"均等割",null,null,null,null,null,null,"合　計",null,null,null,null,null,null,null,null,null,null,null,null,null,null,null,null,null,null,null,null,null,null,null,null,null,null,null,null,null,null,null,null,null,null,null,null,null,null,null,null,null,null,null,null,null,null,null,null,null,null,null,4,null,null,5,null,null,6,null,null,7,null,null,8,null,null,9,null,null,10,null,null,11,null,null,12,null,null,1,null,null,2,null,null,3,null,null,"月数計",null,null,null,"備考"]
[null,1,null,{"$f":"IF($DH57=\"\",\"\",$D13)","v":""},null,null,null,null,null,null,{"$f":"IF($DH57=\"\",\"\",IF($K13=\"\",\"\",SUM($K13)))","v":""},null,null,null,null,null,null,{"$f":"IF($DH57=\"\",\"\",IF($R13=\"\",\"\",SUM($R13)))","v":""},null,null,{"$f":"IF($DH57=\"\",\"\",IF($DC13=\"\",\"\",SUM($DC13)))","v":""},null,null,null,null,null,null,{"$f":"IF($DH57=\"\",\"\",IF($U57=\"\",\"\",基礎控除!H3))","v":""},null,null,null,null,null,null,{"$f":"IF($DH57=\"\",\"\",IF($U57=\"\",\"\",IF(SUM($U57)>SUM($AB57),SUM($U57)-SUM($AB57),0)))","v":""},null,null,null,null,null,null,{"$f":"IF($DH57=\"\",\"\",ROUNDDOWN(SUM(AI57)*SUM($U$49)/100,0))","v":""},null,null,null,null,null,null,{"$f":"IF($DH57=\"\",\"\",SUM($U$51))","v":""},null,null,null,null,null,null,{"$f":"IF(SUM(AP57:BC57)=0,\"\",SUM(AP57:BC57))","v":""},null,null,null,null,null,null,null,null,null,null,null,null,null,{"$f":"IF($AU$5=\"\",\"\",IF($DH57=\"\",\"\",ROUNDDOWN(SUM($U$51)*SUM(IF($AU$5=\"２割軽減世帯\",2,IF($AU$5=\"５割軽減世帯\",5,IF($AU$5=\"７割軽減世帯\",7,\"\"))))/10,0)))","v":""},null,null,null,null,null,null,null,null,null,null,null,null,null,{"$f":"IF($DH57=\"\",\"\",SUM($AP57))","v":""},null,null,null,null,null,null,{"$f":"IF($DH57=\"\",\"\",SUM($AW57)-SUM($BR57))","v":""},null,null,null,null,null,null,{"$f":"IF(SUM(CF57:CS57)=0,\"\",SUM(CF57:CS57))","v":""},null,null,null,null,null,null,null,null,null,null,null,null,null,{"$f":"IF(GD57=\"\",\"\",SUM(GD57))","v":""},null,null,null,null,null,null,null,{"$f":"IF($DH57=\"\",\"\",ROUNDDOWN(SUM($CF57)*SUM($DH57)/12,0))","v":""},null,null,null,null,null,null,{"$f":"IF($DH57=\"\",\"\",IF(未就学児!F6=\"\",ROUNDDOWN(SUM($CM57)*SUM($DH57)/12,0),ROUNDDOWN(SUM($CM57)*SUM($DH57)/12,0)*0.5))","v":""},null,null,null,null,null,null,null,null,null,null,null,null,null,{"$f":"IF(未就学児!$F6=1,\"←未就学児\",\"\")","v":""},null,null,null,null,null,null,null,null,{"$f":"IF(ME13=\"\",\"\",IF(ME13<75,IF(HI34=\"○\",\"○\",\"\"),\"\"))","v":""},null,null,{"$f":"IF(MH13=\"\",\"\",IF(MH13<75,IF(HL34=\"○\",\"○\",\"\"),\"\"))","v":""},null,null,{"$f":"IF(MK13=\"\",\"\",IF(MK13<75,IF(HO34=\"○\",\"○\",\"\"),\"\"))","v":""},null,null,{"$f":"IF(MN13=\"\",\"\",IF(MN13<75,IF(HR34=\"○\",\"○\",\"\"),\"\"))","v":""},null,null,{"$f":"IF(MQ13=\"\",\"\",IF(MQ13<75,IF(HU34=\"○\",\"○\",\"\"),\"\"))","v":""},null,null,{"$f":"IF(MT13=\"\",\"\",IF(MT13<75,IF(HX34=\"○\",\"○\",\"\"),\"\"))","v":""},null,null,{"$f":"IF(MW13=\"\",\"\",IF(MW13<75,IF(IA34=\"○\",\"○\",\"\"),\"\"))","v":""},null,null,{"$f":"IF(MZ13=\"\",\"\",IF(MZ13<75,IF(ID34=\"○\",\"○\",\"\"),\"\"))","v":""},null,null,{"$f":"IF(NC13=\"\",\"\",IF(NC13<75,IF(IG34=\"○\",\"○\",\"\"),\"\"))","v":""},null,null,{"$f":"IF(NF13=\"\",\"\",IF(NF13<75,IF(IJ34=\"○\",\"○\",\"\"),\"\"))","v":""},null,null,{"$f":"IF(NI13=\"\",\"\",IF(NI13<75,IF(IM34=\"○\",\"○\",\"\"),\"\"))","v":""},null,null,{"$f":"IF(NL13=\"\",\"\",IF(NL13<75,IF(IP34=\"○\",\"○\",\"\"),\"\"))","v":""},null,null,{"$f":"IF(COUNTIF(ET57:GC57,\"○\")=0,\"\",COUNTIF(ET57:GC57,\"○\"))","v":""},null,null,null,{"$f":"IF(SUM(NO13)=12,\"国保に該当しない。\",IF(OR(SUM(GD13)=SUM(NS13),SUM(NO13)=0),\"\",\"年度途中から後期高齢者医療制度移行あり。\"))","v":""}]
[null,2,null,"",null,null,null,null,null,null,"",null,null,null,null,null,null,"",null,null,"",null,null,null,null,null,null,{"$f":"IF($DH58=\"\",\"\",IF($U58=\"\",\"\",基礎控除!H4))","v":""},null,null,null,null,null,null,"",null,null,null,null,null,null,"",null,null,null,null,null,null,"",null,null,null,null,null,null,"",null,null,null,null,null,null,null,null,null,null,null,null,null,"",null,null,null,null,null,null,null,null,null,null,null,null,null,"",null,null,null,null,null,null,"",null,null,null,null,null,null,"",null,null,null,null,null,null,null,null,null,null,null,null,null,{"$f":"IF(GD58=\"\",\"\",SUM(GD58))","v":""},null,null,null,null,null,null,null,"",null,null,null,null,null,null,{"$f":"IF($DH58=\"\",\"\",IF(未就学児!F7=\"\",ROUNDDOWN(SUM($CM58)*SUM($DH58)/12,0),ROUNDDOWN(SUM($CM58)*SUM($DH58)/12,0)*0.5))","v":""},null,null,null,null,null,null,null,null,null,null,null,null,null,{"$f":"IF(未就学児!$F7=1,\"←未就学児\",\"\")","v":""},null,null,null,null,null,null,null,null,{"$f":"IF(ME14=\"\",\"\",IF(ME14<75,IF(HI35=\"○\",\"○\",\"\"),\"\"))","v":""},null,null,{"$f":"IF(MH14=\"\",\"\",IF(MH14<75,IF(HL35=\"○\",\"○\",\"\"),\"\"))","v":""},null,null,{"$f":"IF(MK14=\"\",\"\",IF(MK14<75,IF(HO35=\"○\",\"○\",\"\"),\"\"))","v":""},null,null,{"$f":"IF(MN14=\"\",\"\",IF(MN14<75,IF(HR35=\"○\",\"○\",\"\"),\"\"))","v":""},null,null,{"$f":"IF(MQ14=\"\",\"\",IF(MQ14<75,IF(HU35=\"○\",\"○\",\"\"),\"\"))","v":""},null,null,{"$f":"IF(MT14=\"\",\"\",IF(MT14<75,IF(HX35=\"○\",\"○\",\"\"),\"\"))","v":""},null,null,{"$f":"IF(MW14=\"\",\"\",IF(MW14<75,IF(IA35=\"○\",\"○\",\"\"),\"\"))","v":""},null,null,{"$f":"IF(MZ14=\"\",\"\",IF(MZ14<75,IF(ID35=\"○\",\"○\",\"\"),\"\"))","v":""},null,null,{"$f":"IF(NC14=\"\",\"\",IF(NC14<75,IF(IG35=\"○\",\"○\",\"\"),\"\"))","v":""},null,null,{"$f":"IF(NF14=\"\",\"\",IF(NF14<75,IF(IJ35=\"○\",\"○\",\"\"),\"\"))","v":""},null,null,{"$f":"IF(NI14=\"\",\"\",IF(NI14<75,IF(IM35=\"○\",\"○\",\"\"),\"\"))","v":""},null,null,{"$f":"IF(NL14=\"\",\"\",IF(NL14<75,IF(IP35=\"○\",\"○\",\"\"),\"\"))","v":""},null,null,{"$f":"IF(COUNTIF(ET58:GC58,\"○\")=0,\"\",COUNTIF(ET58:GC58,\"○\"))","v":""},null,null,null,""]
[null,3,null,"",null,null,null,null,null,null,"",null,null,null,null,null,null,"",null,null,"",null,null,null,null,null,null,{"$f":"IF($DH59=\"\",\"\",IF($U59=\"\",\"\",基礎控除!H5))","v":""},null,null,null,null,null,null,"",null,null,null,null,null,null,"",null,null,null,null,null,null,"",null,null,null,null,null,null,"",null,null,null,null,null,null,null,null,null,null,null,null,null,"",null,null,null,null,null,null,null,null,null,null,null,null,null,"",null,null,null,null,null,null,"",null,null,null,null,null,null,"",null,null,null,null,null,null,null,null,null,null,null,null,null,{"$f":"IF(GD59=\"\",\"\",SUM(GD59))","v":""},null,null,null,null,null,null,null,"",null,null,null,null,null,null,{"$f":"IF($DH59=\"\",\"\",IF(未就学児!F8=\"\",ROUNDDOWN(SUM($CM59)*SUM($DH59)/12,0),ROUNDDOWN(SUM($CM59)*SUM($DH59)/12,0)*0.5))","v":""},null,null,null,null,null,null,null,null,null,null,null,null,null,{"$f":"IF(未就学児!$F8=1,\"←未就学児\",\"\")","v":""},null,null,null,null,null,null,null,null,{"$f":"IF(ME15=\"\",\"\",IF(ME15<75,IF(HI36=\"○\",\"○\",\"\"),\"\"))","v":""},null,null,{"$f":"IF(MH15=\"\",\"\",IF(MH15<75,IF(HL36=\"○\",\"○\",\"\"),\"\"))","v":""},null,null,{"$f":"IF(MK15=\"\",\"\",IF(MK15<75,IF(HO36=\"○\",\"○\",\"\"),\"\"))","v":""},null,null,{"$f":"IF(MN15=\"\",\"\",IF(MN15<75,IF(HR36=\"○\",\"○\",\"\"),\"\"))","v":""},null,null,{"$f":"IF(MQ15=\"\",\"\",IF(MQ15<75,IF(HU36=\"○\",\"○\",\"\"),\"\"))","v":""},null,null,{"$f":"IF(MT15=\"\",\"\",IF(MT15<75,IF(HX36=\"○\",\"○\",\"\"),\"\"))","v":""},null,null,{"$f":"IF(MW15=\"\",\"\",IF(MW15<75,IF(IA36=\"○\",\"○\",\"\"),\"\"))","v":""},null,null,{"$f":"IF(MZ15=\"\",\"\",IF(MZ15<75,IF(ID36=\"○\",\"○\",\"\"),\"\"))","v":""},null,null,{"$f":"IF(NC15=\"\",\"\",IF(NC15<75,IF(IG36=\"○\",\"○\",\"\"),\"\"))","v":""},null,null,{"$f":"IF(NF15=\"\",\"\",IF(NF15<75,IF(IJ36=\"○\",\"○\",\"\"),\"\"))","v":""},null,null,{"$f":"IF(NI15=\"\",\"\",IF(NI15<75,IF(IM36=\"○\",\"○\",\"\"),\"\"))","v":""},null,null,{"$f":"IF(NL15=\"\",\"\",IF(NL15<75,IF(IP36=\"○\",\"○\",\"\"),\"\"))","v":""},null,null,{"$f":"IF(COUNTIF(ET59:GC59,\"○\")=0,\"\",COUNTIF(ET59:GC59,\"○\"))","v":""},null,null,null,""]
[null,4,null,"",null,null,null,null,null,null,"",null,null,null,null,null,null,"",null,null,"",null,null,null,null,null,null,{"$f":"IF($DH60=\"\",\"\",IF($U60=\"\",\"\",基礎控除!H6))","v":""},null,null,null,null,null,null,"",null,null,null,null,null,null,"",null,null,null,null,null,null,"",null,null,null,null,null,null,"",null,null,null,null,null,null,null,null,null,null,null,null,null,"",null,null,null,null,null,null,null,null,null,null,null,null,null,"",null,null,null,null,null,null,"",null,null,null,null,null,null,"",null,null,null,null,null,null,null,null,null,null,null,null,null,"",null,null,null,null,null,null,null,"",null,null,null,null,null,null,{"$f":"IF($DH60=\"\",\"\",IF(未就学児!F9=\"\",ROUNDDOWN(SUM($CM60)*SUM($DH60)/12,0),ROUNDDOWN(SUM($CM60)*SUM($DH60)/12,0)*0.5))","v":""},null,null,null,null,null,null,null,null,null,null,null,null,null,{"$f":"IF(未就学児!$F9=1,\"←未就学児\",\"\")","v":""},null,null,null,null,null,null,null,null,"",null,null,"",null,null,"",null,null,"",null,null,"",null,null,"",null,null,"",null,null,"",null,null,"",null,null,"",null,null,"",null,null,"",null,null,"",null,null,null,""]
[null,5,null,"",null,null,null,null,null,null,"",null,null,null,null,null,null,"",null,null,"",null,null,null,null,null,null,{"$f":"IF($DH61=\"\",\"\",IF($U61=\"\",\"\",基礎控除!H7))","v":""},null,null,null,null,null,null,"",null,null,null,null,null,null,"",null,null,null,null,null,null,"",null,null,null,null,null,null,"",null,null,null,null,null,null,null,null,null,null,null,null,null,"",null,null,null,null,null,null,null,null,null,null,null,null,null,"",null,null,null,null,null,null,"",null,null,null,null,null,null,"",null,null,null,null,null,null,null,null,null,null,null,null,null,"",null,null,null,null,null,null,null,"",null,null,null,null,null,null,{"$f":"IF($DH61=\"\",\"\",IF(未就学児!F10=\"\",ROUNDDOWN(SUM($CM61)*SUM($DH61)/12,0),ROUNDDOWN(SUM($CM61)*SUM($DH61)/12,0)*0.5))","v":""},null,null,null,null,null,null,null,null,null,null,null,null,null,{"$f":"IF(未就学児!$F10=1,\"←未就学児\",\"\")","v":""},null,null,null,null,null,null,null,null,"",null,null,"",null,null,"",null,null,"",null,null,"",null,null,"",null,null,"",null,null,"",null,null,"",null,null,"",null,null,"",null,null,"",null,null,"",null,null,null,""]
[null,6,null,"",null,null,null,null,null,null,"",null,null,null,null,null,null,"",null,null,"",null,null,null,null,null,null,{"$f":"IF($DH62=\"\",\"\",IF($U62=\"\",\"\",基礎控除!H8))","v":""},null,null,null,null,null,null,"",null,null,null,null,null,null,"",null,null,null,null,null,null,"",null,null,null,null,null,null,"",null,null,null,null,null,null,null,null,null,null,null,null,null,"",null,null,null,null,null,null,null,null,null,null,null,null,null,"",null,null,null,null,null,null,"",null,null,null,null,null,null,"",null,null,null,null,null,null,null,null,null,null,null,null,null,"",null,null,null,null,null,null,null,"",null,null,null,null,null,null,{"$f":"IF($DH62=\"\",\"\",IF(未就学児!F11=\"\",ROUNDDOWN(SUM($CM62)*SUM($DH62)/12,0),ROUNDDOWN(SUM($CM62)*SUM($DH62)/12,0)*0.5))","v":""},null,null,null,null,null,null,null,null,null,null,null,null,null,{"$f":"IF(未就学児!$F11=1,\"←未就学児\",\"\")","v":""},null,null,null,null,null,null,null,null,"",null,null,"",null,null,"",null,null,"",null,null,"",null,null,"",null,null,"",null,null,"",null,null,"",null,null,"",null,null,"",null,null,"",null,null,"",null,null,null,""]
[null,7,null,"",null,null,null,null,null,null,"",null,null,null,null,null,null,"",null,null,"",null,null,null,null,null,null,{"$f":"IF($DH63=\"\",\"\",IF($U63=\"\",\"\",基礎控除!H9))","v":""},null,null,null,null,null,null,"",null,null,null,null,null,null,"",null,null,null,null,null,null,"",null,null,null,null,null,null,"",null,null,null,null,null,null,null,null,null,null,null,null,null,"",null,null,null,null,null,null,null,null,null,null,null,null,null,"",null,null,null,null,null,null,"",null,null,null,null,null,null,"",null,null,null,null,null,null,null,null,null,null,null,null,null,"",null,null,null,null,null,null,null,"",null,null,null,null,null,null,{"$f":"IF($DH63=\"\",\"\",IF(未就学児!F12=\"\",ROUNDDOWN(SUM($CM63)*SUM($DH63)/12,0),ROUNDDOWN(SUM($CM63)*SUM($DH63)/12,0)*0.5))","v":""},null,null,null,null,null,null,null,null,null,null,null,null,null,{"$f":"IF(未就学児!$F12=1,\"←未就学児\",\"\")","v":""},null,null,null,null,null,null,null,null,"",null,null,"",null,null,"",null,null,"",null,null,"",null,null,"",null,null,"",null,null,"",null,null,"",null,null,"",null,null,"",null,null,"",null,null,"",null,null,null,""]
[null,8,null,"",null,null,null,null,null,null,"",null,null,null,null,null,null,"",null,null,"",null,null,null,null,null,null,{"$f":"IF($DH64=\"\",\"\",IF($U64=\"\",\"\",基礎控除!H10))","v":""},null,null,null,null,null,null,"",null,null,null,null,null,null,"",null,null,null,null,null,null,"",null,null,null,null,null,null,"",null,null,null,null,null,null,null,null,null,null,null,null,null,"",null,null,null,null,null,null,null,null,null,null,null,null,null,"",null,null,null,null,null,null,"",null,null,null,null,null,null,"",null,null,null,null,null,null,null,null,null,null,null,null,null,"",null,null,null,null,null,null,null,"",null,null,null,null,null,null,{"$f":"IF($DH64=\"\",\"\",IF(未就学児!F13=\"\",ROUNDDOWN(SUM($CM64)*SUM($DH64)/12,0),ROUNDDOWN(SUM($CM64)*SUM($DH64)/12,0)*0.5))","v":""},null,null,null,null,null,null,null,null,null,null,null,null,null,{"$f":"IF(未就学児!$F13=1,\"←未就学児\",\"\")","v":""},null,null,null,null,null,null,null,null,"",null,null,"",null,null,"",null,null,"",null,null,"",null,null,"",null,null,"",null,null,"",null,null,"",null,null,"",null,null,"",null,null,"",null,null,"",null,null,null,""]
[null,9,null,"",null,null,null,null,null,null,"",null,null,null,null,null,null,"",null,null,"",null,null,null,null,null,null,{"$f":"IF($DH65=\"\",\"\",IF($U65=\"\",\"\",基礎控除!H11))","v":""},null,null,null,null,null,null,"",null,null,null,null,null,null,"",null,null,null,null,null,null,"",null,null,null,null,null,null,"",null,null,null,null,null,null,null,null,null,null,null,null,null,"",null,null,null,null,null,null,null,null,null,null,null,null,null,"",null,null,null,null,null,null,"",null,null,null,null,null,null,"",null,null,null,null,null,null,null,null,null,null,null,null,null,"",null,null,null,null,null,null,null,"",null,null,null,null,null,null,{"$f":"IF($DH65=\"\",\"\",IF(未就学児!F14=\"\",ROUNDDOWN(SUM($CM65)*SUM($DH65)/12,0),ROUNDDOWN(SUM($CM65)*SUM($DH65)/12,0)*0.5))","v":""},null,null,null,null,null,null,null,null,null,null,null,null,null,{"$f":"IF(未就学児!$F14=1,\"←未就学児\",\"\")","v":""},null,null,null,null,null,null,null,null,"",null,null,"",null,null,"",null,null,"",null,null,"",null,null,"",null,null,"",null,null,"",null,null,"",null,null,"",null,null,"",null,null,"",null,null,"",null,null,null,""]
[null,10,null,"",null,null,null,null,null,null,"",null,null,null,null,null,null,"",null,null,"",null,null,null,null,null,null,{"$f":"IF($DH66=\"\",\"\",IF($U66=\"\",\"\",基礎控除!H12))","v":""},null,null,null,null,null,null,"",null,null,null,null,null,null,"",null,null,null,null,null,null,"",null,null,null,null,null,null,"",null,null,null,null,null,null,null,null,null,null,null,null,null,"",null,null,null,null,null,null,null,null,null,null,null,null,null,"",null,null,null,null,null,null,"",null,null,null,null,null,null,"",null,null,null,null,null,null,null,null,null,null,null,null,null,"",null,null,null,null,null,null,null,"",null,null,null,null,null,null,{"$f":"IF($DH66=\"\",\"\",IF(未就学児!F15=\"\",ROUNDDOWN(SUM($CM66)*SUM($DH66)/12,0),ROUNDDOWN(SUM($CM66)*SUM($DH66)/12,0)*0.5))","v":""},null,null,null,null,null,null,null,null,null,null,null,null,null,{"$f":"IF(未就学児!$F15=1,\"←未就学児\",\"\")","v":""},null,null,null,null,null,null,null,null,"",null,null,"",null,null,"",null,null,"",null,null,"",null,null,"",null,null,"",null,null,"",null,null,"",null,null,"",null,null,"",null,null,"",null,null,"",null,null,null,""]
[null,null,null,"合計",null,null,null,null,null,null,null,null,null,null,null,null,null,null,null,null,{"$f":"SUM(U57:AA66)","v":0},null,null,null,null,null,null,"*********",null,null,null,null,null,null,{"$f":"SUM(AI57:AO66)","v":0},null,null,null,null,null,null,{"$f":"SUM(AP57:AV66)","v":0},null,null,null,null,null,null,{"$f":"SUM(AW57:BC66)","v":0},null,null,null,null,null,null,{"$f":"SUM(BD57:BJ66)","v":0},null,null,null,null,null,null,null,null,null,null,null,null,null,{"$f":"SUM(BR57:BX66)","v":0},null,null,null,null,null,null,null,null,null,null,null,null,null,{"$f":"SUM(CF57:CL66)","v":0},null,null,null,null,null,null,{"$f":"SUM(CM57:CS66)","v":0},null,null,null,null,null,null,{"$f":"SUM(CT57:CZ66)","v":0},null,null,null,null,null,null,null,null,null,null,null,null,null,null,null,null,null,null,null,null,null,{"$f":"SUM(DP57:DV66)","v":0},null,null,null,null,null,null,{"$f":"SUM(DW57:EC66)","v":0},null,null,null,null,null,null,null,null,null,null,null,null,null,null,null,null,null,null,null,null,null,null,{"$f":"SUMPRODUCT((ET57:ET66=\"○\")*1)","v":0},null,null,{"$f":"SUMPRODUCT((EW57:EW66=\"○\")*1)","v":0},null,null,{"$f":"SUMPRODUCT((EZ57:EZ66=\"○\")*1)","v":0},null,null,{"$f":"SUMPRODUCT((FC57:FC66=\"○\")*1)","v":0},null,null,{"$f":"SUMPRODUCT((FF57:FF66=\"○\")*1)","v":0},null,null,{"$f":"SUMPRODUCT((FI57:FI66=\"○\")*1)","v":0},null,null,{"$f":"SUMPRODUCT((FL57:FL66=\"○\")*1)","v":0},null,null,{"$f":"SUMPRODUCT((FO57:FO66=\"○\")*1)","v":0},null,null,{"$f":"SUMPRODUCT((FR57:FR66=\"○\")*1)","v":0},null,null,{"$f":"SUMPRODUCT((FU57:FU66=\"○\")*1)","v":0},null,null,{"$f":"SUMPRODUCT((FX57:FX66=\"○\")*1)","v":0},null,null,{"$f":"SUMPRODUCT((GA57:GA66=\"○\")*1)","v":0},null,null,"***"]
[null,null,null,null,null,null,null,null,null,null,null,null,null,null,null,null,null,null,null,null,null,null,null,null,null,null,null,null,null,null,null,null,null,null,null,null,null,null,null,null,null,null,null,null,null,null,null,null,null,null,null,null,null,null,null,null,null,null,null,null,null,null,{"$f":"IF(ROUNDDOWN(SUM(BD67:BQ67),-2)>SUM($U$52),SUM($U$52),ROUNDDOWN(SUM(BD67:BQ67),-2))","v":0},null,null,null,null,null,null,null,null,null,null,null,null,null,null,null,null,null,null,null,null,null,null,null,null,null,null,null,null,null,null,null,null,null,null,null,null,null,null,null,null,"合計（Ａ＋Ｂ＋Ｃ）→",{"$f":"SUM(CT67:DG67)","v":0},null,null,null,null,null,null,null,null,null,null,null,null,null,null,null,null,null,null,null,null,null,null,null,null,null,null,null,"合計（Ａ＋Ｂ＋Ｃ）→",{"$f":"SUM(DP67:EJ67)","v":0}]
[null,null,null,null,null,null,null,null,null,null,null,null,null,null,null,null,null,null,null,null,null,null,null,null,null,null,null,null,null,null,null,null,null,null,null,null,null,null,null,null,null,null,null,null,null,null,null,null,null,null,null,null,null,null,null,null,null,null,null,null,null,null,null,null,null,null,null,null,null,null,null,null,null,null,null,null,null,null,null,null,null,null,null,null,null,null,null,null,null,null,null,null,null,null,null,null,null,null,null,null,null,null,null,"Ｄ　限度額以下（百円未満切捨て）→",{"$f":"IF(ROUNDDOWN(SUM(DA68),-2)>SUM($U$52),SUM($U$52),ROUNDDOWN(SUM(DA68),-2))","v":0},null,null,null,null,null,null,null,null,null,null,null,null,null,null,null,null,null,null,null,null,null,null,null,null,null,null,null,"Ｄ　限度額以下（百円未満切捨て）→",{"$f":"IF(ROUNDDOWN(SUM(ED68),-2)>SUM($U$52),SUM($U$52),ROUNDDOWN(SUM(ED68),-2))","v":0}]
[null,null,null,null,null,null,null,null,null,null,null,null,null,null,null,null,null,null,null,null,null,null,null,null,null,null,null,null,null,null,null,null,null,null,null,null,null,null,null,null,null,null,null,null,null,null,null,null,null,null,null,null,null,null,null,null,null,null,null,null,null,null,null,null,null,null,null,null,null,null,null,null,null,null,null,null,null,null,null,null,null,null,null,null,null,null,null,null,null,null,null,null,null,null,null,null,null,null,null,null,null,null,null,"限度超過額→",{"$f":"IF(ROUNDDOWN(SUM(DA68),-2)>SUM(DA69),SUM(DA68)-SUM(DA69),0)","v":0},null,null,null,null,null,null,null,null,null,null,null,null,null,null,null,null,null,null,null,null,null,null,null,null,null,null,null,"限度超過額→",{"$f":"IF(ROUNDDOWN(SUM(ED68),-2)>SUM(ED69),SUM(ED68)-SUM(ED69),0)","v":0}]
[]
[null,"介護保険分",null,null,null,null,null,null,null,null,"所得割",null,null,null,null,"率",null,null,null,null,2.2000000000000002,null,null,null,null,null,{"$f":"\"（前年の総所得金額－基礎控除額）×\"&IF(U72=\"\",\"\",U72)&\"％\"","v":"（前年の総所得金額－基礎控除額）×2.2％"}]
[null,null,null,null,null,null,null,null,null,null,null,null,null,null,null,"控除額",null,null,null,null,"基礎控除"]
[null,null,null,null,null,null,null,null,null,null,"均等割",null,null,null,null,null,null,null,null,null,14400,null,null,null,null,null,"←１人当たり"]
[null,null,null,null,null,null,null,null,null,null,"限度額",null,null,null,null,null,null,null,null,null,170000]
[null,null,null,null,null,null,null,null,null,null,null,null,null,null,null,null,null,null,null,null,null,null,null,null,null,null,null,null,null,null,null,null,null,null,null,null,null,null,null,null,null,null,null,null,null,null,null,null,null,null,null,null,null,null,null,null,null,null,null,null,null,null,null,null,null,null,null,null,null,{"$f":"IF($AU$5=\"\",\"\",$AU$5)","v":""}]
[null,null,null,"該当者",null,null,null,null,null,null,null,null,null,null,null,null,null,null,null,null,"課税総所得金額",null,null,null,null,null,null,null,null,null,null,null,null,null,null,null,null,null,null,null,null,"算出額（全体）",null,null,null,null,null,null,null,null,null,null,null,null,null,null,null,null,null,null,null,null,null,null,null,null,null,null,null,"軽減額(2･5･7割額)",null,null,null,null,null,null,null,null,null,null,null,null,null,"軽減後(2･5･7割後)",null,null,null,null,null,null,null,null,null,null,null,null,null,null,null,null,null,null,null,null,null,null,null,null,null,null,null,"月数",null,null,null,null,null,null,null,"月割後"]
[null,null,null,"氏　名",null,null,null,null,null,null,"生年月日",null,null,null,null,null,null,"年齢",null,null,"①",null,null,null,null,null,null,"②",null,null,null,null,null,null,"③（①－②）",null,null,null,null,null,null,{"$f":"\"④(③×\"&DBCS(U72)&\"%)\"","v":"④(③×２．２%)"},null,null,null,null,null,null,"⑤",null,null,null,null,null,null,"④＋⑤",null,null,null,null,null,null,null,null,null,null,null,null,null,"⑦",null,null,null,null,null,null,null,null,null,null,null,null,null,"Ａ＝④",null,null,null,null,null,null,"Ｂ＝⑤－⑦",null,null,null,null,null,null,"Ａ＋Ｂ",null,null,null,null,null,null,null,null,null,null,null,null,null,"該当\n月数",null,null,null,"世帯\n月数",null,null,null,"所得割",null,null,null,null,null,null,"均等割"]
[null,null,null,null,null,null,null,null,null,null,null,null,null,null,null,null,null,null,null,null,"総所得金額",null,null,null,null,null,null,"控除額",null,null,null,null,null,null,"課税所得",null,null,null,null,null,null,"所得割",null,null,null,null,null,null,"均等割",null,null,null,null,null,null,"合　計",null,null,null,null,null,null,null,null,null,null,null,null,null,"均等割",null,null,null,null,null,null,null,null,null,null,null,null,null,"所得割",null,null,null,null,null,null,"均等割",null,null,null,null,null,null,"合　計",null,null,null,null,null,null,null,null,null,null,null,null,null,null,null,null,null,null,null,null,null,null,null,null,null,null,null,null,null,null,null,null,null,null,null,null,null,null,null,null,null,null,null,null,null,null,null,null,null,null,null,4,null,null,5,null,null,6,null,null,7,null,null,8,null,null,9,null,null,10,null,null,11,null,null,12,null,null,1,null,null,2,null,null,3,null,null,"月数計",null,null,null,"備考"]
[null,1,null,{"$f":"IF($DH80=\"\",\"\",$D13)","v":""},null,null,null,null,null,null,{"$f":"IF($DH80=\"\",\"\",IF($K13=\"\",\"\",SUM($K13)))","v":""},null,null,null,null,null,null,{"$f":"IF($DH80=\"\",\"\",IF($R13=\"\",\"\",SUM($R13)))","v":""},null,null,{"$f":"IF($DH80=\"\",\"\",IF($DC13=\"\",\"\",SUM($DC13)))","v":""},null,null,null,null,null,null,{"$f":"IF($DH80=\"\",\"\",IF($U80=\"\",\"\",基礎控除!H3))","v":""},null,null,null,null,null,null,{"$f":"IF($DH80=\"\",\"\",IF($U80=\"\",\"\",IF(SUM($U80)>SUM($AB80),SUM($U80)-SUM($AB80),0)))","v":""},null,null,null,null,null,null,{"$f":"IF($DH80=\"\",\"\",ROUNDDOWN(SUM(AI80)*SUM($U$72)/100,0))","v":""},null,null,null,null,null,null,{"$f":"IF($DH80=\"\",\"\",SUM($U$74))","v":""},null,null,null,null,null,null,{"$f":"IF(SUM(AP80:BC80)=0,\"\",SUM(AP80:BC80))","v":""},null,null,null,null,null,null,null,null,null,null,null,null,null,{"$f":"IF($AU$5=\"\",\"\",IF($DH80=\"\",\"\",ROUNDDOWN(SUM($U$74)*SUM(IF($AU$5=\"２割軽減世帯\",2,IF($AU$5=\"５割軽減世帯\",5,IF($AU$5=\"７割軽減世帯\",7,\"\"))))/10,0)))","v":""},null,null,null,null,null,null,null,null,null,null,null,null,null,{"$f":"IF($DH80=\"\",\"\",SUM($AP80))","v":""},null,null,null,null,null,null,{"$f":"IF($DH80=\"\",\"\",SUM($AW80)-SUM($BR80))","v":""},null,null,null,null,null,null,{"$f":"IF(SUM(CF80:CS80)=0,\"\",SUM(CF80:CS80))","v":""},null,null,null,null,null,null,null,null,null,null,null,null,null,{"$f":"IF(GD80=\"\",\"\",SUM(GD80))","v":""},null,null,null,null,null,null,null,{"$f":"IF($DH80=\"\",\"\",ROUNDDOWN(SUM($CF80)*SUM($DH80)/12,0))","v":""},null,null,null,null,null,null,{"$f":"IF($DH80=\"\",\"\",ROUNDDOWN(SUM($CM80)*SUM($DH80)/12,0))","v":""},null,null,null,null,null,null,null,null,null,null,null,null,null,null,null,null,null,null,null,null,null,null,{"$f":"IF(KH13=\"\",\"\",IF(AND(KH13>=40,KH13<65),IF(HI34=\"○\",\"○\",\"\"),\"\"))","v":""},null,null,{"$f":"IF(KK13=\"\",\"\",IF(AND(KK13>=40,KK13<65),IF(HL34=\"○\",\"○\",\"\"),\"\"))","v":""},null,null,{"$f":"IF(KN13=\"\",\"\",IF(AND(KN13>=40,KN13<65),IF(HO34=\"○\",\"○\",\"\"),\"\"))","v":""},null,null,{"$f":"IF(KQ13=\"\",\"\",IF(AND(KQ13>=40,KQ13<65),IF(HR34=\"○\",\"○\",\"\"),\"\"))","v":""},null,null,{"$f":"IF(KT13=\"\",\"\",IF(AND(KT13>=40,KT13<65),IF(HU34=\"○\",\"○\",\"\"),\"\"))","v":""},null,null,{"$f":"IF(KW13=\"\",\"\",IF(AND(KW13>=40,KW13<65),IF(HX34=\"○\",\"○\",\"\"),\"\"))","v":""},null,null,{"$f":"IF(KZ13=\"\",\"\",IF(AND(KZ13>=40,KZ13<65),IF(IA34=\"○\",\"○\",\"\"),\"\"))","v":""},null,null,{"$f":"IF(LC13=\"\",\"\",IF(AND(LC13>=40,LC13<65),IF(ID34=\"○\",\"○\",\"\"),\"\"))","v":""},null,null,{"$f":"IF(LF13=\"\",\"\",IF(AND(LF13>=40,LF13<65),IF(IG34=\"○\",\"○\",\"\"),\"\"))","v":""},null,null,{"$f":"IF(LI13=\"\",\"\",IF(AND(LI13>=40,LI13<65),IF(IJ34=\"○\",\"○\",\"\"),\"\"))","v":""},null,null,{"$f":"IF(LL13=\"\",\"\",IF(AND(LL13>=40,LL13<65),IF(IM34=\"○\",\"○\",\"\"),\"\"))","v":""},null,null,{"$f":"IF(LO13=\"\",\"\",IF(AND(LO13>=40,LO13<65),IF(IP34=\"○\",\"○\",\"\"),\"\"))","v":""},null,null,{"$f":"IF(COUNTIF(ET80:GC80,\"○\")=0,\"\",COUNTIF(ET80:GC80,\"○\"))","v":""},null,null,null,{"$f":"IF(AND(SUM(GD13)<>0,SUM(GD80)=0),\"介護該当なし。\",IF(AND(COUNTIF(KH13:LQ13,\">=40\")>0,COUNTIF(KH13:LQ13,\">=40\")<12),\"年度途中から介護保険料該当。\",IF(SUM(GD13)=SUM(GD80),\"\",\"年度途中から介護保険料は別に納める。\")))","v":""}]
[null,2,null,"",null,null,null,null,null,null,"",null,null,null,null,null,null,"",null,null,"",null,null,null,null,null,null,{"$f":"IF($DH81=\"\",\"\",IF($U81=\"\",\"\",基礎控除!H4))","v":""},null,null,null,null,null,null,"",null,null,null,null,null,null,"",null,null,null,null,null,null,"",null,null,null,null,null,null,"",null,null,null,null,null,null,null,null,null,null,null,null,null,"",null,null,null,null,null,null,null,null,null,null,null,null,null,"",null,null,null,null,null,null,"",null,null,null,null,null,null,"",null,null,null,null,null,null,null,null,null,null,null,null,null,{"$f":"IF(GD81=\"\",\"\",SUM(GD81))","v":""},null,null,null,null,null,null,null,"",null,null,null,null,null,null,"",null,null,null,null,null,null,null,null,null,null,null,null,null,null,null,null,null,null,null,null,null,null,{"$f":"IF(KH14=\"\",\"\",IF(AND(KH14>=40,KH14<65),IF(HI35=\"○\",\"○\",\"\"),\"\"))","v":""},null,null,{"$f":"IF(KK14=\"\",\"\",IF(AND(KK14>=40,KK14<65),IF(HL35=\"○\",\"○\",\"\"),\"\"))","v":""},null,null,{"$f":"IF(KN14=\"\",\"\",IF(AND(KN14>=40,KN14<65),IF(HO35=\"○\",\"○\",\"\"),\"\"))","v":""},null,null,{"$f":"IF(KQ14=\"\",\"\",IF(AND(KQ14>=40,KQ14<65),IF(HR35=\"○\",\"○\",\"\"),\"\"))","v":""},null,null,{"$f":"IF(KT14=\"\",\"\",IF(AND(KT14>=40,KT14<65),IF(HU35=\"○\",\"○\",\"\"),\"\"))","v":""},null,null,{"$f":"IF(KW14=\"\",\"\",IF(AND(KW14>=40,KW14<65),IF(HX35=\"○\",\"○\",\"\"),\"\"))","v":""},null,null,{"$f":"IF(KZ14=\"\",\"\",IF(AND(KZ14>=40,KZ14<65),IF(IA35=\"○\",\"○\",\"\"),\"\"))","v":""},null,null,{"$f":"IF(LC14=\"\",\"\",IF(AND(LC14>=40,LC14<65),IF(ID35=\"○\",\"○\",\"\"),\"\"))","v":""},null,null,{"$f":"IF(LF14=\"\",\"\",IF(AND(LF14>=40,LF14<65),IF(IG35=\"○\",\"○\",\"\"),\"\"))","v":""},null,null,{"$f":"IF(LI14=\"\",\"\",IF(AND(LI14>=40,LI14<65),IF(IJ35=\"○\",\"○\",\"\"),\"\"))","v":""},null,null,{"$f":"IF(LL14=\"\",\"\",IF(AND(LL14>=40,LL14<65),IF(IM35=\"○\",\"○\",\"\"),\"\"))","v":""},null,null,{"$f":"IF(LO14=\"\",\"\",IF(AND(LO14>=40,LO14<65),IF(IP35=\"○\",\"○\",\"\"),\"\"))","v":""},null,null,{"$f":"IF(COUNTIF(ET81:GC81,\"○\")=0,\"\",COUNTIF(ET81:GC81,\"○\"))","v":""},null,null,null,""]
[null,3,null,"",null,null,null,null,null,null,"",null,null,null,null,null,null,"",null,null,"",null,null,null,null,null,null,{"$f":"IF($DH82=\"\",\"\",IF($U82=\"\",\"\",基礎控除!H5))","v":""},null,null,null,null,null,null,"",null,null,null,null,null,null,"",null,null,null,null,null,null,"",null,null,null,null,null,null,"",null,null,null,null,null,null,null,null,null,null,null,null,null,"",null,null,null,null,null,null,null,null,null,null,null,null,null,"",null,null,null,null,null,null,"",null,null,null,null,null,null,"",null,null,null,null,null,null,null,null,null,null,null,null,null,{"$f":"IF(GD82=\"\",\"\",SUM(GD82))","v":""},null,null,null,null,null,null,null,"",null,null,null,null,null,null,"",null,null,null,null,null,null,null,null,null,null,null,null,null,null,null,null,null,null,null,null,null,null,{"$f":"IF(KH15=\"\",\"\",IF(AND(KH15>=40,KH15<65),IF(HI36=\"○\",\"○\",\"\"),\"\"))","v":""},null,null,{"$f":"IF(KK15=\"\",\"\",IF(AND(KK15>=40,KK15<65),IF(HL36=\"○\",\"○\",\"\"),\"\"))","v":""},null,null,{"$f":"IF(KN15=\"\",\"\",IF(AND(KN15>=40,KN15<65),IF(HO36=\"○\",\"○\",\"\"),\"\"))","v":""},null,null,{"$f":"IF(KQ15=\"\",\"\",IF(AND(KQ15>=40,KQ15<65),IF(HR36=\"○\",\"○\",\"\"),\"\"))","v":""},null,null,{"$f":"IF(KT15=\"\",\"\",IF(AND(KT15>=40,KT15<65),IF(HU36=\"○\",\"○\",\"\"),\"\"))","v":""},null,null,{"$f":"IF(KW15=\"\",\"\",IF(AND(KW15>=40,KW15<65),IF(HX36=\"○\",\"○\",\"\"),\"\"))","v":""},null,null,{"$f":"IF(KZ15=\"\",\"\",IF(AND(KZ15>=40,KZ15<65),IF(IA36=\"○\",\"○\",\"\"),\"\"))","v":""},null,null,{"$f":"IF(LC15=\"\",\"\",IF(AND(LC15>=40,LC15<65),IF(ID36=\"○\",\"○\",\"\"),\"\"))","v":""},null,null,{"$f":"IF(LF15=\"\",\"\",IF(AND(LF15>=40,LF15<65),IF(IG36=\"○\",\"○\",\"\"),\"\"))","v":""},null,null,{"$f":"IF(LI15=\"\",\"\",IF(AND(LI15>=40,LI15<65),IF(IJ36=\"○\",\"○\",\"\"),\"\"))","v":""},null,null,{"$f":"IF(LL15=\"\",\"\",IF(AND(LL15>=40,LL15<65),IF(IM36=\"○\",\"○\",\"\"),\"\"))","v":""},null,null,{"$f":"IF(LO15=\"\",\"\",IF(AND(LO15>=40,LO15<65),IF(IP36=\"○\",\"○\",\"\"),\"\"))","v":""},null,null,{"$f":"IF(COUNTIF(ET82:GC82,\"○\")=0,\"\",COUNTIF(ET82:GC82,\"○\"))","v":""},null,null,null,""]
[null,4,null,"",null,null,null,null,null,null,"",null,null,null,null,null,null,"",null,null,"",null,null,null,null,null,null,{"$f":"IF($DH83=\"\",\"\",IF($U83=\"\",\"\",基礎控除!H6))","v":""},null,null,null,null,null,null,"",null,null,null,null,null,null,"",null,null,null,null,null,null,"",null,null,null,null,null,null,"",null,null,null,null,null,null,null,null,null,null,null,null,null,"",null,null,null,null,null,null,null,null,null,null,null,null,null,"",null,null,null,null,null,null,"",null,null,null,null,null,null,"",null,null,null,null,null,null,null,null,null,null,null,null,null,"",null,null,null,null,null,null,null,"",null,null,null,null,null,null,"",null,null,null,null,null,null,null,null,null,null,null,null,null,null,null,null,null,null,null,null,null,null,"",null,null,"",null,null,"",null,null,"",null,null,"",null,null,"",null,null,"",null,null,"",null,null,"",null,null,"",null,null,"",null,null,"",null,null,"",null,null,null,""]
[null,5,null,"",null,null,null,null,null,null,"",null,null,null,null,null,null,"",null,null,"",null,null,null,null,null,null,{"$f":"IF($DH84=\"\",\"\",IF($U84=\"\",\"\",基礎控除!H7))","v":""},null,null,null,null,null,null,"",null,null,null,null,null,null,"",null,null,null,null,null,null,"",null,null,null,null,null,null,"",null,null,null,null,null,null,null,null,null,null,null,null,null,"",null,null,null,null,null,null,null,null,null,null,null,null,null,"",null,null,null,null,null,null,"",null,null,null,null,null,null,"",null,null,null,null,null,null,null,null,null,null,null,null,null,"",null,null,null,null,null,null,null,"",null,null,null,null,null,null,"",null,null,null,null,null,null,null,null,null,null,null,null,null,null,null,null,null,null,null,null,null,null,"",null,null,"",null,null,"",null,null,"",null,null,"",null,null,"",null,null,"",null,null,"",null,null,"",null,null,"",null,null,"",null,null,"",null,null,"",null,null,null,""]
[null,6,null,"",null,null,null,null,null,null,"",null,null,null,null,null,null,"",null,null,"",null,null,null,null,null,null,{"$f":"IF($DH85=\"\",\"\",IF($U85=\"\",\"\",基礎控除!H8))","v":""},null,null,null,null,null,null,"",null,null,null,null,null,null,"",null,null,null,null,null,null,"",null,null,null,null,null,null,"",null,null,null,null,null,null,null,null,null,null,null,null,null,"",null,null,null,null,null,null,null,null,null,null,null,null,null,"",null,null,null,null,null,null,"",null,null,null,null,null,null,"",null,null,null,null,null,null,null,null,null,null,null,null,null,"",null,null,null,null,null,null,null,"",null,null,null,null,null,null,"",null,null,null,null,null,null,null,null,null,null,null,null,null,null,null,null,null,null,null,null,null,null,"",null,null,"",null,null,"",null,null,"",null,null,"",null,null,"",null,null,"",null,null,"",null,null,"",null,null,"",null,null,"",null,null,"",null,null,"",null,null,null,""]
[null,7,null,"",null,null,null,null,null,null,"",null,null,null,null,null,null,"",null,null,"",null,null,null,null,null,null,{"$f":"IF($DH86=\"\",\"\",IF($U86=\"\",\"\",基礎控除!H9))","v":""},null,null,null,null,null,null,"",null,null,null,null,null,null,"",null,null,null,null,null,null,"",null,null,null,null,null,null,"",null,null,null,null,null,null,null,null,null,null,null,null,null,"",null,null,null,null,null,null,null,null,null,null,null,null,null,"",null,null,null,null,null,null,"",null,null,null,null,null,null,"",null,null,null,null,null,null,null,null,null,null,null,null,null,"",null,null,null,null,null,null,null,"",null,null,null,null,null,null,"",null,null,null,null,null,null,null,null,null,null,null,null,null,null,null,null,null,null,null,null,null,null,"",null,null,"",null,null,"",null,null,"",null,null,"",null,null,"",null,null,"",null,null,"",null,null,"",null,null,"",null,null,"",null,null,"",null,null,"",null,null,null,""]
[null,8,null,"",null,null,null,null,null,null,"",null,null,null,null,null,null,"",null,null,"",null,null,null,null,null,null,{"$f":"IF($DH87=\"\",\"\",IF($U87=\"\",\"\",基礎控除!H10))","v":""},null,null,null,null,null,null,"",null,null,null,null,null,null,"",null,null,null,null,null,null,"",null,null,null,null,null,null,"",null,null,null,null,null,null,null,null,null,null,null,null,null,"",null,null,null,null,null,null,null,null,null,null,null,null,null,"",null,null,null,null,null,null,"",null,null,null,null,null,null,"",null,null,null,null,null,null,null,null,null,null,null,null,null,"",null,null,null,null,null,null,null,"",null,null,null,null,null,null,"",null,null,null,null,null,null,null,null,null,null,null,null,null,null,null,null,null,null,null,null,null,null,"",null,null,"",null,null,"",null,null,"",null,null,"",null,null,"",null,null,"",null,null,"",null,null,"",null,null,"",null,null,"",null,null,"",null,null,"",null,null,null,""]
[null,9,null,"",null,null,null,null,null,null,"",null,null,null,null,null,null,"",null,null,"",null,null,null,null,null,null,{"$f":"IF($DH88=\"\",\"\",IF($U88=\"\",\"\",基礎控除!H11))","v":""},null,null,null,null,null,null,"",null,null,null,null,null,null,"",null,null,null,null,null,null,"",null,null,null,null,null,null,"",null,null,null,null,null,null,null,null,null,null,null,null,null,"",null,null,null,null,null,null,null,null,null,null,null,null,null,"",null,null,null,null,null,null,"",null,null,null,null,null,null,"",null,null,null,null,null,null,null,null,null,null,null,null,null,"",null,null,null,null,null,null,null,"",null,null,null,null,null,null,"",null,null,null,null,null,null,null,null,null,null,null,null,null,null,null,null,null,null,null,null,null,null,"",null,null,"",null,null,"",null,null,"",null,null,"",null,null,"",null,null,"",null,null,"",null,null,"",null,null,"",null,null,"",null,null,"",null,null,"",null,null,null,""]
[null,10,null,"",null,null,null,null,null,null,"",null,null,null,null,null,null,"",null,null,"",null,null,null,null,null,null,{"$f":"IF($DH89=\"\",\"\",IF($U89=\"\",\"\",基礎控除!H12))","v":""},null,null,null,null,null,null,"",null,null,null,null,null,null,"",null,null,null,null,null,null,"",null,null,null,null,null,null,"",null,null,null,null,null,null,null,null,null,null,null,null,null,"",null,null,null,null,null,null,null,null,null,null,null,null,null,"",null,null,null,null,null,null,"",null,null,null,null,null,null,"",null,null,null,null,null,null,null,null,null,null,null,null,null,"",null,null,null,null,null,null,null,"",null,null,null,null,null,null,"",null,null,null,null,null,null,null,null,null,null,null,null,null,null,null,null,null,null,null,null,null,null,"",null,null,"",null,null,"",null,null,"",null,null,"",null,null,"",null,null,"",null,null,"",null,null,"",null,null,"",null,null,"",null,null,"",null,null,"",null,null,null,""]
[null,null,null,"合計",null,null,null,null,null,null,null,null,null,null,null,null,null,null,null,null,{"$f":"SUM(U80:AA89)","v":0},null,null,null,null,null,null,"*********",null,null,null,null,null,null,{"$f":"SUM(AI80:AO89)","v":0},null,null,null,null,null,null,{"$f":"SUM(AP80:AV89)","v":0},null,null,null,null,null,null,{"$f":"SUM(AW80:BC89)","v":0},null,null,null,null,null,null,{"$f":"SUM(BD80:BJ89)","v":0},null,null,null,null,null,null,null,null,null,null,null,null,null,{"$f":"SUM(BR80:BX89)","v":0},null,null,null,null,null,null,null,null,null,null,null,null,null,{"$f":"SUM(CF80:CL89)","v":0},null,null,null,null,null,null,{"$f":"SUM(CM80:CS89)","v":0},null,null,null,null,null,null,{"$f":"SUM(CT80:CZ89)","v":0},null,null,null,null,null,null,null,null,null,null,null,null,null,null,null,null,null,null,null,null,null,{"$f":"SUM(DP80:DV89)","v":0},null,null,null,null,null,null,{"$f":"SUM(DW80:EC89)","v":0},null,null,null,null,null,null,null,null,null,null,null,null,null,null,null,null,null,null,null,null,null,null,{"$f":"SUMPRODUCT((ET80:ET89=\"○\")*1)","v":0},null,null,{"$f":"SUMPRODUCT((EW80:EW89=\"○\")*1)","v":0},null,null,{"$f":"SUMPRODUCT((EZ80:EZ89=\"○\")*1)","v":0},null,null,{"$f":"SUMPRODUCT((FC80:FC89=\"○\")*1)","v":0},null,null,{"$f":"SUMPRODUCT((FF80:FF89=\"○\")*1)","v":0},null,null,{"$f":"SUMPRODUCT((FI80:FI89=\"○\")*1)","v":0},null,null,{"$f":"SUMPRODUCT((FL80:FL89=\"○\")*1)","v":0},null,null,{"$f":"SUMPRODUCT((FO80:FO89=\"○\")*1)","v":0},null,null,{"$f":"SUMPRODUCT((FR80:FR89=\"○\")*1)","v":0},null,null,{"$f":"SUMPRODUCT((FU80:FU89=\"○\")*1)","v":0},null,null,{"$f":"SUMPRODUCT((FX80:FX89=\"○\")*1)","v":0},null,null,{"$f":"SUMPRODUCT((GA80:GA89=\"○\")*1)","v":0},null,null,"***"]
[null,null,null,null,null,null,null,null,null,null,null,null,null,null,null,null,null,null,null,null,null,null,null,null,null,null,null,null,null,null,null,null,null,null,null,null,null,null,null,null,null,null,null,null,null,null,null,null,null,null,null,null,null,null,null,null,null,null,null,null,null,null,{"$f":"IF(ROUNDDOWN(SUM(BD90:BQ90),-2)>SUM($U$75),SUM($U$75),ROUNDDOWN(SUM(BD90:BQ90),-2))","v":0},null,null,null,null,null,null,null,null,null,null,null,null,null,null,null,null,null,null,null,null,null,null,null,null,null,null,null,null,null,null,null,null,null,null,null,null,null,null,null,null,"合計（Ａ＋Ｂ＋Ｃ）→",{"$f":"SUM(CT90:DG90)","v":0},null,null,null,null,null,null,null,null,null,null,null,null,null,null,null,null,null,null,null,null,null,null,null,null,null,null,null,"合計（Ａ＋Ｂ＋Ｃ）→",{"$f":"SUM(DP90:EJ90)","v":0}]
[null,null,null,null,null,null,null,null,null,null,null,null,null,null,null,null,null,null,null,null,null,null,null,null,null,null,null,null,null,null,null,null,null,null,null,null,null,null,null,null,null,null,null,null,null,null,null,null,null,null,null,null,null,null,null,null,null,null,null,null,null,null,null,null,null,null,null,null,null,null,null,null,null,null,null,null,null,null,null,null,null,null,null,null,null,null,null,null,null,null,null,null,null,null,null,null,null,null,null,null,null,null,null,"Ｄ　限度額以下（百円未満切捨て）→",{"$f":"IF(ROUNDDOWN(SUM(DA91),-2)>SUM($U$75),SUM($U$75),ROUNDDOWN(SUM(DA91),-2))","v":0},null,null,null,null,null,null,null,null,null,null,null,null,null,null,null,null,null,null,null,null,null,null,null,null,null,null,null,"Ｄ　限度額以下（百円未満切捨て）→",{"$f":"IF(ROUNDDOWN(SUM(ED91),-2)>SUM($U$75),SUM($U$75),ROUNDDOWN(SUM(ED91),-2))","v":0}]
[null,null,null,null,null,null,null,null,null,null,null,null,null,null,null,null,null,null,null,null,null,null,null,null,null,null,null,null,null,null,null,null,null,null,null,null,null,null,null,null,null,null,null,null,null,null,null,null,null,null,null,null,null,null,null,null,null,null,null,null,null,null,null,null,null,null,null,null,null,null,null,null,null,null,null,null,null,null,null,null,null,null,null,null,null,null,null,null,null,null,null,null,null,null,null,null,null,null,null,null,null,null,null,"限度超過額→",{"$f":"IF(ROUNDDOWN(SUM(DA91),-2)>SUM(DA92),SUM(DA91)-SUM(DA92),0)","v":0},null,null,null,null,null,null,null,null,null,null,null,null,null,null,null,null,null,null,null,null,null,null,null,null,null,null,null,"限度超過額→",{"$f":"IF(ROUNDDOWN(SUM(ED91),-2)>SUM(ED92),SUM(ED91)-SUM(ED92),0)","v":0}]
[]
[null,null,null,{"$f":"\"令和\"&DBCS(基本項目!$B$3)&\"年度　国民健康保険税　簡易計算（概算）\"","v":"令和６年度　国民健康保険税　簡易計算（概算）"}]
[]
[null,null,null,"医療\n保険分",null,null,null,null,null,null,null,null,null,null,null,null,null,null,null,null,null,null,null,null,null,"後期高齢者\n支援金分",null,null,null,null,null,null,null,null,null,null,null,null,null,null,null,null,null,null,null,null,null,"介護保険分",null,null,null,null,null,null,null,null,null,null,null,null,null,null,null,null,null,null,null,null,null,"合計",null,null,null,null,null,null,null,null,null,null,null,null,null,null,null,null,null,null,null,null,null,null,null,"試算した結果は、実際の保険料額を保証するものではございません。\n参考としてご利用ください。"]
[]
[]
[]
[null,null,null,{"$f":"SUM(入力!ED46)","v":0},null,null,null,null,null,null,null,null,null,null,null,null,null,null,null,null,null,null,null,null,null,{"$f":"SUM(入力!ED69)","v":0},null,null,null,null,null,null,null,null,null,null,null,null,null,null,null,null,null,null,null,null,null,{"$f":"SUM(入力!ED92)","v":0},null,null,null,null,null,null,null,null,null,null,null,null,null,null,null,null,null,null,null,null,null,{"$f":"SUM(D101:BQ102)","v":0}]
[]
[]
[null,null,null,"納期",null,null,null,null,null,null,null,null,null,null,null,"保険税",null,null,null,null,null,null,null,null,null,null,null,"納期限",null,null,null,null,null,null,null,null,null,null,null,null,null,null,null,null,null,null,null,"納期",null,null,null,null,null,null,null,null,null,null,null,"保険税",null,null,null,null,null,null,null,null,null,null,null,"納期限"]
[]
[null,null,null,"第１期",null,null,null,null,null,null,null,null,null,null,null,{"$f":"IF(印刷用【簡易版】!BC4=\"\",\"\",印刷用【簡易版】!BC4)","v":""},null,null,null,null,null,null,null,null,null,null,null,{"$f":"IF(印刷用【簡易版】!BK4=\"\",\"\",印刷用【簡易版】!BK4)","v":""},null,null,null,null,null,null,null,null,null,null,null,null,null,null,null,null,null,null,null,"第６期",null,null,null,null,null,null,null,null,null,null,null,{"$f":"IF(印刷用【簡易版】!CD4=\"\",\"\",印刷用【簡易版】!CD4)","v":""},null,null,null,null,null,null,null,null,null,null,null,{"$f":"IF(印刷用【簡易版】!CL4=\"\",\"\",印刷用【簡易版】!CL4)","v":""}]
[]
[null,null,null,"第２期",null,null,null,null,null,null,null,null,null,null,null,{"$f":"IF(印刷用【簡易版】!BC5=\"\",\"\",印刷用【簡易版】!BC5)","v":""},null,null,null,null,null,null,null,null,null,null,null,{"$f":"IF(印刷用【簡易版】!BK5=\"\",\"\",印刷用【簡易版】!BK5)","v":""},null,null,null,null,null,null,null,null,null,null,null,null,null,null,null,null,null,null,null,"第７期",null,null,null,null,null,null,null,null,null,null,null,{"$f":"IF(印刷用【簡易版】!CD5=\"\",\"\",印刷用【簡易版】!CD5)","v":""},null,null,null,null,null,null,null,null,null,null,null,{"$f":"IF(印刷用【簡易版】!CL5=\"\",\"\",印刷用【簡易版】!CL5)","v":""}]
[]
[null,null,null,"第３期",null,null,null,null,null,null,null,null,null,null,null,{"$f":"IF(印刷用【簡易版】!BC6=\"\",\"\",印刷用【簡易版】!BC6)","v":""},null,null,null,null,null,null,null,null,null,null,null,{"$f":"IF(印刷用【簡易版】!BK6=\"\",\"\",印刷用【簡易版】!BK6)","v":""},null,null,null,null,null,null,null,null,null,null,null,null,null,null,null,null,null,null,null,"第８期",null,null,null,null,null,null,null,null,null,null,null,{"$f":"IF(印刷用【簡易版】!CD6=\"\",\"\",印刷用【簡易版】!CD6)","v":""},null,null,null,null,null,null,null,null,null,null,null,{"$f":"IF(印刷用【簡易版】!CL6=\"\",\"\",印刷用【簡易版】!CL6)","v":""}]
[]
[null,null,null,"第４期",null,null,null,null,null,null,null,null,null,null,null,{"$f":"IF(印刷用【簡易版】!BC7=\"\",\"\",印刷用【簡易版】!BC7)","v":""},null,null,null,null,null,null,null,null,null,null,null,{"$f":"IF(印刷用【簡易版】!BK7=\"\",\"\",印刷用【簡易版】!BK7)","v":""},null,null,null,null,null,null,null,null,null,null,null,null,null,null,null,null,null,null,null,"随時期",null,null,null,null,null,null,null,null,null,null,null,{"$f":"IF(印刷用【簡易版】!CD7=\"\",\"\",印刷用【簡易版】!CD7)","v":""},null,null,null,null,null,null,null,null,null,null,null,{"$f":"IF(印刷用【簡易版】!CL7=\"\",\"\",印刷用【簡易版】!CL7)","v":""}]
[]
[null,null,null,"第５期",null,null,null,null,null,null,null,null,null,null,null,{"$f":"IF(印刷用【簡易版】!BC8=\"\",\"\",印刷用【簡易版】!BC8)","v":""},null,null,null,null,null,null,null,null,null,null,null,{"$f":"IF(印刷用【簡易版】!BK8=\"\",\"\",印刷用【簡易版】!BK8)","v":""},null,null,null,null,null,null,null,null,null,null,null,null,null,null,null,null,null,null,null,"合　計",null,null,null,null,null,null,null,null,null,null,null,{"$f":"IF(AND(COUNT(P106:AA115,BH106:BS113)=0,SUM(P106:AA115,BH106:BS113)=0),\"\",SUM(P106:AA115,BH106:BS113))","v":""}]

{"sheet":"印刷用【簡易版】","index":2,"n_rows":26,"n_cols":90,"rows_kept":26,"cut":false,"hidden":true,"merged":[[7,47,7,53],[2,47,2,53],[3,47,3,53],[4,47,4,53],[5,47,5,53],[6,47,6,53],[2,54,2,61],[2,62,2,73],[3,54,3,61],[3,62,3,73],[4,54,4,61],[4,62,4,73],[5,54,5,61],[5,62,5,73],[6,54,6,61],[6,62,6,73],[7,54,7,61],[7,62,7,73],[2,74,2,80],[2,81,2,88],[2,89,2,100],[3,74,3,80],[3,81,3,88],[22,76,25,100],[3,89,3,100],[6,74,6,80],[6,81,6,88],[6,89,6,100],[7,74,7,80],[7,81,7,88],[7,89,7,100],[4,74,4,80],[4,81,4,88],[4,89,4,100],[5,74,5,80],[5,81,5,88],[5,89,5,100],[24,58,24,75],[20,62,20,68],[20,69,20,75],[17,58,17,61],[17,62,17,68],[25,3,25,14],[25,15,25,75],[12,76,12,100],[10,76,11,100],[13,76,13,100],[14,76,14,100],[15,76,15,100],[16,76,16,100],[17,76,17,100],[18,76,18,100],[19,76,19,100],[20,76,20,100],[21,76,21,100],[21,58,21,61],[21,62,21,68],[21,69,21,75],[22,58,23,61],[22,62,22,68],[22,69,22,75],[23,62,23,75],[19,58,19,61],[19,62,19,68],[19,69,19,75],[20,58,20,61],[17,69,17,75],[18,58,18,61],[18,62,18,68],[18,69,18,75],[15,58,15,61],[15,62,15,68],[15,69,15,75],[16,58,16,61],[16,62,16,68],[16,69,16,75],[13,58,13,61],[13,62,13,68],[13,69,13,75],[14,58,14,61],[14,62,14,68],[14,69,14,75],[22,51,22,57],[22,3,23,14],[24,3,24,14],[22,15,23,18],[24,15,24,39],[22,40,23,43],[23,44,23,57],[24,40,24,57],[19,51,19,57],[20,40,20,43],[20,44,20,50],[20,51,20,57],[21,40,21,43],[21,44,21,50],[21,51,21,57],[16,51,16,57],[17,40,17,43],[17,44,17,50],[17,51,17,57],[18,40,18,43],[18,44,18,50],[18,51,18,57],[13,51,13,57],[14,40,14,43],[14,44,14,50],[14,51,14,57],[15,40,15,43],[15,44,15,50],[15,51,15,57],[23,19,23,39],[13,40,13,43],[13,44,13,50],[16,40,16,43],[16,44,16,50],[19,40,19,43],[19,44,19,50],[22,44,22,50],[19,26,19,32],[20,26,20,32],[21,26,21,32],[22,26,22,32],[22,33,22,39],[14,26,14,32],[15,26,15,32],[16,26,16,32],[17,26,17,32],[18,26,18,32],[22,19,22,25],[21,11,21,14],[21,15,21,18],[13,19,13,25],[14,19,14,25],[15,19,15,25],[16,19,16,25],[17,19,17,25],[18,19,18,25],[19,19,19,25],[20,19,20,25],[21,19,21,25],[19,11,19,14],[19,15,19,18],[20,11,20,14],[20,15,20,18],[17,11,17,14],[17,15,17,18],[18,11,18,14],[18,15,18,18],[15,11,15,14],[15,15,15,18],[16,11,16,14],[16,15,16,18],[13,11,13,14],[18,1,18,2],[19,1,19,2],[20,1,20,2],[21,1,21,2],[21,3,21,10],[13,1,13,2],[14,1,14,2],[15,1,15,2],[16,1,16,2],[17,1,17,2],[19,3,19,10],[20,3,20,10],[17,3,17,10],[18,3,18,10],[15,3,15,10],[16,3,16,10],[13,3,13,10],[6,39,6,45],[2,25,2,31],[4,3,4,24],[2,3,2,24],[3,3,3,24],[3,32,3,38],[4,32,4,38],[6,32,6,38],[5,3,5,24],[6,3,6,24],[5,32,5,38],[4,25,4,31],[5,25,5,31],[6,25,6,31],[3,25,3,31],[2,32,2,38],[2,39,2,45],[5,39,5,45],[3,39,3,45],[4,39,4,45],[11,33,11,39],[12,26,12,32],[10,11,11,14],[10,3,11,10],[12,11,12,14],[12,3,12,10],[12,19,12,25],[13,15,13,18],[14,3,14,10],[14,11,14,14],[14,15,14,18],[12,1,12,2],[12,33,21,39],[13,26,13,32],[11,58,11,61],[12,58,12,61],[10,40,10,57],[10,58,10,75],[7,25,7,45],[11,62,11,68],[11,69,11,75],[12,62,12,68],[12,69,12,75],[12,44,12,50],[11,44,11,50],[11,51,11,57],[12,51,12,57],[7,3,7,24],[12,15,12,18],[10,15,10,39],[11,15,11,18],[11,40,11,43],[12,40,12,43],[11,19,11,25],[11,26,11,32]]}
[null,{"$f":"\"令和\"&DBCS(基本項目!$B$3)&\"年度　国民健康保険税　簡易計算（概算）\"","v":"令和６年度　国民健康保険税　簡易計算（概算）"}]
[null,null,"《税率等》"]
[null,null,null,"区分",null,null,null,null,null,null,null,null,null,null,null,null,null,null,null,null,null,null,null,null,null,"医療保険分",null,null,null,null,null,null,"後期高齢者\n支援金分",null,null,null,null,null,null,"医療保険分",null,null,null,null,null,null,null,"納期",null,null,null,null,null,null,"保険税",null,null,null,null,null,null,null,"納期限",null,null,null,null,null,null,null,null,null,null,null,"納期",null,null,null,null,null,null,"保険税",null,null,null,null,null,null,null,"納期限"]
[null,null,null,"所得割(％)\n　※（前年の総所得金額－基礎控除額）×率",null,null,null,null,null,null,null,null,null,null,null,null,null,null,null,null,null,null,null,null,null,{"$f":"IF(入力!U25=\"\",\"\",入力!U25)","v":6.4},null,null,null,null,null,null,{"$f":"IF(入力!U49=\"\",\"\",入力!U49)","v":2.75},null,null,null,null,null,null,{"$f":"IF(入力!U72=\"\",\"\",入力!U72)","v":2.2000000000000002},null,null,null,null,null,null,null,"第１期",null,null,null,null,null,null,{"$f":"IF(基本項目!$M3=\"\",\"\",SUM(基本項目!$M3))","v":""},null,null,null,null,null,null,null,{"$f":"IF($BC4=\"\",\"\",IF(基本項目!$H3=\"\",\"\",基本項目!$H3))","v":""},null,null,null,null,null,null,null,null,null,null,null,"第６期",null,null,null,null,null,null,{"$f":"IF(基本項目!$M8=\"\",\"\",SUM(基本項目!$M8))","v":""},null,null,null,null,null,null,null,{"$f":"IF($CD4=\"\",\"\",IF(基本項目!$H8=\"\",\"\",基本項目!$H8))","v":""}]
[null,null,null,"均等割(円)　※１人当たり",null,null,null,null,null,null,null,null,null,null,null,null,null,null,null,null,null,null,null,null,null,{"$f":"IF(入力!U27=\"\",\"\",入力!U27)","v":20400},null,null,null,null,null,null,{"$f":"IF(入力!U51=\"\",\"\",入力!U51)","v":14400},null,null,null,null,null,null,{"$f":"IF(入力!U74=\"\",\"\",入力!U74)","v":14400},null,null,null,null,null,null,null,"第２期",null,null,null,null,null,null,{"$f":"IF(基本項目!$M4=\"\",\"\",SUM(基本項目!$M4))","v":""},null,null,null,null,null,null,null,{"$f":"IF($BC5=\"\",\"\",IF(基本項目!$H4=\"\",\"\",基本項目!$H4))","v":""},null,null,null,null,null,null,null,null,null,null,null,"第７期",null,null,null,null,null,null,{"$f":"IF(基本項目!$M9=\"\",\"\",SUM(基本項目!$M9))","v":""},null,null,null,null,null,null,null,{"$f":"IF($CD5=\"\",\"\",IF(基本項目!$H9=\"\",\"\",基本項目!$H9))","v":""}]
[null,null,null,"平等割(円)　※１世帯当たり",null,null,null,null,null,null,null,null,null,null,null,null,null,null,null,null,null,null,null,null,null,{"$f":"IF(入力!U28=\"\",\"\",入力!U28)","v":21000},null,null,null,null,null,null,null,null,null,null,null,null,null,null,null,null,null,null,null,null,null,"第３期",null,null,null,null,null,null,{"$f":"IF(基本項目!$M5=\"\",\"\",SUM(基本項目!$M5))","v":""},null,null,null,null,null,null,null,{"$f":"IF($BC6=\"\",\"\",IF(基本項目!$H5=\"\",\"\",基本項目!$H5))","v":""},null,null,null,null,null,null,null,null,null,null,null,"第８期",null,null,null,null,null,null,{"$f":"IF(基本項目!$M10=\"\",\"\",SUM(基本項目!$M10))","v":""},null,null,null,null,null,null,null,{"$f":"IF($CD6=\"\",\"\",IF(基本項目!$H10=\"\",\"\",基本項目!$H10))","v":""}]
[null,null,null,"限度額(円)",null,null,null,null,null,null,null,null,null,null,null,null,null,null,null,null,null,null,null,null,null,{"$f":"IF(入力!U29=\"\",\"\",入力!U29)","v":650000},null,null,null,null,null,null,{"$f":"IF(入力!U52=\"\",\"\",入力!U52)","v":240000},null,null,null,null,null,null,{"$f":"IF(入力!U75=\"\",\"\",入力!U75)","v":170000},null,null,null,null,null,null,null,"第４期",null,null,null,null,null,null,{"$f":"IF(基本項目!$M6=\"\",\"\",SUM(基本項目!$M6))","v":""},null,null,null,null,null,null,null,{"$f":"IF($BC7=\"\",\"\",IF(基本項目!$H6=\"\",\"\",基本項目!$H6))","v":""},null,null,null,null,null,null,null,null,null,null,null,"随時期",null,null,null,null,null,null,{"$f":"IF(基本項目!$M11=\"\",IF(基本項目!$M12=\"\",\"\",SUM(基本項目!$M12)),SUM(基本項目!$M11))","v":""},null,null,null,null,null,null,null,{"$f":"IF($CD7=\"\",\"\",IF(基本項目!$M11=\"\",IF(基本項目!$M12=\"\",\"\",基本項目!$H12),基本項目!$H11))","v":""}]
[null,null,null,"限度額合計(円)",null,null,null,null,null,null,null,null,null,null,null,null,null,null,null,null,null,null,null,null,null,{"$f":"SUM(Z7:AT7)","v":1060000},null,null,null,null,null,null,null,null,null,null,null,null,null,null,null,null,null,null,null,null,null,"第５期",null,null,null,null,null,null,{"$f":"IF(基本項目!$M7=\"\",\"\",SUM(基本項目!$M7))","v":""},null,null,null,null,null,null,null,{"$f":"IF($BC8=\"\",\"\",IF(基本項目!$H7=\"\",\"\",基本項目!$H7))","v":""},null,null,null,null,null,null,null,null,null,null,null,"合　計",null,null,null,null,null,null,{"$f":"IF(AND(COUNT(BC4:BJ8,CD4:CK7)=0,SUM(BC4:BJ8,CD4:CK7)=0),\"\",SUM(BC4:BJ8,CD4:CK7))","v":""}]
[]
[null,null,"《軽減及び月割後》"]
[null,null,null,"氏　　名",null,null,null,null,null,null,null,"年齢",null,null,null,"医療保険分",null,null,null,null,null,null,null,null,null,null,null,null,null,null,null,null,null,null,null,null,null,null,null,null,"後期高齢者支援金分",null,null,null,null,null,null,null,null,null,null,null,null,null,null,null,null,null,"介護保険分",null,null,null,null,null,null,null,null,null,null,null,null,null,null,null,null,null,"備考"]
[null,null,null,null,null,null,null,null,null,null,null,null,null,null,null,"月数",null,null,null,"所得割",null,null,null,null,null,null,"均等割",null,null,null,null,null,null,"平等割",null,null,null,null,null,null,"月数",null,null,null,"所得割",null,null,null,null,null,null,"均等割",null,null,null,null,null,null,"月数",null,null,null,"所得割",null,null,null,null,null,null,"均等割"]
[null,1,null,{"$f":"IF(入力!$D13=\"\",\"\",入力!$D13)","v":""},null,null,null,null,null,null,null,{"$f":"IF(入力!$R13=\"\",\"\",入力!$R13)","v":""},null,null,null,{"$f":"IF(入力!$DH34=\"\",\"\",入力!$DH34)","v":""},null,null,null,{"$f":"IF(入力!$DP34=\"\",\"\",入力!$DP34)","v":""},null,null,null,null,null,null,{"$f":"IF(入力!$DW34=\"\",\"\",入力!$DW34)","v":""},null,null,null,null,null,null,{"$f":"IF(入力!$ED34=\"\",\"\",入力!$ED34)","v":""},null,null,null,null,null,null,{"$f":"IF(入力!$DH57=\"\",\"\",入力!$DH57)","v":""},null,null,null,{"$f":"IF(入力!$DP57=\"\",\"\",入力!$DP57)","v":""},null,null,null,null,null,null,{"$f":"IF(入力!$DW57=\"\",\"\",入力!$DW57)","v":""},null,null,null,null,null,null,{"$f":"IF(入力!$DH80=\"\",\"\",入力!$DH80)","v":""},null,null,null,{"$f":"IF(入力!$DP80=\"\",\"\",入力!$DP80)","v":""},null,null,null,null,null,null,{"$f":"IF(入力!$DW80=\"\",\"\",入力!$DW80)","v":""},null,null,null,null,null,null,{"$f":"IF(入力!GH34=\"\",IF(入力!GH80=\"\",\"\",入力!GH80),入力!GH34)","v":""}]
[null,2,null,{"$f":"IF(入力!$D14=\"\",\"\",入力!$D14)","v":""},null,null,null,null,null,null,null,{"$f":"IF(入力!$R14=\"\",\"\",入力!$R14)","v":""},null,null,null,{"$f":"IF(入力!$DH35=\"\",\"\",入力!$DH35)","v":""},null,null,null,{"$f":"IF(入力!$DP35=\"\",\"\",入力!$DP35)","v":""},null,null,null,null,null,null,{"$f":"IF(入力!$DW35=\"\",\"\",入力!$DW35)","v":""},null,null,null,null,null,null,null,null,null,null,null,null,null,{"$f":"IF(入力!$DH58=\"\",\"\",入力!$DH58)","v":""},null,null,null,{"$f":"IF(入力!$DP58=\"\",\"\",入力!$DP58)","v":""},null,null,null,null,null,null,{"$f":"IF(入力!$DW58=\"\",\"\",入力!$DW58)","v":""},null,null,null,null,null,null,{"$f":"IF(入力!$DH81=\"\",\"\",入力!$DH81)","v":""},null,null,null,{"$f":"IF(入力!$DP81=\"\",\"\",入力!$DP81)","v":""},null,null,null,null,null,null,{"$f":"IF(入力!$DW81=\"\",\"\",入力!$DW81)","v":""},null,null,null,null,null,null,{"$f":"IF(入力!GH35=\"\",IF(入力!GH81=\"\",\"\",入力!GH81),入力!GH35)","v":""}]
[null,3,null,{"$f":"IF(入力!$D15=\"\",\"\",入力!$D15)","v":""},null,null,null,null,null,null,null,{"$f":"IF(入力!$R15=\"\",\"\",入力!$R15)","v":""},null,null,null,{"$f":"IF(入力!$DH36=\"\",\"\",入力!$DH36)","v":""},null,null,null,{"$f":"IF(入力!$DP36=\"\",\"\",入力!$DP36)","v":""},null,null,null,null,null,null,{"$f":"IF(入力!$DW36=\"\",\"\",入力!$DW36)","v":""},null,null,null,null,null,null,null,null,null,null,null,null,null,{"$f":"IF(入力!$DH59=\"\",\"\",入力!$DH59)","v":""},null,null,null,{"$f":"IF(入力!$DP59=\"\",\"\",入力!$DP59)","v":""},null,null,null,null,null,null,{"$f":"IF(入力!$DW59=\"\",\"\",入力!$DW59)","v":""},null,null,null,null,null,null,{"$f":"IF(入力!$DH82=\"\",\"\",入力!$DH82)","v":""},null,null,null,{"$f":"IF(入力!$DP82=\"\",\"\",入力!$DP82)","v":""},null,null,null,null,null,null,{"$f":"IF(入力!$DW82=\"\",\"\",入力!$DW82)","v":""},null,null,null,null,null,null,{"$f":"IF(入力!GH36=\"\",IF(入力!GH82=\"\",\"\",入力!GH82),入力!GH36)","v":""}]
[null,4,null,{"$f":"IF(入力!$D16=\"\",\"\",入力!$D16)","v":""},null,null,null,null,null,null,null,{"$f":"IF(入力!$R16=\"\",\"\",入力!$R16)","v":""},null,null,null,{"$f":"IF(入力!$DH37=\"\",\"\",入力!$DH37)","v":""},null,null,null,{"$f":"IF(入力!$DP37=\"\",\"\",入力!$DP37)","v":""},null,null,null,null,null,null,{"$f":"IF(入力!$DW37=\"\",\"\",入力!$DW37)","v":""},null,null,null,null,null,null,null,null,null,null,null,null,null,{"$f":"IF(入力!$DH60=\"\",\"\",入力!$DH60)","v":""},null,null,null,{"$f":"IF(入力!$DP60=\"\",\"\",入力!$DP60)","v":""},null,null,null,null,null,null,{"$f":"IF(入力!$DW60=\"\",\"\",入力!$DW60)","v":""},null,null,null,null,null,null,{"$f":"IF(入力!$DH83=\"\",\"\",入力!$DH83)","v":""},null,null,null,{"$f":"IF(入力!$DP83=\"\",\"\",入力!$DP83)","v":""},null,null,null,null,null,null,{"$f":"IF(入力!$DW83=\"\",\"\",入力!$DW83)","v":""},null,null,null,null,null,null,{"$f":"IF(入力!GH37=\"\",IF(入力!GH83=\"\",\"\",入力!GH83),入力!GH37)","v":""}]
[null,5,null,{"$f":"IF(入力!$D17=\"\",\"\",入力!$D17)","v":""},null,null,null,null,null,null,null,{"$f":"IF(入力!$R17=\"\",\"\",入力!$R17)","v":""},null,null,null,{"$f":"IF(入力!$DH38=\"\",\"\",入力!$DH38)","v":""},null,null,null,{"$f":"IF(入力!$DP38=\"\",\"\",入力!$DP38)","v":""},null,null,null,null,null,null,{"$f":"IF(入力!$DW38=\"\",\"\",入力!$DW38)","v":""},null,null,null,null,null,null,null,null,null,null,null,null,null,{"$f":"IF(入力!$DH61=\"\",\"\",入力!$DH61)","v":""},null,null,null,{"$f":"IF(入力!$DP61=\"\",\"\",入力!$DP61)","v":""},null,null,null,null,null,null,{"$f":"IF(入力!$DW61=\"\",\"\",入力!$DW61)","v":""},null,null,null,null,null,null,{"$f":"IF(入力!$DH84=\"\",\"\",入力!$DH84)","v":""},null,null,null,{"$f":"IF(入力!$DP84=\"\",\"\",入力!$DP84)","v":""},null,null,null,null,null,null,{"$f":"IF(入力!$DW84=\"\",\"\",入力!$DW84)","v":""},null,null,null,null,null,null,{"$f":"IF(入力!GH38=\"\",IF(入力!GH84=\"\",\"\",入力!GH84),入力!GH38)","v":""}]
[null,6,null,{"$f":"IF(入力!$D18=\"\",\"\",入力!$D18)","v":""},null,null,null,null,null,null,null,{"$f":"IF(入力!$R18=\"\",\"\",入力!$R18)","v":""},null,null,null,{"$f":"IF(入力!$DH39=\"\",\"\",入力!$DH39)","v":""},null,null,null,{"$f":"IF(入力!$DP39=\"\",\"\",入力!$DP39)","v":""},null,null,null,null,null,null,{"$f":"IF(入力!$DW39=\"\",\"\",入力!$DW39)","v":""},null,null,null,null,null,null,null,null,null,null,null,null,null,{"$f":"IF(入力!$DH62=\"\",\"\",入力!$DH62)","v":""},null,null,null,{"$f":"IF(入力!$DP62=\"\",\"\",入力!$DP62)","v":""},null,null,null,null,null,null,{"$f":"IF(入力!$DW62=\"\",\"\",入力!$DW62)","v":""},null,null,null,null,null,null,{"$f":"IF(入力!$DH85=\"\",\"\",入力!$DH85)","v":""},null,null,null,{"$f":"IF(入力!$DP85=\"\",\"\",入力!$DP85)","v":""},null,null,null,null,null,null,{"$f":"IF(入力!$DW85=\"\",\"\",入力!$DW85)","v":""},null,null,null,null,null,null,{"$f":"IF(入力!GH39=\"\",IF(入力!GH85=\"\",\"\",入力!GH85),入力!GH39)","v":""}]
[null,7,null,{"$f":"IF(入力!$D19=\"\",\"\",入力!$D19)","v":""},null,null,null,null,null,null,null,{"$f":"IF(入力!$R19=\"\",\"\",入力!$R19)","v":""},null,null,null,{"$f":"IF(入力!$DH40=\"\",\"\",入力!$DH40)","v":""},null,null,null,{"$f":"IF(入力!$DP40=\"\",\"\",入力!$DP40)","v":""},null,null,null,null,null,null,{"$f":"IF(入力!$DW40=\"\",\"\",入力!$DW40)","v":""},null,null,null,null,null,null,null,null,null,null,null,null,null,{"$f":"IF(入力!$DH63=\"\",\"\",入力!$DH63)","v":""},null,null,null,{"$f":"IF(入力!$DP63=\"\",\"\",入力!$DP63)","v":""},null,null,null,null,null,null,{"$f":"IF(入力!$DW63=\"\",\"\",入力!$DW63)","v":""},null,null,null,null,null,null,{"$f":"IF(入力!$DH86=\"\",\"\",入力!$DH86)","v":""},null,null,null,{"$f":"IF(入力!$DP86=\"\",\"\",入力!$DP86)","v":""},null,null,null,null,null,null,{"$f":"IF(入力!$DW86=\"\",\"\",入力!$DW86)","v":""},null,null,null,null,null,null,{"$f":"IF(入力!GH40=\"\",IF(入力!GH86=\"\",\"\",入力!GH86),入力!GH40)","v":""}]
[null,8,null,{"$f":"IF(入力!$D20=\"\",\"\",入力!$D20)","v":""},null,null,null,null,null,null,null,{"$f":"IF(入力!$R20=\"\",\"\",入力!$R20)","v":""},null,null,null,{"$f":"IF(入力!$DH41=\"\",\"\",入力!$DH41)","v":""},null,null,null,{"$f":"IF(入力!$DP41=\"\",\"\",入力!$DP41)","v":""},null,null,null,null,null,null,{"$f":"IF(入力!$DW41=\"\",\"\",入力!$DW41)","v":""},null,null,null,null,null,null,null,null,null,null,null,null,null,{"$f":"IF(入力!$DH64=\"\",\"\",入力!$DH64)","v":""},null,null,null,{"$f":"IF(入力!$DP64=\"\",\"\",入力!$DP64)","v":""},null,null,null,null,null,null,{"$f":"IF(入力!$DW64=\"\",\"\",入力!$DW64)","v":""},null,null,null,null,null,null,{"$f":"IF(入力!$DH87=\"\",\"\",入力!$DH87)","v":""},null,null,null,{"$f":"IF(入力!$DP87=\"\",\"\",入力!$DP87)","v":""},null,null,null,null,null,null,{"$f":"IF(入力!$DW87=\"\",\"\",入力!$DW87)","v":""},null,null,null,null,null,null,{"$f":"IF(入力!GH41=\"\",IF(入力!GH87=\"\",\"\",入力!GH87),入力!GH41)","v":""}]
[null,9,null,{"$f":"IF(入力!$D21=\"\",\"\",入力!$D21)","v":""},null,null,null,null,null,null,null,{"$f":"IF(入力!$R21=\"\",\"\",入力!$R21)","v":""},null,null,null,{"$f":"IF(入力!$DH42=\"\",\"\",入力!$DH42)","v":""},null,null,null,{"$f":"IF(入力!$DP42=\"\",\"\",入力!$DP42)","v":""},null,null,null,null,null,null,{"$f":"IF(入力!$DW42=\"\",\"\",入力!$DW42)","v":""},null,null,null,null,null,null,null,null,null,null,null,null,null,{"$f":"IF(入力!$DH65=\"\",\"\",入力!$DH65)","v":""},null,null,null,{"$f":"IF(入力!$DP65=\"\",\"\",入力!$DP65)","v":""},null,null,null,null,null,null,{"$f":"IF(入力!$DW65=\"\",\"\",入力!$DW65)","v":""},null,null,null,null,null,null,{"$f":"IF(入力!$DH88=\"\",\"\",入力!$DH88)","v":""},null,null,null,{"$f":"IF(入力!$DP88=\"\",\"\",入力!$DP88)","v":""},null,null,null,null,null,null,{"$f":"IF(入力!$DW88=\"\",\"\",入力!$DW88)","v":""},null,null,null,null,null,null,{"$f":"IF(入力!GH42=\"\",IF(入力!GH88=\"\",\"\",入力!GH88),入力!GH42)","v":""}]
[null,10,null,{"$f":"IF(入力!$D22=\"\",\"\",入力!$D22)","v":""},null,null,null,null,null,null,null,{"$f":"IF(入力!$R22=\"\",\"\",入力!$R22)","v":""},null,null,null,{"$f":"IF(入力!$DH43=\"\",\"\",入力!$DH43)","v":""},null,null,null,{"$f":"IF(入力!$DP43=\"\",\"\",入力!$DP43)","v":""},null,null,null,null,null,null,{"$f":"IF(入力!$DW43=\"\",\"\",入力!$DW43)","v":""},null,null,null,null,null,null,null,null,null,null,null,null,null,{"$f":"IF(入力!$DH66=\"\",\"\",入力!$DH66)","v":""},null,null,null,{"$f":"IF(入力!$DP66=\"\",\"\",入力!$DP66)","v":""},null,null,null,null,null,null,{"$f":"IF(入力!$DW66=\"\",\"\",入力!$DW66)","v":""},null,null,null,null,null,null,{"$f":"IF(入力!$DH89=\"\",\"\",入力!$DH89)","v":""},null,null,null,{"$f":"IF(入力!$DP89=\"\",\"\",入力!$DP89)","v":""},null,null,null,null,null,null,{"$f":"IF(入力!$DW89=\"\",\"\",入力!$DW89)","v":""},null,null,null,null,null,null,{"$f":"IF(入力!GH43=\"\",IF(入力!GH89=\"\",\"\",入力!GH89),入力!GH43)","v":""}]
[null,null,null,"合計",null,null,null,null,null,null,null,null,null,null,null,null,null,null,null,{"$f":"SUM(T13:Z22)","v":0},null,null,null,null,null,null,{"$f":"SUM(AA13:AG22)","v":0},null,null,null,null,null,null,{"$f":"SUM(AH13:AN22)","v":0},null,null,null,null,null,null,null,null,null,null,{"$f":"SUM(AS13:AY22)","v":0},null,null,null,null,null,null,{"$f":"SUM(AZ13:BF22)","v":0},null,null,null,null,null,null,null,null,null,null,{"$f":"SUM(BK13:BQ22)","v":0},null,null,null,null,null,null,{"$f":"SUM(BR13:BX22)","v":0},null,null,null,null,null,null,"←それぞれの金額は，軽減及び月割り後\n　の金額です。"]
[null,null,null,null,null,null,null,null,null,null,null,null,null,null,null,null,null,null,null,{"$f":"SUM(T23:AN23)","v":0},null,null,null,null,null,null,null,null,null,null,null,null,null,null,null,null,null,null,null,null,null,null,null,null,{"$f":"SUM(AS23:BF23)","v":0},null,null,null,null,null,null,null,null,null,null,null,null,null,null,null,null,null,{"$f":"SUM(BK23:BX23)","v":0}]
[null,null,null,"税額\n(限度・端数調整後)",null,null,null,null,null,null,null,null,null,null,null,{"$f":"SUM(入力!ED46)","v":0},null,null,null,null,null,null,null,null,null,null,null,null,null,null,null,null,null,null,null,null,null,null,null,null,{"$f":"SUM(入力!ED69)","v":0},null,null,null,null,null,null,null,null,null,null,null,null,null,null,null,null,null,{"$f":"SUM(入力!ED92)","v":0}]
[null,null,null,"総合計",null,null,null,null,null,null,null,null,null,null,null,{"$f":"SUM(P25:BX25)","v":0}]

{"sheet":"国民健康保険税軽減早見表H26から","index":3,"n_rows":36,"n_cols":47,"rows_kept":36,"cut":false,"hidden":true,"merged":[[10,20,10,44],[10,45,10,46],[14,16,14,39],[14,40,14,45],[14,46,14,47],[35,32,36,38],[9,11,9,37],[35,4,36,10],[35,11,36,17],[35,18,36,24],[35,25,36,31],[33,32,33,38],[34,4,34,10],[34,11,34,17],[34,18,34,24],[34,25,34,31],[34,32,34,38],[33,4,33,10],[33,11,33,17],[33,18,33,24],[33,25,33,31],[31,32,31,38],[32,4,32,10],[32,11,32,17],[32,18,32,24],[32,25,32,31],[32,32,32,38],[31,4,31,10],[31,11,31,17],[31,18,31,24],[31,25,31,31],[29,32,29,38],[30,4,30,10],[30,11,30,17],[30,18,30,24],[30,25,30,31],[30,32,30,38],[29,4,29,10],[29,11,29,17],[29,18,29,24],[29,25,29,31],[27,32,27,38],[28,4,28,10],[28,11,28,17],[28,18,28,24],[28,25,28,31],[28,32,28,38],[27,4,27,10],[27,11,27,17],[27,18,27,24],[27,25,27,31],[26,4,26,10],[26,11,26,17],[26,18,26,24],[26,25,26,31],[26,32,26,38],[21,32,24,38],[22,11,24,17],[22,18,24,24],[22,25,24,31],[25,4,25,10],[25,11,25,17],[25,18,25,24],[25,25,25,31],[21,4,24,10],[21,11,21,17],[21,18,21,24],[21,25,21,31],[25,32,25,38],[12,5,12,10],[12,11,12,13],[16,4,16,38],[16,39,16,46],[19,4,19,38],[19,39,19,46],[17,4,17,38],[17,39,17,46],[18,4,18,38],[18,39,18,46],[12,14,12,38],[12,39,12,40],[6,5,6,10],[6,11,6,37],[6,38,6,43],[6,44,6,46],[9,5,9,10],[9,38,9,43],[9,44,9,46],[7,20,7,44],[7,45,7,46]]}
[]
[null,null,"軽減判定基準額の求め方"]
[null,null,"※１：判定となる世帯の所得金額とは，擬主を含む世帯主，被保険者及び特定同一世帯所属者数の所得の合計額"]
[null,null,"※２：特定同一世帯所属者とは，国民健康保険から後期高齢者医療制度に移行した方"]
[null,null,"※３：一定の給与所得者（給与収入55万円超）又は公的年金等の支給（60万円超（65歳未満）又は110万円超（65歳以上））を受ける者"]
[null,null,"　●２割軽減基準額　世帯の所得金額の合計が"]
[null,null,null,null,null,430000,null,null,null,null,null,"円＋｛（被保険者＋特定同一世帯所属者数）×",null,null,null,null,null,null,null,null,null,null,null,null,null,null,null,null,null,null,null,null,null,null,null,null,null,null,545000,null,null,null,null,null,"円｝"]
[null,null,null,null,null,null,null,null,null,null,null,null,null,null,null,null,null,null,null,null,"＋10万円×（給与所得者※-1）",null,null,null,null,null,null,null,null,null,null,null,null,null,null,null,null,null,null,null,null,null,null,null,null,"円"]
[null,null,"　●５割軽減基準額　世帯の所得の合計が，"]
[null,null,null,null,null,430000,null,null,null,null,null,"円＋｛（被保険者＋特定同一世帯所属者数）×",null,null,null,null,null,null,null,null,null,null,null,null,null,null,null,null,null,null,null,null,null,null,null,null,null,null,295000,null,null,null,null,null,"円｝"]
[null,null,null,null,null,null,null,null,null,null,null,null,null,null,null,null,null,null,null,null,"＋10万円×（給与所得者※-1）",null,null,null,null,null,null,null,null,null,null,null,null,null,null,null,null,null,null,null,null,null,null,null,null,"円"]
[null,null,"　●７割軽減基準額　世帯の所得の合計が，"]
[null,null,null,null,null,430000,null,null,null,null,null,"円",null,null,"＋10万円×（給与所得者※-1）",null,null,null,null,null,null,null,null,null,null,null,null,null,null,null,null,null,null,null,null,null,null,null,null,"円"]
[]
[null,null,"軽減判定基準額表",null,null,null,null,null,null,null,null,null,null,null,null,null,"※３の人数",null,null,null,null,null,null,null,null,null,null,null,null,null,null,null,null,null,null,null,null,null,null,null,{"$f":"SUM(入力!GD25)","v":0},null,null,null,null,null,"人"]
[null,null,"　※世帯の所得合計金額 ＝ 擬主を含む世帯主 ＋ 被保険者 ＋ 特定同一世帯所属者数"]
[null,null,null,null,null,null,null,null,null,null,null,null,null,null,null,null,null,null,null,null,null,null,null,null,null,null,null,null,null,null,null,null,null,null,null,null,null,null,null,"入力シートから"]
[null,null,null,null,"世帯の軽減判定所得",null,null,null,null,null,null,null,null,null,null,null,null,null,null,null,null,null,null,null,null,null,null,null,null,null,null,null,null,null,null,null,null,null,null,{"$f":"SUM(入力!AU4)","v":0}]
[null,null,null,null,"被保険者数＋特定同一世帯所属者数",null,null,null,null,null,null,null,null,null,null,null,null,null,null,null,null,null,null,null,null,null,null,null,null,null,null,null,null,null,null,null,null,null,null,{"$f":"SUM(入力!P5)","v":0}]
[null,null,null,null,"判定結果",null,null,null,null,null,null,null,null,null,null,null,null,null,null,null,null,null,null,null,null,null,null,null,null,null,null,null,null,null,null,null,null,null,null,{"$f":"IF(SUM(AN19)=0,\"\",VLOOKUP(SUM(AN19),$E$26:$AM$35,29,FALSE))","v":""}]
[null,null,null,null,"※基準額は以下で判定"]
[null,null,null,null,"被保険者数\n＋\n特定同一世帯\n所属者数",null,null,null,null,null,null,"２割軽減世帯",null,null,null,null,null,null,"５割軽減世帯",null,null,null,null,null,null,"７割軽減世帯",null,null,null,null,null,null,"入力\nシートの判定"]
[null,null,null,null,null,null,null,null,null,null,null,null,null,null,null,null,null,null,"被保険者又は特定同一世帯所属者に世帯主がいない場合"]
[]
[]
[null,null,null,null,1,null,null,null,null,null,null,{"$f":"$F$7+$E26*$AM$7+IF(SUM($AO$15)=1,0,100000*($AO$15-1))","v":875000},null,null,null,null,null,null,{"$f":"$F$10+$E26*$AM$10+IF(SUM($AO$15)=1,0,100000*($AO$15-1))","v":625000},null,null,null,null,null,null,{"$f":"$F$13+IF(SUM($AO$15)=0,0,100000*($AO$15-1))","v":430000},null,null,null,null,null,null,{"$f":"IF($AN$19=$E26,IF($AN$18>$L26,\"\",IF($AN$18<=$Z26,$Z$22,IF($AN$18<=$S26,$S$22,IF($AN$18<=$L26,$L$22,\"\")))),\"\")","v":""}]
[null,null,null,null,2,null,null,null,null,null,null,{"$f":"$F$7+$E27*$AM$7+IF(SUM($AO$15)=1,0,100000*($AO$15-1))","v":1420000},null,null,null,null,null,null,{"$f":"$F$10+$E27*$AM$10+IF(SUM($AO$15)=1,0,100000*($AO$15-1))","v":920000},null,null,null,null,null,null,{"$f":"$F$13+IF(SUM($AO$15)=0,0,100000*($AO$15-1))","v":430000},null,null,null,null,null,null,""]
[null,null,null,null,3,null,null,null,null,null,null,1965000,null,null,null,null,null,null,1215000,null,null,null,null,null,null,430000,null,null,null,null,null,null,""]
[null,null,null,null,4,null,null,null,null,null,null,2510000,null,null,null,null,null,null,1510000,null,null,null,null,null,null,430000,null,null,null,null,null,null,""]
[null,null,null,null,5,null,null,null,null,null,null,3055000,null,null,null,null,null,null,1805000,null,null,null,null,null,null,430000,null,null,null,null,null,null,""]
[null,null,null,null,6,null,null,null,null,null,null,3600000,null,null,null,null,null,null,2100000,null,null,null,null,null,null,430000,null,null,null,null,null,null,""]
[null,null,null,null,7,null,null,null,null,null,null,4145000,null,null,null,null,null,null,2395000,null,null,null,null,null,null,430000,null,null,null,null,null,null,""]
[null,null,null,null,8,null,null,null,null,null,null,4690000,null,null,null,null,null,null,2690000,null,null,null,null,null,null,430000,null,null,null,null,null,null,""]
[null,null,null,null,9,null,null,null,null,null,null,5235000,null,null,null,null,null,null,2985000,null,null,null,null,null,null,430000,null,null,null,null,null,null,""]
[null,null,null,null,10,null,null,null,null,null,null,5780000,null,null,null,null,null,null,3280000,null,null,null,null,null,null,430000,null,null,null,null,null,null,""]
[null,null,null,null,"以下１人増\nすごとに加算",null,null,null,null,null,null,{"$f":"SUM($AM$7)","v":545000},null,null,null,null,null,null,{"$f":"SUM($AM$10)","v":295000},null,null,null,null,null,null,"加算なし",null,null,null,null,null,null,"***********"]

{"sheet":"所得計算","index":4,"n_rows":39,"n_cols":77,"rows_kept":39,"cut":false,"hidden":true,"merged":[[2,56,2,65],[2,67,2,76],[7,8,7,14],[7,15,7,21],[6,15,6,21],[6,22,6,25],[9,8,9,14],[9,15,9,21],[9,22,9,25],[2,27,2,28],[35,27,35,32],[2,1,2,25],[3,22,4,25],[5,22,5,25],[6,1,6,7],[6,8,6,14],[5,1,5,7],[5,8,5,14],[5,15,5,21],[3,1,4,7],[3,8,3,14],[3,15,3,21],[4,8,4,14],[4,15,4,21],[7,22,7,25],[7,1,7,7],[10,15,10,21],[20,0,21,2],[22,0,23,2],[24,0,25,2],[10,22,10,25],[10,1,10,7],[10,8,10,14],[9,1,9,7],[8,1,8,7],[8,8,8,14],[8,15,8,21],[8,22,8,25],[13,8,13,14],[13,15,13,21],[13,22,13,25],[13,1,13,7],[12,1,12,7],[12,8,12,14],[12,15,12,21],[12,22,12,25],[11,22,11,25],[11,1,11,7],[11,8,11,14],[11,15,11,21],[20,3,21,13],[20,14,21,21],[22,3,23,13],[20,28,21,29],[15,27,15,33],[32,30,32,33],[33,30,33,33],[14,15,14,21],[14,22,14,25],[14,1,14,7],[14,8,14,14],[23,30,23,33],[24,30,24,33],[29,30,29,33],[30,30,30,33],[31,30,31,33],[23,27,28,27],[28,30,28,33],[29,27,34,27],[34,30,34,33],[30,0,31,2],[32,0,33,2],[34,0,35,2],[24,3,25,13],[27,30,27,33],[8,29,8,33],[9,29,9,33],[13,29,13,33],[14,29,14,33],[2,29,3,33],[4,29,4,33],[5,29,5,33],[6,29,6,33],[7,29,7,33],[10,29,12,30],[10,31,10,33],[11,31,11,33],[12,31,12,33],[20,27,22,27],[20,30,22,33],[28,0,29,2],[36,3,37,13],[38,3,39,13],[22,14,23,21],[24,14,25,21],[26,14,27,21],[28,14,29,21],[30,14,31,21],[32,14,33,21],[34,14,35,21],[36,14,37,21],[38,14,39,21],[26,3,27,13],[28,3,29,13],[30,3,31,13],[32,3,33,13],[34,3,35,13],[36,0,37,2],[38,0,39,2],[26,0,27,2],[25,30,25,33],[26,30,26,33]]}
[]
[null,null,null,null,null,null,null,null,null,null,null,null,null,null,null,null,null,null,null,null,null,null,null,null,null,null,null,"給与所得計算",null,null,null,null,null,null,1,2,3,4,5,6,7,8,9,10,null,"専給1","専給2","専給3","専給4","専給5","専給6","専給7","専給8","専給9","専給10"]
[null,"年齢計算",null,null,null,null,null,null,null,null,null,null,null,null,null,null,null,null,null,null,null,null,null,null,null,null,null,"給与収入金額",null,"所得金額\nの計算",null,null,null,null,{"$f":"IF(入力!$X13=\"\",\"\",SUM(入力!$X13))","v":""},{"$f":"IF(入力!$X14=\"\",\"\",SUM(入力!$X14))","v":""},{"$f":"IF(入力!$X15=\"\",\"\",SUM(入力!$X15))","v":""},{"$f":"IF(入力!$X16=\"\",\"\",SUM(入力!$X16))","v":""},{"$f":"IF(入力!$X17=\"\",\"\",SUM(入力!$X17))","v":""},{"$f":"IF(入力!$X18=\"\",\"\",SUM(入力!$X18))","v":""},{"$f":"IF(入力!$X19=\"\",\"\",SUM(入力!$X19))","v":""},{"$f":"IF(入力!$X20=\"\",\"\",SUM(入力!$X20))","v":""},{"$f":"IF(入力!$X21=\"\",\"\",SUM(入力!$X21))","v":""},{"$f":"IF(入力!$X22=\"\",\"\",SUM(入力!$X22))","v":""},null,{"$f":"IF(入力!$BT13=\"\",\"\",SUM(入力!$BT13))","v":""},{"$f":"IF(入力!$BT14=\"\",\"\",SUM(入力!$BT14))","v":""},{"$f":"IF(入力!$BT15=\"\",\"\",SUM(入力!$BT15))","v":""},{"$f":"IF(入力!$BT16=\"\",\"\",SUM(入力!$BT16))","v":""},{"$f":"IF(入力!$BT17=\"\",\"\",SUM(入力!$BT17))","v":""},{"$f":"IF(入力!$BT18=\"\",\"\",SUM(入力!$BT18))","v":""},{"$f":"IF(入力!$BT19=\"\",\"\",SUM(入力!$BT19))","v":""},{"$f":"IF(入力!$BT20=\"\",\"\",SUM(入力!$BT20))","v":""},{"$f":"IF(入力!$BT21=\"\",\"\",SUM(入力!$BT21))","v":""},{"$f":"IF(入力!$BT22=\"\",\"\",SUM(入力!$BT22))","v":""},null,"給与所得控除後の給与所得",null,null,null,null,null,null,null,null,null,null,"給与所得控除後の給与所得（専従者給与）"]
[null,"生年月日",null,null,null,null,null,null,"今日現在",null,null,null,null,null,null,"年金基準日",null,null,null,null,null,null,"年金\n判定",null,null,null,null,"から","まで",null,null,null,null,null,{"$f":"IF(AI$3=\"\",\"\",IF(SUM(AI$5:AI$15)=0,\"\",SUM(AI$5:AI$15)))","v":""},{"$f":"IF(AJ$3=\"\",\"\",IF(SUM(AJ$5:AJ$15)=0,\"\",SUM(AJ$5:AJ$15)))","v":""},"","","","","","","","",null,{"$f":"IF(AT$3=\"\",\"\",IF(SUM(AT$5:AT$15)=0,\"\",SUM(AT$5:AT$15)))","v":""},{"$f":"IF(AU$3=\"\",\"\",IF(SUM(AU$5:AU$15)=0,\"\",SUM(AU$5:AU$15)))","v":""},"","","","","","","","",null,1,2,3,4,5,6,7,8,9,10,null,1,2,3,4,5,6,7,8,9,10]
[null,null,null,null,null,null,null,null,{"$f":"TODAY()","v":"2024-06-03"},null,null,null,null,null,null,{"$f":"VALUE(\"R\"&基本項目!$B$3&\".1.1\")","v":"2024-01-01"},null,null,null,null,null,null,null,null,null,null,null,0,550000,"0円",null,null,null,null,{"$f":"IF(AI$3=\"\",\"\",IF(BE5=\"\",\"\",SUM(BE5)-SUM(BE$16)))","v":""},"",{"$f":"IF(AK$3=\"\",\"\",IF(BG5=\"\",\"\",SUM(BG5)-SUM(BG$16)))","v":""},{"$f":"IF(AL$3=\"\",\"\",IF(BH5=\"\",\"\",SUM(BH5)-SUM(BH$16)))","v":""},{"$f":"IF(AM$3=\"\",\"\",IF(BI5=\"\",\"\",SUM(BI5)-SUM(BI$16)))","v":""},{"$f":"IF(AN$3=\"\",\"\",IF(BJ5=\"\",\"\",SUM(BJ5)-SUM(BJ$16)))","v":""},{"$f":"IF(AO$3=\"\",\"\",IF(BK5=\"\",\"\",SUM(BK5)-SUM(BK$16)))","v":""},{"$f":"IF(AP$3=\"\",\"\",IF(BL5=\"\",\"\",SUM(BL5)-SUM(BL$16)))","v":""},{"$f":"IF(AQ$3=\"\",\"\",IF(BM5=\"\",\"\",SUM(BM5)-SUM(BM$16)))","v":""},{"$f":"IF(AR$3=\"\",\"\",IF(BN5=\"\",\"\",SUM(BN5)-SUM(BN$16)))","v":""},null,{"$f":"IF(AT$3=\"\",\"\",IF(BP5=\"\",\"\",SUM(BP5)-SUM(BP$16)))","v":""},{"$f":"IF(AU$3=\"\",\"\",IF(BQ5=\"\",\"\",SUM(BQ5)-SUM(BQ$16)))","v":""},"","","","","","","","",null,{"$f":"IF(AI$3=\"\",\"\",IF(AND(AI$3>=$AB$5,AI$3<=$AC$5),0,\"\"))","v":""},{"$f":"IF(AJ$3=\"\",\"\",IF(AND(AJ$3>=$AB$5,AJ$3<=$AC$5),0,\"\"))","v":""},"","","","","","","","",null,{"$f":"IF(AT$3=\"\",\"\",IF(AND(AT$3>=$AB$5,AT$3<=$AC$5),0,\"\"))","v":""},{"$f":"IF(AU$3=\"\",\"\",IF(AND(AU$3>=$AB$5,AU$3<=$AC$5),0,\"\"))","v":""},{"$f":"IF(AV$3=\"\",\"\",IF(AND(AV$3>=$AB$5,AV$3<=$AC$5),0,\"\"))","v":""},{"$f":"IF(AW$3=\"\",\"\",IF(AND(AW$3>=$AB$5,AW$3<=$AC$5),0,\"\"))","v":""},{"$f":"IF(AX$3=\"\",\"\",IF(AND(AX$3>=$AB$5,AX$3<=$AC$5),0,\"\"))","v":""},{"$f":"IF(AY$3=\"\",\"\",IF(AND(AY$3>=$AB$5,AY$3<=$AC$5),0,\"\"))","v":""},{"$f":"IF(AZ$3=\"\",\"\",IF(AND(AZ$3>=$AB$5,AZ$3<=$AC$5),0,\"\"))","v":""},{"$f":"IF(BA$3=\"\",\"\",IF(AND(BA$3>=$AB$5,BA$3<=$AC$5),0,\"\"))","v":""},{"$f":"IF(BB$3=\"\",\"\",IF(AND(BB$3>=$AB$5,BB$3<=$AC$5),0,\"\"))","v":""},{"$f":"IF(BC$3=\"\",\"\",IF(AND(BC$3>=$AB$5,BC$3<=$AC$5),0,\"\"))","v":""}]
[null,{"$f":"IF(入力!$K13=\"\",\"\",入力!$K13)","v":""},null,null,null,null,null,null,{"$f":"IF($B6=\"\",\"\",IF($B6>I$5,\"\",DATEDIF($B6,I$5,\"Y\")))","v":""},null,null,null,null,null,null,{"$f":"IF(P$5=\"\",\"\",IF($B6=\"\",\"\",IF($B6>P$5,0,DATEDIF($B6,P$5,\"Y\"))))","v":""},null,null,null,null,null,null,{"$f":"IF(AND(入力!R13=\"\",P6=\"\"),\"\",IF(入力!R13=\"\",P6,入力!R13))","v":""},null,null,null,null,{"$f":"AC5+1","v":550001},1618999,"給与の収入金額から550,000円を控除した金額",null,null,null,null,"","","","","","","","","","",null,"","","","","","","","","","",null,{"$f":"IF(AI$3=\"\",\"\",IF(AND(AI$3>=$AB$6,AI$3<=$AC$6),AI$3-550000,\"\"))","v":""},{"$f":"IF(AJ$3=\"\",\"\",IF(AND(AJ$3>=$AB$6,AJ$3<=$AC$6),AJ$3-550000,\"\"))","v":""},"","","","","","","","",null,{"$f":"IF(AT$3=\"\",\"\",IF(AND(AT$3>=$AB$6,AT$3<=$AC$6),AT$3-550000,\"\"))","v":""},{"$f":"IF(AU$3=\"\",\"\",IF(AND(AU$3>=$AB$6,AU$3<=$AC$6),AU$3-550000,\"\"))","v":""},{"$f":"IF(AV$3=\"\",\"\",IF(AND(AV$3>=$AB$6,AV$3<=$AC$6),AV$3-550000,\"\"))","v":""},{"$f":"IF(AW$3=\"\",\"\",IF(AND(AW$3>=$AB$6,AW$3<=$AC$6),AW$3-550000,\"\"))","v":""},{"$f":"IF(AX$3=\"\",\"\",IF(AND(AX$3>=$AB$6,AX$3<=$AC$6),AX$3-550000,\"\"))","v":""},{"$f":"IF(AY$3=\"\",\"\",IF(AND(AY$3>=$AB$6,AY$3<=$AC$6),AY$3-550000,\"\"))","v":""},{"$f":"IF(AZ$3=\"\",\"\",IF(AND(AZ$3>=$AB$6,AZ$3<=$AC$6),AZ$3-550000,\"\"))","v":""},{"$f":"IF(BA$3=\"\",\"\",IF(AND(BA$3>=$AB$6,BA$3<=$AC$6),BA$3-550000,\"\"))","v":""},{"$f":"IF(BB$3=\"\",\"\",IF(AND(BB$3>=$AB$6,BB$3<=$AC$6),BB$3-550000,\"\"))","v":""},{"$f":"IF(BC$3=\"\",\"\",IF(AND(BC$3>=$AB$6,BC$3<=$AC$6),BC$3-550000,\"\"))","v":""}]
[null,{"$f":"IF(入力!$K14=\"\",\"\",入力!$K14)","v":""},null,null,null,null,null,null,{"$f":"IF($B7=\"\",\"\",IF($B7>I$5,\"\",DATEDIF($B7,I$5,\"Y\")))","v":""},null,null,null,null,null,null,{"$f":"IF(P$5=\"\",\"\",IF($B7=\"\",\"\",IF($B7>P$5,0,DATEDIF($B7,P$5,\"Y\"))))","v":""},null,null,null,null,null,null,{"$f":"IF(AND(入力!R14=\"\",P7=\"\"),\"\",IF(入力!R14=\"\",P7,入力!R14))","v":""},null,null,null,null,{"$f":"AC6+1","v":1619000},1619999,"1,069,000円",null,null,null,null,"","","","","","","","","","",null,"","","","","","","","","","",null,{"$f":"IF(AI$3=\"\",\"\",IF(AND(AI$3>=$AB$7,AI$3<=$AC$7),1069000,\"\"))","v":""},{"$f":"IF(AJ$3=\"\",\"\",IF(AND(AJ$3>=$AB$7,AJ$3<=$AC$7),1069000,\"\"))","v":""},"","","","","","","","",null,{"$f":"IF(AT$3=\"\",\"\",IF(AND(AT$3>=$AB$7,AT$3<=$AC$7),1069000,\"\"))","v":""},{"$f":"IF(AU$3=\"\",\"\",IF(AND(AU$3>=$AB$7,AU$3<=$AC$7),1069000,\"\"))","v":""},{"$f":"IF(AV$3=\"\",\"\",IF(AND(AV$3>=$AB$7,AV$3<=$AC$7),1069000,\"\"))","v":""},{"$f":"IF(AW$3=\"\",\"\",IF(AND(AW$3>=$AB$7,AW$3<=$AC$7),1069000,\"\"))","v":""},{"$f":"IF(AX$3=\"\",\"\",IF(AND(AX$3>=$AB$7,AX$3<=$AC$7),1069000,\"\"))","v":""},{"$f":"IF(AY$3=\"\",\"\",IF(AND(AY$3>=$AB$7,AY$3<=$AC$7),1069000,\"\"))","v":""},{"$f":"IF(AZ$3=\"\",\"\",IF(AND(AZ$3>=$AB$7,AZ$3<=$AC$7),1069000,\"\"))","v":""},{"$f":"IF(BA$3=\"\",\"\",IF(AND(BA$3>=$AB$7,BA$3<=$AC$7),1069000,\"\"))","v":""},{"$f":"IF(BB$3=\"\",\"\",IF(AND(BB$3>=$AB$7,BB$3<=$AC$7),1069000,\"\"))","v":""},{"$f":"IF(BC$3=\"\",\"\",IF(AND(BC$3>=$AB$7,BC$3<=$AC$7),1069000,\"\"))","v":""}]
[null,{"$f":"IF(入力!$K15=\"\",\"\",入力!$K15)","v":""},null,null,null,null,null,null,{"$f":"IF($B8=\"\",\"\",IF($B8>I$5,\"\",DATEDIF($B8,I$5,\"Y\")))","v":""},null,null,null,null,null,null,{"$f":"IF(P$5=\"\",\"\",IF($B8=\"\",\"\",IF($B8>P$5,0,DATEDIF($B8,P$5,\"Y\"))))","v":""},null,null,null,null,null,null,{"$f":"IF(AND(入力!R15=\"\",P8=\"\"),\"\",IF(入力!R15=\"\",P8,入力!R15))","v":""},null,null,null,null,1620000,1621999,"1,070,000円",null,null,null,null,"","","","","","","","","","",null,"","","","","","","","","","",null,{"$f":"IF(AI$3=\"\",\"\",IF(AND(AI$3>=$AB$8,AI$3<=$AC$8),1070000,\"\"))","v":""},{"$f":"IF(AJ$3=\"\",\"\",IF(AND(AJ$3>=$AB$8,AJ$3<=$AC$8),1070000,\"\"))","v":""},"","","","","","","","",null,{"$f":"IF(AT$3=\"\",\"\",IF(AND(AT$3>=$AB$8,AT$3<=$AC$8),1070000,\"\"))","v":""},{"$f":"IF(AU$3=\"\",\"\",IF(AND(AU$3>=$AB$8,AU$3<=$AC$8),1070000,\"\"))","v":""},{"$f":"IF(AV$3=\"\",\"\",IF(AND(AV$3>=$AB$8,AV$3<=$AC$8),1070000,\"\"))","v":""},{"$f":"IF(AW$3=\"\",\"\",IF(AND(AW$3>=$AB$8,AW$3<=$AC$8),1070000,\"\"))","v":""},{"$f":"IF(AX$3=\"\",\"\",IF(AND(AX$3>=$AB$8,AX$3<=$AC$8),1070000,\"\"))","v":""},{"$f":"IF(AY$3=\"\",\"\",IF(AND(AY$3>=$AB$8,AY$3<=$AC$8),1070000,\"\"))","v":""},{"$f":"IF(AZ$3=\"\",\"\",IF(AND(AZ$3>=$AB$8,AZ$3<=$AC$8),1070000,\"\"))","v":""},{"$f":"IF(BA$3=\"\",\"\",IF(AND(BA$3>=$AB$8,BA$3<=$AC$8),1070000,\"\"))","v":""},{"$f":"IF(BB$3=\"\",\"\",IF(AND(BB$3>=$AB$8,BB$3<=$AC$8),1070000,\"\"))","v":""},{"$f":"IF(BC$3=\"\",\"\",IF(AND(BC$3>=$AB$8,BC$3<=$AC$8),1070000,\"\"))","v":""}]
[null,{"$f":"IF(入力!$K16=\"\",\"\",入力!$K16)","v":""},null,null,null,null,null,null,{"$f":"IF($B9=\"\",\"\",IF($B9>I$5,\"\",DATEDIF($B9,I$5,\"Y\")))","v":""},null,null,null,null,null,null,"",null,null,null,null,null,null,{"$f":"IF(AND(入力!R16=\"\",P9=\"\"),\"\",IF(入力!R16=\"\",P9,入力!R16))","v":""},null,null,null,null,1622000,1623999,"1,072,000円",null,null,null,null,"","","","","","","","","","",null,"","","","","","","","","","",null,{"$f":"IF(AI$3=\"\",\"\",IF(AND(AI$3>=$AB$9,AI$3<=$AC$9),1072000,\"\"))","v":""},{"$f":"IF(AJ$3=\"\",\"\",IF(AND(AJ$3>=$AB$9,AJ$3<=$AC$9),1072000,\"\"))","v":""},"","","","","","","","",null,{"$f":"IF(AT$3=\"\",\"\",IF(AND(AT$3>=$AB$9,AT$3<=$AC$9),1072000,\"\"))","v":""},{"$f":"IF(AU$3=\"\",\"\",IF(AND(AU$3>=$AB$9,AU$3<=$AC$9),1072000,\"\"))","v":""},{"$f":"IF(AV$3=\"\",\"\",IF(AND(AV$3>=$AB$9,AV$3<=$AC$9),1072000,\"\"))","v":""},{"$f":"IF(AW$3=\"\",\"\",IF(AND(AW$3>=$AB$9,AW$3<=$AC$9),1072000,\"\"))","v":""},{"$f":"IF(AX$3=\"\",\"\",IF(AND(AX$3>=$AB$9,AX$3<=$AC$9),1072000,\"\"))","v":""},{"$f":"IF(AY$3=\"\",\"\",IF(AND(AY$3>=$AB$9,AY$3<=$AC$9),1072000,\"\"))","v":""},{"$f":"IF(AZ$3=\"\",\"\",IF(AND(AZ$3>=$AB$9,AZ$3<=$AC$9),1072000,\"\"))","v":""},{"$f":"IF(BA$3=\"\",\"\",IF(AND(BA$3>=$AB$9,BA$3<=$AC$9),1072000,\"\"))","v":""},{"$f":"IF(BB$3=\"\",\"\",IF(AND(BB$3>=$AB$9,BB$3<=$AC$9),1072000,\"\"))","v":""},{"$f":"IF(BC$3=\"\",\"\",IF(AND(BC$3>=$AB$9,BC$3<=$AC$9),1072000,\"\"))","v":""}]
[null,{"$f":"IF(入力!$K17=\"\",\"\",入力!$K17)","v":""},null,null,null,null,null,null,"",null,null,null,null,null,null,"",null,null,null,null,null,null,{"$f":"IF(AND(入力!R17=\"\",P10=\"\"),\"\",IF(入力!R17=\"\",P10,入力!R17))","v":""},null,null,null,null,1624000,1627999,"1,074,000円",null,null,null,null,"","","","","","","","","","",null,"","","","","","","","","","",null,{"$f":"IF(AI$3=\"\",\"\",IF(AND(AI$3>=$AB$10,AI$3<=$AC$10),1074000,\"\"))","v":""},{"$f":"IF(AJ$3=\"\",\"\",IF(AND(AJ$3>=$AB$10,AJ$3<=$AC$10),1074000,\"\"))","v":""},"","","","","","","","",null,{"$f":"IF(AT$3=\"\",\"\",IF(AND(AT$3>=$AB$10,AT$3<=$AC$10),1074000,\"\"))","v":""},{"$f":"IF(AU$3=\"\",\"\",IF(AND(AU$3>=$AB$10,AU$3<=$AC$10),1074000,\"\"))","v":""},{"$f":"IF(AV$3=\"\",\"\",IF(AND(AV$3>=$AB$10,AV$3<=$AC$10),1074000,\"\"))","v":""},{"$f":"IF(AW$3=\"\",\"\",IF(AND(AW$3>=$AB$10,AW$3<=$AC$10),1074000,\"\"))","v":""},{"$f":"IF(AX$3=\"\",\"\",IF(AND(AX$3>=$AB$10,AX$3<=$AC$10),1074000,\"\"))","v":""},{"$f":"IF(AY$3=\"\",\"\",IF(AND(AY$3>=$AB$10,AY$3<=$AC$10),1074000,\"\"))","v":""},{"$f":"IF(AZ$3=\"\",\"\",IF(AND(AZ$3>=$AB$10,AZ$3<=$AC$10),1074000,\"\"))","v":""},{"$f":"IF(BA$3=\"\",\"\",IF(AND(BA$3>=$AB$10,BA$3<=$AC$10),1074000,\"\"))","v":""},{"$f":"IF(BB$3=\"\",\"\",IF(AND(BB$3>=$AB$10,BB$3<=$AC$10),1074000,\"\"))","v":""},{"$f":"IF(BC$3=\"\",\"\",IF(AND(BC$3>=$AB$10,BC$3<=$AC$10),1074000,\"\"))","v":""}]
[null,{"$f":"IF(入力!$K18=\"\",\"\",入力!$K18)","v":""},null,null,null,null,null,null,"",null,null,null,null,null,null,"",null,null,null,null,null,null,{"$f":"IF(AND(入力!R18=\"\",P11=\"\"),\"\",IF(入力!R18=\"\",P11,入力!R18))","v":""},null,null,null,null,1628000,1799999,"給与の収入金額を４で割り千円未満の端数切捨て（Ａ）",null,"Ａ×2.4＋100,000で求めた金額",null,null,"","","","","","","","","","",null,"","","","","","","","","","",null,{"$f":"IF(AI$3=\"\",\"\",IF(AND(AI$3>=$AB$11,AI$3<=$AC$11),ROUNDDOWN(ROUNDDOWN(AI$3/4,-3)*2.4,0)+100000,\"\"))","v":""},{"$f":"IF(AJ$3=\"\",\"\",IF(AND(AJ$3>=$AB$11,AJ$3<=$AC$11),ROUNDDOWN(ROUNDDOWN(AJ$3/4,-3)*2.4,0)+100000,\"\"))","v":""},"","","","","","","","",null,{"$f":"IF(AT$3=\"\",\"\",IF(AND(AT$3>=$AB$11,AT$3<=$AC$11),ROUNDDOWN(ROUNDDOWN(AT$3/4,-3)*2.4,0)+100000,\"\"))","v":""},{"$f":"IF(AU$3=\"\",\"\",IF(AND(AU$3>=$AB$11,AU$3<=$AC$11),ROUNDDOWN(ROUNDDOWN(AU$3/4,-3)*2.4,0)+100000,\"\"))","v":""},{"$f":"IF(AV$3=\"\",\"\",IF(AND(AV$3>=$AB$11,AV$3<=$AC$11),ROUNDDOWN(ROUNDDOWN(AV$3/4,-3)*2.4,0)+100000,\"\"))","v":""},{"$f":"IF(AW$3=\"\",\"\",IF(AND(AW$3>=$AB$11,AW$3<=$AC$11),ROUNDDOWN(ROUNDDOWN(AW$3/4,-3)*2.4,0)+100000,\"\"))","v":""},{"$f":"IF(AX$3=\"\",\"\",IF(AND(AX$3>=$AB$11,AX$3<=$AC$11),ROUNDDOWN(ROUNDDOWN(AX$3/4,-3)*2.4,0)+100000,\"\"))","v":""},{"$f":"IF(AY$3=\"\",\"\",IF(AND(AY$3>=$AB$11,AY$3<=$AC$11),ROUNDDOWN(ROUNDDOWN(AY$3/4,-3)*2.4,0)+100000,\"\"))","v":""},{"$f":"IF(AZ$3=\"\",\"\",IF(AND(AZ$3>=$AB$11,AZ$3<=$AC$11),ROUNDDOWN(ROUNDDOWN(AZ$3/4,-3)*2.4,0)+100000,\"\"))","v":""},{"$f":"IF(BA$3=\"\",\"\",IF(AND(BA$3>=$AB$11,BA$3<=$AC$11),ROUNDDOWN(ROUNDDOWN(BA$3/4,-3)*2.4,0)+100000,\"\"))","v":""},{"$f":"IF(BB$3=\"\",\"\",IF(AND(BB$3>=$AB$11,BB$3<=$AC$11),ROUNDDOWN(ROUNDDOWN(BB$3/4,-3)*2.4,0)+100000,\"\"))","v":""},{"$f":"IF(BC$3=\"\",\"\",IF(AND(BC$3>=$AB$11,BC$3<=$AC$11),ROUNDDOWN(ROUNDDOWN(BC$3/4,-3)*2.4,0)+100000,\"\"))","v":""}]
[null,{"$f":"IF(入力!$K19=\"\",\"\",入力!$K19)","v":""},null,null,null,null,null,null,"",null,null,null,null,null,null,"",null,null,null,null,null,null,{"$f":"IF(AND(入力!R19=\"\",P12=\"\"),\"\",IF(入力!R19=\"\",P12,入力!R19))","v":""},null,null,null,null,1800000,3599999,null,null,"Ａ×2.8－80,000円で求めた金額",null,null,"","","","","","","","","","",null,"","","","","","","","","","",null,{"$f":"IF(AI$3=\"\",\"\",IF(AND(AI$3>=$AB$12,AI$3<=$AC$12),ROUNDDOWN(ROUNDDOWN(AI$3/4,-3)*2.8,0)-80000,\"\"))","v":""},{"$f":"IF(AJ$3=\"\",\"\",IF(AND(AJ$3>=$AB$12,AJ$3<=$AC$12),ROUNDDOWN(ROUNDDOWN(AJ$3/4,-3)*2.8,0)-80000,\"\"))","v":""},"","","","","","","","",null,{"$f":"IF(AT$3=\"\",\"\",IF(AND(AT$3>=$AB$12,AT$3<=$AC$12),ROUNDDOWN(ROUNDDOWN(AT$3/4,-3)*2.8,0)-80000,\"\"))","v":""},{"$f":"IF(AU$3=\"\",\"\",IF(AND(AU$3>=$AB$12,AU$3<=$AC$12),ROUNDDOWN(ROUNDDOWN(AU$3/4,-3)*2.8,0)-80000,\"\"))","v":""},{"$f":"IF(AV$3=\"\",\"\",IF(AND(AV$3>=$AB$12,AV$3<=$AC$12),ROUNDDOWN(ROUNDDOWN(AV$3/4,-3)*2.8,0)-80000,\"\"))","v":""},{"$f":"IF(AW$3=\"\",\"\",IF(AND(AW$3>=$AB$12,AW$3<=$AC$12),ROUNDDOWN(ROUNDDOWN(AW$3/4,-3)*2.8,0)-80000,\"\"))","v":""},{"$f":"IF(AX$3=\"\",\"\",IF(AND(AX$3>=$AB$12,AX$3<=$AC$12),ROUNDDOWN(ROUNDDOWN(AX$3/4,-3)*2.8,0)-80000,\"\"))","v":""},{"$f":"IF(AY$3=\"\",\"\",IF(AND(AY$3>=$AB$12,AY$3<=$AC$12),ROUNDDOWN(ROUNDDOWN(AY$3/4,-3)*2.8,0)-80000,\"\"))","v":""},{"$f":"IF(AZ$3=\"\",\"\",IF(AND(AZ$3>=$AB$12,AZ$3<=$AC$12),ROUNDDOWN(ROUNDDOWN(AZ$3/4,-3)*2.8,0)-80000,\"\"))","v":""},{"$f":"IF(BA$3=\"\",\"\",IF(AND(BA$3>=$AB$12,BA$3<=$AC$12),ROUNDDOWN(ROUNDDOWN(BA$3/4,-3)*2.8,0)-80000,\"\"))","v":""},{"$f":"IF(BB$3=\"\",\"\",IF(AND(BB$3>=$AB$12,BB$3<=$AC$12),ROUNDDOWN(ROUNDDOWN(BB$3/4,-3)*2.8,0)-80000,\"\"))","v":""},{"$f":"IF(BC$3=\"\",\"\",IF(AND(BC$3>=$AB$12,BC$3<=$AC$12),ROUNDDOWN(ROUNDDOWN(BC$3/4,-3)*2.8,0)-80000,\"\"))","v":""}]
[null,{"$f":"IF(入力!$K20=\"\",\"\",入力!$K20)","v":""},null,null,null,null,null,null,"",null,null,null,null,null,null,"",null,null,null,null,null,null,{"$f":"IF(AND(入力!R20=\"\",P13=\"\"),\"\",IF(入力!R20=\"\",P13,入力!R20))","v":""},null,null,null,null,3600000,6599999,null,null,"Ａ×3.2－440,000円で求めた金額",null,null,"","","","","","","","","","",null,"","","","","","","","","","",null,{"$f":"IF(AI$3=\"\",\"\",IF(AND(AI$3>=$AB$13,AI$3<=$AC$13),ROUNDDOWN(ROUNDDOWN(AI$3/4,-3)*3.2,0)-440000,\"\"))","v":""},{"$f":"IF(AJ$3=\"\",\"\",IF(AND(AJ$3>=$AB$13,AJ$3<=$AC$13),ROUNDDOWN(ROUNDDOWN(AJ$3/4,-3)*3.2,0)-440000,\"\"))","v":""},"","","","","","","","",null,{"$f":"IF(AT$3=\"\",\"\",IF(AND(AT$3>=$AB$13,AT$3<=$AC$13),ROUNDDOWN(ROUNDDOWN(AT$3/4,-3)*3.2,0)-440000,\"\"))","v":""},{"$f":"IF(AU$3=\"\",\"\",IF(AND(AU$3>=$AB$13,AU$3<=$AC$13),ROUNDDOWN(ROUNDDOWN(AU$3/4,-3)*3.2,0)-440000,\"\"))","v":""},{"$f":"IF(AV$3=\"\",\"\",IF(AND(AV$3>=$AB$13,AV$3<=$AC$13),ROUNDDOWN(ROUNDDOWN(AV$3/4,-3)*3.2,0)-440000,\"\"))","v":""},{"$f":"IF(AW$3=\"\",\"\",IF(AND(AW$3>=$AB$13,AW$3<=$AC$13),ROUNDDOWN(ROUNDDOWN(AW$3/4,-3)*3.2,0)-440000,\"\"))","v":""},{"$f":"IF(AX$3=\"\",\"\",IF(AND(AX$3>=$AB$13,AX$3<=$AC$13),ROUNDDOWN(ROUNDDOWN(AX$3/4,-3)*3.2,0)-440000,\"\"))","v":""},{"$f":"IF(AY$3=\"\",\"\",IF(AND(AY$3>=$AB$13,AY$3<=$AC$13),ROUNDDOWN(ROUNDDOWN(AY$3/4,-3)*3.2,0)-440000,\"\"))","v":""},{"$f":"IF(AZ$3=\"\",\"\",IF(AND(AZ$3>=$AB$13,AZ$3<=$AC$13),ROUNDDOWN(ROUNDDOWN(AZ$3/4,-3)*3.2,0)-440000,\"\"))","v":""},{"$f":"IF(BA$3=\"\",\"\",IF(AND(BA$3>=$AB$13,BA$3<=$AC$13),ROUNDDOWN(ROUNDDOWN(BA$3/4,-3)*3.2,0)-440000,\"\"))","v":""},{"$f":"IF(BB$3=\"\",\"\",IF(AND(BB$3>=$AB$13,BB$3<=$AC$13),ROUNDDOWN(ROUNDDOWN(BB$3/4,-3)*3.2,0)-440000,\"\"))","v":""},{"$f":"IF(BC$3=\"\",\"\",IF(AND(BC$3>=$AB$13,BC$3<=$AC$13),ROUNDDOWN(ROUNDDOWN(BC$3/4,-3)*3.2,0)-440000,\"\"))","v":""}]
[null,{"$f":"IF(入力!$K21=\"\",\"\",入力!$K21)","v":""},null,null,null,null,null,null,"",null,null,null,null,null,null,"",null,null,null,null,null,null,{"$f":"IF(AND(入力!R21=\"\",P14=\"\"),\"\",IF(入力!R21=\"\",P14,入力!R21))","v":""},null,null,null,null,6600000,8499999,"給与の収入金額×0.9－1,100,000円で求めた金額",null,null,null,null,"","","","","","","","","","",null,"","","","","","","","","","",null,{"$f":"IF(AI$3=\"\",\"\",IF(AND(AI$3>=$AB$14,AI$3<=$AC$14),ROUNDDOWN(AI$3*0.9,0)-1100000,\"\"))","v":""},{"$f":"IF(AJ$3=\"\",\"\",IF(AND(AJ$3>=$AB$14,AJ$3<=$AC$14),ROUNDDOWN(AJ$3*0.9,0)-1100000,\"\"))","v":""},"","","","","","","","",null,{"$f":"IF(AT$3=\"\",\"\",IF(AND(AT$3>=$AB$14,AT$3<=$AC$14),ROUNDDOWN(AT$3*0.9,0)-1100000,\"\"))","v":""},{"$f":"IF(AU$3=\"\",\"\",IF(AND(AU$3>=$AB$14,AU$3<=$AC$14),ROUNDDOWN(AU$3*0.9,0)-1100000,\"\"))","v":""},{"$f":"IF(AV$3=\"\",\"\",IF(AND(AV$3>=$AB$14,AV$3<=$AC$14),ROUNDDOWN(AV$3*0.9,0)-1100000,\"\"))","v":""},{"$f":"IF(AW$3=\"\",\"\",IF(AND(AW$3>=$AB$14,AW$3<=$AC$14),ROUNDDOWN(AW$3*0.9,0)-1100000,\"\"))","v":""},{"$f":"IF(AX$3=\"\",\"\",IF(AND(AX$3>=$AB$14,AX$3<=$AC$14),ROUNDDOWN(AX$3*0.9,0)-1100000,\"\"))","v":""},{"$f":"IF(AY$3=\"\",\"\",IF(AND(AY$3>=$AB$14,AY$3<=$AC$14),ROUNDDOWN(AY$3*0.9,0)-1100000,\"\"))","v":""},{"$f":"IF(AZ$3=\"\",\"\",IF(AND(AZ$3>=$AB$14,AZ$3<=$AC$14),ROUNDDOWN(AZ$3*0.9,0)-1100000,\"\"))","v":""},{"$f":"IF(BA$3=\"\",\"\",IF(AND(BA$3>=$AB$14,BA$3<=$AC$14),ROUNDDOWN(BA$3*0.9,0)-1100000,\"\"))","v":""},{"$f":"IF(BB$3=\"\",\"\",IF(AND(BB$3>=$AB$14,BB$3<=$AC$14),ROUNDDOWN(BB$3*0.9,0)-1100000,\"\"))","v":""},{"$f":"IF(BC$3=\"\",\"\",IF(AND(BC$3>=$AB$14,BC$3<=$AC$14),ROUNDDOWN(BC$3*0.9,0)-1100000,\"\"))","v":""}]
[null,{"$f":"IF(入力!$K22=\"\",\"\",入力!$K22)","v":""},null,null,null,null,null,null,"",null,null,null,null,null,null,"",null,null,null,null,null,null,{"$f":"IF(AND(入力!R22=\"\",P15=\"\"),\"\",IF(入力!R22=\"\",P15,入力!R22))","v":""},null,null,null,null,{"$f":"AC14+1","v":8500000},null,"給与の収入金額－1,950,000円（※所得金額調整控除は別計算）",null,null,null,null,"","","","","","","","","","",null,"","","","","","","","","","",null,{"$f":"IF(AI$3=\"\",\"\",IF(AI$3>=$AB$15,AI$3-1950000,\"\"))","v":""},"","","","","","","","","",null,{"$f":"IF(AT$3=\"\",\"\",IF(AT$3>=$AB$15,AT$3-1950000,\"\"))","v":""},"","","","","","","","",""]
[null,null,null,null,null,null,null,null,null,null,null,null,null,null,null,null,null,null,null,null,null,null,null,null,null,null,null,"所得金額調整控除サイン",null,null,null,null,null,null,{"$f":"IF(入力!$AL$13=\"\",\"\",SUM(入力!$AL$13))","v":""},{"$f":"IF(入力!$AL$14=\"\",\"\",SUM(入力!$AL$14))","v":""},{"$f":"IF(入力!$AL$15=\"\",\"\",SUM(入力!$AL$15))","v":""},{"$f":"IF(入力!$AL$16=\"\",\"\",SUM(入力!$AL$16))","v":""},{"$f":"IF(入力!$AL$17=\"\",\"\",SUM(入力!$AL$17))","v":""},{"$f":"IF(入力!$AL$18=\"\",\"\",SUM(入力!$AL$18))","v":""},{"$f":"IF(入力!$AL$19=\"\",\"\",SUM(入力!$AL$19))","v":""},{"$f":"IF(入力!$AL$20=\"\",\"\",SUM(入力!$AL$20))","v":""},{"$f":"IF(入力!$AL$21=\"\",\"\",SUM(入力!$AL$21))","v":""},{"$f":"IF(入力!$AL$22=\"\",\"\",SUM(入力!$AL$22))","v":""},null,{"$f":"IF(入力!$AL$13=\"\",\"\",SUM(入力!$AL$13))","v":""},{"$f":"IF(入力!$AL$14=\"\",\"\",SUM(入力!$AL$14))","v":""},{"$f":"IF(入力!$AL$15=\"\",\"\",SUM(入力!$AL$15))","v":""},{"$f":"IF(入力!$AL$16=\"\",\"\",SUM(入力!$AL$16))","v":""},{"$f":"IF(入力!$AL$17=\"\",\"\",SUM(入力!$AL$17))","v":""},{"$f":"IF(入力!$AL$18=\"\",\"\",SUM(入力!$AL$18))","v":""},{"$f":"IF(入力!$AL$19=\"\",\"\",SUM(入力!$AL$19))","v":""},{"$f":"IF(入力!$AL$20=\"\",\"\",SUM(入力!$AL$20))","v":""},{"$f":"IF(入力!$AL$21=\"\",\"\",SUM(入力!$AL$21))","v":""},{"$f":"IF(入力!$AL$22=\"\",\"\",SUM(入力!$AL$22))","v":""},"所得金額調整控除→",{"$f":"IF(AI$16=\"\",\"\",IF(SUM(AI$16)=1,SUM(BE$17),IF(SUM(AI$16)=2,SUM(BE$18),IF(SUM(AI$16)=3,SUM(BE$19),0))))","v":""},"","","","","","","","","","所得金額調整控除→",{"$f":"IF(AT$16=\"\",\"\",IF(SUM(AT$16)=1,SUM(BP$17),IF(SUM(AT$16)=2,SUM(BP$18),IF(SUM(AT$16)=3,SUM(BP$19),0))))","v":""},{"$f":"IF(AU$16=\"\",\"\",IF(SUM(AU$16)=1,SUM(BQ$17),IF(SUM(AU$16)=2,SUM(BQ$18),IF(SUM(AU$16)=3,SUM(BQ$19),0))))","v":""},"","","","","","","",""]
[null,null,null,null,null,null,null,null,null,null,null,null,null,null,null,null,null,null,null,null,null,null,null,null,null,null,null,null,null,null,null,null,null,null,null,null,null,null,null,null,null,null,null,null,null,null,null,null,null,null,null,null,null,null,null,"所得金額調整控除サイン１の場合→",{"$f":"IF(AI$16=\"\",\"\",IF(AND(SUM(AI$16)=1,SUM(AI$3)>8500000,SUM(AI$23)=0),ROUNDDOWN(MAX(0,MIN(10000000,SUM(AI$3))-8500000)*0.1,0),0))","v":""},{"$f":"IF(AJ$16=\"\",\"\",IF(AND(SUM(AJ$16)=1,SUM(AJ$3)>8500000,SUM(AJ$23)=0),ROUNDDOWN(MAX(0,MIN(10000000,SUM(AJ$3))-8500000)*0.1,0),0))","v":""},{"$f":"IF(AK$16=\"\",\"\",IF(AND(SUM(AK$16)=1,SUM(AK$3)>8500000,SUM(AK$23)=0),ROUNDDOWN(MAX(0,MIN(10000000,SUM(AK$3))-8500000)*0.1,0),0))","v":""},{"$f":"IF(AL$16=\"\",\"\",IF(AND(SUM(AL$16)=1,SUM(AL$3)>8500000,SUM(AL$23)=0),ROUNDDOWN(MAX(0,MIN(10000000,SUM(AL$3))-8500000)*0.1,0),0))","v":""},{"$f":"IF(AM$16=\"\",\"\",IF(AND(SUM(AM$16)=1,SUM(AM$3)>8500000,SUM(AM$23)=0),ROUNDDOWN(MAX(0,MIN(10000000,SUM(AM$3))-8500000)*0.1,0),0))","v":""},{"$f":"IF(AN$16=\"\",\"\",IF(AND(SUM(AN$16)=1,SUM(AN$3)>8500000,SUM(AN$23)=0),ROUNDDOWN(MAX(0,MIN(10000000,SUM(AN$3))-8500000)*0.1,0),0))","v":""},{"$f":"IF(AO$16=\"\",\"\",IF(AND(SUM(AO$16)=1,SUM(AO$3)>8500000,SUM(AO$23)=0),ROUNDDOWN(MAX(0,MIN(10000000,SUM(AO$3))-8500000)*0.1,0),0))","v":""},{"$f":"IF(AP$16=\"\",\"\",IF(AND(SUM(AP$16)=1,SUM(AP$3)>8500000,SUM(AP$23)=0),ROUNDDOWN(MAX(0,MIN(10000000,SUM(AP$3))-8500000)*0.1,0),0))","v":""},{"$f":"IF(AQ$16=\"\",\"\",IF(AND(SUM(AQ$16)=1,SUM(AQ$3)>8500000,SUM(AQ$23)=0),ROUNDDOWN(MAX(0,MIN(10000000,SUM(AQ$3))-8500000)*0.1,0),0))","v":""},{"$f":"IF(AR$16=\"\",\"\",IF(AND(SUM(AR$16)=1,SUM(AR$3)>8500000,SUM(AR$23)=0),ROUNDDOWN(MAX(0,MIN(10000000,SUM(AR$3))-8500000)*0.1,0),0))","v":""},"所得金額調整控除サイン１の場合→",{"$f":"IF(AT$16=\"\",\"\",IF(AND(SUM(AT$16)=1,SUM(AT$3)>8500000,SUM(AI$23)=0),ROUNDDOWN(MAX(0,MIN(10000000,SUM(AT$3))-8500000)*0.1,0),0))","v":""},{"$f":"IF(AU$16=\"\",\"\",IF(AND(SUM(AU$16)=1,SUM(AU$3)>8500000,SUM(AJ$23)=0),ROUNDDOWN(MAX(0,MIN(10000000,SUM(AU$3))-8500000)*0.1,0),0))","v":""},"","","","","","","",""]
[null,null,null,null,null,null,null,null,null,null,null,null,null,null,null,null,null,null,null,null,null,null,null,null,null,null,null,null,null,null,null,null,null,null,null,null,null,null,null,null,null,null,null,null,null,null,null,null,null,null,null,null,null,null,null,"所得金額調整控除サイン２の場合→",{"$f":"IF(AI$16=\"\",\"\",IF(AND(SUM(AI$16)=2,SUM(AI$23)<>0,SUM(AI$3)<=8500000),MAX(0,MIN(100000,SUM(BE$5:BE$15))+MIN(100000,SUM(AI$23))-100000),0))","v":""},{"$f":"IF(AJ$16=\"\",\"\",IF(AND(SUM(AJ$16)=2,SUM(AJ$23)<>0,SUM(AJ$3)<=8500000),MAX(0,MIN(100000,SUM(BF$5:BF$15))+MIN(100000,SUM(AJ$23))-100000),0))","v":""},"","","","","","","","","所得金額調整控除サイン２の場合→",{"$f":"IF(AT$16=\"\",\"\",IF(AND(SUM(AT$16)=2,SUM(AI$23)<>0,SUM(AT$3)<=8500000),MAX(0,MIN(100000,SUM(BP$5:BP$15))+MIN(100000,SUM(AI$23))-100000),0))","v":""},{"$f":"IF(AU$16=\"\",\"\",IF(AND(SUM(AU$16)=2,SUM(AJ$23)<>0,SUM(AU$3)<=8500000),MAX(0,MIN(100000,SUM(BQ$5:BQ$15))+MIN(100000,SUM(AJ$23))-100000),0))","v":""},"","","","","","","",""]
[null,null,null,null,null,null,null,null,null,null,null,null,null,null,null,null,null,null,null,null,null,null,null,null,null,null,null,null,null,null,null,null,null,null,null,null,null,null,null,null,null,null,null,null,null,null,null,null,null,null,null,null,null,null,null,"所得金額調整控除サイン３の場合→",{"$f":"IF(AI$16=\"\",\"\",IF(AND(SUM(AI$16)=3,SUM(AI$23)<>0,SUM(AI$3)>8500000),ROUNDDOWN(MAX(0,MIN(10000000,SUM(AI$3))-8500000)*0.1,0)+MAX(0,MIN(100000,SUM(BE$5:BE$15))+MIN(100000,SUM(AI$23))-100000),0))","v":""},{"$f":"IF(AJ$16=\"\",\"\",IF(AND(SUM(AJ$16)=3,SUM(AJ$23)<>0,SUM(AJ$3)>8500000),ROUNDDOWN(MAX(0,MIN(10000000,SUM(AJ$3))-8500000)*0.1,0)+MAX(0,MIN(100000,SUM(BF$5:BF$15))+MIN(100000,SUM(AJ$23))-100000),0))","v":""},"","","","","","","","","所得金額調整控除サイン３の場合→",{"$f":"IF(AT$16=\"\",\"\",IF(AND(SUM(AT$16)=3,SUM(AI$23)<>0,SUM(AT$3)>8500000),ROUNDDOWN(MAX(0,MIN(10000000,SUM(AT$3))-8500000)*0.1,0)+MAX(0,MIN(100000,SUM(BP$5:BP$15))+MIN(100000,SUM(AI$23))-100000),0))","v":""},{"$f":"IF(AU$16=\"\",\"\",IF(AND(SUM(AU$16)=3,SUM(AJ$23)<>0,SUM(AU$3)>8500000),ROUNDDOWN(MAX(0,MIN(10000000,SUM(AU$3))-8500000)*0.1,0)+MAX(0,MIN(100000,SUM(BQ$5:BQ$15))+MIN(100000,SUM(AJ$23))-100000),0))","v":""},"","","","","","","",""]
[null,null,null,null,null,null,null,null,null,null,null,null,null,null,null,null,null,null,null,null,null,null,null,null,null,null,null,"年金所得計算",null,null,null,null,null,null,1,2,3,4,5,6,7,8,9,10]
[1,null,null,"年金所得に係る\n雑所得以外の\n合計所得金額",null,null,null,null,null,null,null,null,null,null,{"$f":"入力!DJ13","v":0},null,null,null,null,null,null,null,null,null,null,null,null,null,"年金収入金額の合計(Ａ)",null,"公的年金等所得金額の計算",null,null,null,{"$f":"IF(入力!$AY13=\"\",\"\",入力!$AY13)","v":""},{"$f":"IF(入力!$AY14=\"\",\"\",入力!$AY14)","v":""},{"$f":"IF(入力!$AY15=\"\",\"\",入力!$AY15)","v":""},{"$f":"IF(入力!$AY16=\"\",\"\",入力!$AY16)","v":""},{"$f":"IF(入力!$AY17=\"\",\"\",入力!$AY17)","v":""},{"$f":"IF(入力!$AY18=\"\",\"\",入力!$AY18)","v":""},{"$f":"IF(入力!$AY19=\"\",\"\",入力!$AY19)","v":""},{"$f":"IF(入力!$AY20=\"\",\"\",入力!$AY20)","v":""},{"$f":"IF(入力!$AY21=\"\",\"\",入力!$AY21)","v":""},{"$f":"IF(入力!$AY22=\"\",\"\",入力!$AY22)","v":""}]
[null,null,null,null,null,null,null,null,null,null,null,null,null,null,null,null,null,null,null,null,null,null,null,null,null,null,null,null,null,null,null,null,null,null,{"$f":"IF(所得計算!$W6=\"\",\"\",所得計算!$W6)","v":""},{"$f":"IF(所得計算!$W7=\"\",\"\",所得計算!$W7)","v":""},{"$f":"IF(所得計算!$W8=\"\",\"\",所得計算!$W8)","v":""},{"$f":"IF(所得計算!$W9=\"\",\"\",所得計算!$W9)","v":""},{"$f":"IF(所得計算!$W10=\"\",\"\",所得計算!$W10)","v":""},{"$f":"IF(所得計算!$W11=\"\",\"\",所得計算!$W11)","v":""},{"$f":"IF(所得計算!$W12=\"\",\"\",所得計算!$W12)","v":""},{"$f":"IF(所得計算!$W13=\"\",\"\",所得計算!$W13)","v":""},{"$f":"IF(所得計算!$W14=\"\",\"\",所得計算!$W14)","v":""},{"$f":"IF(所得計算!$W15=\"\",\"\",所得計算!$W15)","v":""}]
[2,null,null,"年金所得に係る\n雑所得以外の\n合計所得金額",null,null,null,null,null,null,null,null,null,null,{"$f":"入力!DJ14","v":0},null,null,null,null,null,null,null,null,null,null,null,null,null,"から","まで",null,null,null,null,{"$f":"IF(SUM(AI24:AI35)=0,\"\",SUM(AI24:AI35))","v":""},{"$f":"IF(SUM(AJ24:AJ35)=0,\"\",SUM(AJ24:AJ35))","v":""},"","","","","","","",""]
[null,null,null,null,null,null,null,null,null,null,null,null,null,null,null,null,null,null,null,null,null,null,null,null,null,null,null,"６５歳以上",0,1100000,"0円or〈～100,000円〉or《～200,000円》",null,null,null,{"$f":"IF(AI$21=\"\",\"\",IF(AND(SUM(AI$22)>=65,AI$21>=$AC24,AI$21<=$AD24),IF($O$21>20000000,MAX(AI21-900000,0),IF($O$21>10000000,MAX(AI21-1000000,0),0)),\"\"))","v":""},{"$f":"IF(AJ$21=\"\",\"\",IF(AND(SUM(AJ$22)>=65,AJ$21>=$AC24,AJ$21<=$AD24),IF($O$23>20000000,MAX(AJ21-900000,0),IF($O$23>10000000,MAX(AJ21-1000000,0),0)),\"\"))","v":""},{"$f":"IF(AK$21=\"\",\"\",IF(AND(SUM(AK$22)>=65,AK$21>=$AC24,AK$21<=$AD24),IF($O$25>20000000,MAX(AK21-900000,0),IF($O$25>10000000,MAX(AK21-1000000,0),0)),\"\"))","v":""},{"$f":"IF(AL$21=\"\",\"\",IF(AND(SUM(AL$22)>=65,AL$21>=$AC24,AL$21<=$AD24),IF($O$27>20000000,MAX(AL21-900000,0),IF($O$27>10000000,MAX(AL21-1000000,0),0)),\"\"))","v":""},{"$f":"IF(AM$21=\"\",\"\",IF(AND(SUM(AM$22)>=65,AM$21>=$AC24,AM$21<=$AD24),IF($O$29>20000000,MAX(AM21-900000,0),IF($O$29>10000000,MAX(AM21-1000000,0),0)),\"\"))","v":""},{"$f":"IF(AN$21=\"\",\"\",IF(AND(SUM(AN$22)>=65,AN$21>=$AC24,AN$21<=$AD24),IF($O$31>20000000,MAX(AN21-900000,0),IF($O$31>10000000,MAX(AN21-1000000,0),0)),\"\"))","v":""},{"$f":"IF(AO$21=\"\",\"\",IF(AND(SUM(AO$22)>=65,AO$21>=$AC24,AO$21<=$AD24),IF($O$33>20000000,MAX(AO21-900000,0),IF($O$33>10000000,MAX(AO21-1000000,0),0)),\"\"))","v":""},{"$f":"IF(AP$21=\"\",\"\",IF(AND(SUM(AP$22)>=65,AP$21>=$AC24,AP$21<=$AD24),IF($O$35>20000000,MAX(AP21-900000,0),IF($O$35>10000000,MAX(AP21-1000000,0),0)),\"\"))","v":""},{"$f":"IF(AQ$21=\"\",\"\",IF(AND(SUM(AQ$22)>=65,AQ$21>=$AC24,AQ$21<=$AD24),IF($O$37>20000000,MAX(AQ21-900000,0),IF($O$37>10000000,MAX(AQ21-1000000,0),0)),\"\"))","v":""},{"$f":"IF(AR$21=\"\",\"\",IF(AND(SUM(AR$22)>=65,AR$21>=$AC24,AR$21<=$AD24),IF($O$39>20000000,MAX(AR21-900000,0),IF($O$39>10000000,MAX(AR21-1000000,0),0)),\"\"))","v":""}]
[3,null,null,"年金所得に係る\n雑所得以外の\n合計所得金額",null,null,null,null,null,null,null,null,null,null,{"$f":"入力!DJ15","v":0},null,null,null,null,null,null,null,null,null,null,null,null,null,{"$f":"SUM(AD24,1)","v":1100001},3299999,"(Ａ)－1,100,000円〈1,000,000〉《900,000》",null,null,null,{"$f":"IF(AI$21=\"\",\"\",IF(AND(SUM(AI$22)>=65,AI$21>=$AC25,AI$21<=$AD25),IF($O$21>20000000,MAX(AI21-900000,0),IF($O$21>10000000,MAX(AI21-1000000,0),AI21-1100000)),\"\"))","v":""},{"$f":"IF(AJ$21=\"\",\"\",IF(AND(SUM(AJ$22)>=65,AJ$21>=$AC25,AJ$21<=$AD25),IF($O$23>20000000,MAX(AJ21-900000,0),IF($O$23>10000000,MAX(AJ21-1000000,0),AJ21-1100000)),\"\"))","v":""},{"$f":"IF(AK$21=\"\",\"\",IF(AND(SUM(AK$22)>=65,AK$21>=$AC25,AK$21<=$AD25),IF($O$25>20000000,MAX(AK21-900000,0),IF($O$25>10000000,MAX(AK21-1000000,0),AK21-1100000)),\"\"))","v":""},{"$f":"IF(AL$21=\"\",\"\",IF(AND(SUM(AL$22)>=65,AL$21>=$AC25,AL$21<=$AD25),IF($O$27>20000000,MAX(AL21-900000,0),IF($O$27>10000000,MAX(AL21-1000000,0),AL21-1100000)),\"\"))","v":""},{"$f":"IF(AM$21=\"\",\"\",IF(AND(SUM(AM$22)>=65,AM$21>=$AC25,AM$21<=$AD25),IF($O$29>20000000,MAX(AM21-900000,0),IF($O$29>10000000,MAX(AM21-1000000,0),AM21-1100000)),\"\"))","v":""},{"$f":"IF(AN$21=\"\",\"\",IF(AND(SUM(AN$22)>=65,AN$21>=$AC25,AN$21<=$AD25),IF($O$31>20000000,MAX(AN21-900000,0),IF($O$31>10000000,MAX(AN21-1000000,0),AN21-1100000)),\"\"))","v":""},{"$f":"IF(AO$21=\"\",\"\",IF(AND(SUM(AO$22)>=65,AO$21>=$AC25,AO$21<=$AD25),IF($O$33>20000000,MAX(AO21-900000,0),IF($O$33>10000000,MAX(AO21-1000000,0),AO21-1100000)),\"\"))","v":""},{"$f":"IF(AP$21=\"\",\"\",IF(AND(SUM(AP$22)>=65,AP$21>=$AC25,AP$21<=$AD25),IF($O$35>20000000,MAX(AP21-900000,0),IF($O$35>10000000,MAX(AP21-1000000,0),AP21-1100000)),\"\"))","v":""},{"$f":"IF(AQ$21=\"\",\"\",IF(AND(SUM(AQ$22)>=65,AQ$21>=$AC25,AQ$21<=$AD25),IF($O$37>20000000,MAX(AQ21-900000,0),IF($O$37>10000000,MAX(AQ21-1000000,0),AQ21-1100000)),\"\"))","v":""},{"$f":"IF(AR$21=\"\",\"\",IF(AND(SUM(AR$22)>=65,AR$21>=$AC25,AR$21<=$AD25),IF($O$39>20000000,MAX(AR21-900000,0),IF($O$39>10000000,MAX(AR21-1000000,0),AR21-1100000)),\"\"))","v":""}]
[null,null,null,null,null,null,null,null,null,null,null,null,null,null,null,null,null,null,null,null,null,null,null,null,null,null,null,null,{"$f":"SUM(AD25,1)","v":3300000},4099999,"(Ａ)×75％－275,000円〈175,000〉《75,000》",null,null,null,{"$f":"IF(AI$21=\"\",\"\",IF(AND(SUM(AI$22)>=65,AI$21>=$AC26,AI$21<=$AD26),IF($O$21>20000000,ROUNDDOWN(AI$21*75/100,0)-75000,IF($O$21>10000000,ROUNDDOWN(AI$21*75/100,0)-175000,ROUNDDOWN(AI$21*75/100,0)-275000)),\"\"))","v":""},{"$f":"IF(AJ$21=\"\",\"\",IF(AND(SUM(AJ$22)>=65,AJ$21>=$AC26,AJ$21<=$AD26),IF($O$23>20000000,ROUNDDOWN(AJ$21*75/100,0)-75000,IF($O$23>10000000,ROUNDDOWN(AJ$21*75/100,0)-175000,ROUNDDOWN(AJ$21*75/100,0)-275000)),\"\"))","v":""},{"$f":"IF(AK$21=\"\",\"\",IF(AND(SUM(AK$22)>=65,AK$21>=$AC26,AK$21<=$AD26),IF($O$25>20000000,ROUNDDOWN(AK$21*75/100,0)-75000,IF($O$25>10000000,ROUNDDOWN(AK$21*75/100,0)-175000,ROUNDDOWN(AK$21*75/100,0)-275000)),\"\"))","v":""},{"$f":"IF(AL$21=\"\",\"\",IF(AND(SUM(AL$22)>=65,AL$21>=$AC26,AL$21<=$AD26),IF($O$27>20000000,ROUNDDOWN(AL$21*75/100,0)-75000,IF($O$27>10000000,ROUNDDOWN(AL$21*75/100,0)-175000,ROUNDDOWN(AL$21*75/100,0)-275000)),\"\"))","v":""},{"$f":"IF(AM$21=\"\",\"\",IF(AND(SUM(AM$22)>=65,AM$21>=$AC26,AM$21<=$AD26),IF($O$29>20000000,ROUNDDOWN(AM$21*75/100,0)-75000,IF($O$29>10000000,ROUNDDOWN(AM$21*75/100,0)-175000,ROUNDDOWN(AM$21*75/100,0)-275000)),\"\"))","v":""},{"$f":"IF(AN$21=\"\",\"\",IF(AND(SUM(AN$22)>=65,AN$21>=$AC26,AN$21<=$AD26),IF($O$31>20000000,ROUNDDOWN(AN$21*75/100,0)-75000,IF($O$31>10000000,ROUNDDOWN(AN$21*75/100,0)-175000,ROUNDDOWN(AN$21*75/100,0)-275000)),\"\"))","v":""},{"$f":"IF(AO$21=\"\",\"\",IF(AND(SUM(AO$22)>=65,AO$21>=$AC26,AO$21<=$AD26),IF($O$33>20000000,ROUNDDOWN(AO$21*75/100,0)-75000,IF($O$33>10000000,ROUNDDOWN(AO$21*75/100,0)-175000,ROUNDDOWN(AO$21*75/100,0)-275000)),\"\"))","v":""},{"$f":"IF(AP$21=\"\",\"\",IF(AND(SUM(AP$22)>=65,AP$21>=$AC26,AP$21<=$AD26),IF($O$35>20000000,ROUNDDOWN(AP$21*75/100,0)-75000,IF($O$35>10000000,ROUNDDOWN(AP$21*75/100,0)-175000,ROUNDDOWN(AP$21*75/100,0)-275000)),\"\"))","v":""},{"$f":"IF(AQ$21=\"\",\"\",IF(AND(SUM(AQ$22)>=65,AQ$21>=$AC26,AQ$21<=$AD26),IF($O$37>20000000,ROUNDDOWN(AQ$21*75/100,0)-75000,IF($O$37>10000000,ROUNDDOWN(AQ$21*75/100,0)-175000,ROUNDDOWN(AQ$21*75/100,0)-275000)),\"\"))","v":""},{"$f":"IF(AR$21=\"\",\"\",IF(AND(SUM(AR$22)>=65,AR$21>=$AC26,AR$21<=$AD26),IF($O$39>20000000,ROUNDDOWN(AR$21*75/100,0)-75000,IF($O$39>10000000,ROUNDDOWN(AR$21*75/100,0)-175000,ROUNDDOWN(AR$21*75/100,0)-275000)),\"\"))","v":""}]
[4,null,null,"年金所得に係る\n雑所得以外の\n合計所得金額",null,null,null,null,null,null,null,null,null,null,{"$f":"入力!DJ16","v":0},null,null,null,null,null,null,null,null,null,null,null,null,null,{"$f":"SUM(AD26,1)","v":4100000},7699999,"(Ａ)×85％－685,000円〈585,000〉《485,000》",null,null,null,{"$f":"IF(AI$21=\"\",\"\",IF(AND(SUM(AI$22)>=65,AI$21>=$AC27,AI$21<=$AD27),IF($O$21>20000000,ROUNDDOWN(AI$21*85/100,0)-485000,IF($O$21>10000000,ROUNDDOWN(AI$21*85/100,0)-585000,ROUNDDOWN(AI$21*85/100,0)-685000)),\"\"))","v":""},{"$f":"IF(AJ$21=\"\",\"\",IF(AND(SUM(AJ$22)>=65,AJ$21>=$AC27,AJ$21<=$AD27),IF($O$23>20000000,ROUNDDOWN(AJ$21*85/100,0)-485000,IF($O$23>10000000,ROUNDDOWN(AJ$21*85/100,0)-585000,ROUNDDOWN(AJ$21*85/100,0)-685000)),\"\"))","v":""},{"$f":"IF(AK$21=\"\",\"\",IF(AND(SUM(AK$22)>=65,AK$21>=$AC27,AK$21<=$AD27),IF($O$25>20000000,ROUNDDOWN(AK$21*85/100,0)-485000,IF($O$25>10000000,ROUNDDOWN(AK$21*85/100,0)-585000,ROUNDDOWN(AK$21*85/100,0)-685000)),\"\"))","v":""},{"$f":"IF(AL$21=\"\",\"\",IF(AND(SUM(AL$22)>=65,AL$21>=$AC27,AL$21<=$AD27),IF($O$27>20000000,ROUNDDOWN(AL$21*85/100,0)-485000,IF($O$27>10000000,ROUNDDOWN(AL$21*85/100,0)-585000,ROUNDDOWN(AL$21*85/100,0)-685000)),\"\"))","v":""},{"$f":"IF(AM$21=\"\",\"\",IF(AND(SUM(AM$22)>=65,AM$21>=$AC27,AM$21<=$AD27),IF($O$29>20000000,ROUNDDOWN(AM$21*85/100,0)-485000,IF($O$29>10000000,ROUNDDOWN(AM$21*85/100,0)-585000,ROUNDDOWN(AM$21*85/100,0)-685000)),\"\"))","v":""},{"$f":"IF(AN$21=\"\",\"\",IF(AND(SUM(AN$22)>=65,AN$21>=$AC27,AN$21<=$AD27),IF($O$31>20000000,ROUNDDOWN(AN$21*85/100,0)-485000,IF($O$31>10000000,ROUNDDOWN(AN$21*85/100,0)-585000,ROUNDDOWN(AN$21*85/100,0)-685000)),\"\"))","v":""},{"$f":"IF(AO$21=\"\",\"\",IF(AND(SUM(AO$22)>=65,AO$21>=$AC27,AO$21<=$AD27),IF($O$33>20000000,ROUNDDOWN(AO$21*85/100,0)-485000,IF($O$33>10000000,ROUNDDOWN(AO$21*85/100,0)-585000,ROUNDDOWN(AO$21*85/100,0)-685000)),\"\"))","v":""},{"$f":"IF(AP$21=\"\",\"\",IF(AND(SUM(AP$22)>=65,AP$21>=$AC27,AP$21<=$AD27),IF($O$35>20000000,ROUNDDOWN(AP$21*85/100,0)-485000,IF($O$35>10000000,ROUNDDOWN(AP$21*85/100,0)-585000,ROUNDDOWN(AP$21*85/100,0)-685000)),\"\"))","v":""},{"$f":"IF(AQ$21=\"\",\"\",IF(AND(SUM(AQ$22)>=65,AQ$21>=$AC27,AQ$21<=$AD27),IF($O$37>20000000,ROUNDDOWN(AQ$21*85/100,0)-485000,IF($O$37>10000000,ROUNDDOWN(AQ$21*85/100,0)-585000,ROUNDDOWN(AQ$21*85/100,0)-685000)),\"\"))","v":""},{"$f":"IF(AR$21=\"\",\"\",IF(AND(SUM(AR$22)>=65,AR$21>=$AC27,AR$21<=$AD27),IF($O$39>20000000,ROUNDDOWN(AR$21*85/100,0)-485000,IF($O$39>10000000,ROUNDDOWN(AR$21*85/100,0)-585000,ROUNDDOWN(AR$21*85/100,0)-685000)),\"\"))","v":""}]
[null,null,null,null,null,null,null,null,null,null,null,null,null,null,null,null,null,null,null,null,null,null,null,null,null,null,null,null,{"$f":"SUM(AD27,1)","v":7700000},9999999,"(Ａ)×95％－1,455,000円〈1,355,000〉《1,255,000》",null,null,null,{"$f":"IF(AI$21=\"\",\"\",IF(AND(SUM(AI$22)>=65,AI$21>=$AC28,AI$21<=$AD28),IF($O$21>20000000,ROUNDDOWN(AI$21*95/100,0)-1255000,IF($O$21>10000000,ROUNDDOWN(AI$21*95/100,0)-1355000,ROUNDDOWN(AI$21*95/100,0)-1455000)),\"\"))","v":""},{"$f":"IF(AJ$21=\"\",\"\",IF(AND(SUM(AJ$22)>=65,AJ$21>=$AC28,AJ$21<=$AD28),IF($O$23>20000000,ROUNDDOWN(AJ$21*95/100,0)-1255000,IF($O$23>10000000,ROUNDDOWN(AJ$21*95/100,0)-1355000,ROUNDDOWN(AJ$21*95/100,0)-1455000)),\"\"))","v":""},{"$f":"IF(AK$21=\"\",\"\",IF(AND(SUM(AK$22)>=65,AK$21>=$AC28,AK$21<=$AD28),IF($O$25>20000000,ROUNDDOWN(AK$21*95/100,0)-1255000,IF($O$25>10000000,ROUNDDOWN(AK$21*95/100,0)-1355000,ROUNDDOWN(AK$21*95/100,0)-1455000)),\"\"))","v":""},{"$f":"IF(AL$21=\"\",\"\",IF(AND(SUM(AL$22)>=65,AL$21>=$AC28,AL$21<=$AD28),IF($O$27>20000000,ROUNDDOWN(AL$21*95/100,0)-1255000,IF($O$27>10000000,ROUNDDOWN(AL$21*95/100,0)-1355000,ROUNDDOWN(AL$21*95/100,0)-1455000)),\"\"))","v":""},{"$f":"IF(AM$21=\"\",\"\",IF(AND(SUM(AM$22)>=65,AM$21>=$AC28,AM$21<=$AD28),IF($O$29>20000000,ROUNDDOWN(AM$21*95/100,0)-1255000,IF($O$29>10000000,ROUNDDOWN(AM$21*95/100,0)-1355000,ROUNDDOWN(AM$21*95/100,0)-1455000)),\"\"))","v":""},{"$f":"IF(AN$21=\"\",\"\",IF(AND(SUM(AN$22)>=65,AN$21>=$AC28,AN$21<=$AD28),IF($O$31>20000000,ROUNDDOWN(AN$21*95/100,0)-1255000,IF($O$31>10000000,ROUNDDOWN(AN$21*95/100,0)-1355000,ROUNDDOWN(AN$21*95/100,0)-1455000)),\"\"))","v":""},{"$f":"IF(AO$21=\"\",\"\",IF(AND(SUM(AO$22)>=65,AO$21>=$AC28,AO$21<=$AD28),IF($O$33>20000000,ROUNDDOWN(AO$21*95/100,0)-1255000,IF($O$33>10000000,ROUNDDOWN(AO$21*95/100,0)-1355000,ROUNDDOWN(AO$21*95/100,0)-1455000)),\"\"))","v":""},{"$f":"IF(AP$21=\"\",\"\",IF(AND(SUM(AP$22)>=65,AP$21>=$AC28,AP$21<=$AD28),IF($O$35>20000000,ROUNDDOWN(AP$21*95/100,0)-1255000,IF($O$35>10000000,ROUNDDOWN(AP$21*95/100,0)-1355000,ROUNDDOWN(AP$21*95/100,0)-1455000)),\"\"))","v":""},{"$f":"IF(AQ$21=\"\",\"\",IF(AND(SUM(AQ$22)>=65,AQ$21>=$AC28,AQ$21<=$AD28),IF($O$37>20000000,ROUNDDOWN(AQ$21*95/100,0)-1255000,IF($O$37>10000000,ROUNDDOWN(AQ$21*95/100,0)-1355000,ROUNDDOWN(AQ$21*95/100,0)-1455000)),\"\"))","v":""},{"$f":"IF(AR$21=\"\",\"\",IF(AND(SUM(AR$22)>=65,AR$21>=$AC28,AR$21<=$AD28),IF($O$39>20000000,ROUNDDOWN(AR$21*95/100,0)-1255000,IF($O$39>10000000,ROUNDDOWN(AR$21*95/100,0)-1355000,ROUNDDOWN(AR$21*95/100,0)-1455000)),\"\"))","v":""}]
[5,null,null,"年金所得に係る\n雑所得以外の\n合計所得金額",null,null,null,null,null,null,null,null,null,null,{"$f":"入力!DJ17","v":0},null,null,null,null,null,null,null,null,null,null,null,null,null,10000000,null,"(Ａ)－1,955,000円〈1,855,000〉《1,755,000》",null,null,null,{"$f":"IF(AI$21=\"\",\"\",IF(AND(SUM(AI$22)>=65,AI$21>=$AC29),IF($O$21>20000000,MAX(AI21-1755000,0),IF($O$21>10000000,MAX(AI21-1855000,0),AI21-1955000)),\"\"))","v":""},{"$f":"IF(AJ$21=\"\",\"\",IF(AND(SUM(AJ$22)>=65,AJ$21>=$AC29),IF($O$23>20000000,MAX(AJ21-1755000,0),IF($O$23>10000000,MAX(AJ21-1855000,0),AJ21-1955000)),\"\"))","v":""},{"$f":"IF(AK$21=\"\",\"\",IF(AND(SUM(AK$22)>=65,AK$21>=$AC29),IF($O$25>20000000,MAX(AK21-1755000,0),IF($O$25>10000000,MAX(AK21-1855000,0),AK21-1955000)),\"\"))","v":""},{"$f":"IF(AL$21=\"\",\"\",IF(AND(SUM(AL$22)>=65,AL$21>=$AC29),IF($O$27>20000000,MAX(AL21-1755000,0),IF($O$27>10000000,MAX(AL21-1855000,0),AL21-1955000)),\"\"))","v":""},{"$f":"IF(AM$21=\"\",\"\",IF(AND(SUM(AM$22)>=65,AM$21>=$AC29),IF($O$29>20000000,MAX(AM21-1755000,0),IF($O$29>10000000,MAX(AM21-1855000,0),AM21-1955000)),\"\"))","v":""},{"$f":"IF(AN$21=\"\",\"\",IF(AND(SUM(AN$22)>=65,AN$21>=$AC29),IF($O$31>20000000,MAX(AN21-1755000,0),IF($O$31>10000000,MAX(AN21-1855000,0),AN21-1955000)),\"\"))","v":""},{"$f":"IF(AO$21=\"\",\"\",IF(AND(SUM(AO$22)>=65,AO$21>=$AC29),IF($O$33>20000000,MAX(AO21-1755000,0),IF($O$33>10000000,MAX(AO21-1855000,0),AO21-1955000)),\"\"))","v":""},{"$f":"IF(AP$21=\"\",\"\",IF(AND(SUM(AP$22)>=65,AP$21>=$AC29),IF($O$35>20000000,MAX(AP21-1755000,0),IF($O$35>10000000,MAX(AP21-1855000,0),AP21-1955000)),\"\"))","v":""},{"$f":"IF(AQ$21=\"\",\"\",IF(AND(SUM(AQ$22)>=65,AQ$21>=$AC29),IF($O$37>20000000,MAX(AQ21-1755000,0),IF($O$37>10000000,MAX(AQ21-1855000,0),AQ21-1955000)),\"\"))","v":""},{"$f":"IF(AR$21=\"\",\"\",IF(AND(SUM(AR$22)>=65,AR$21>=$AC29),IF($O$39>20000000,MAX(AR21-1755000,0),IF($O$39>10000000,MAX(AR21-1855000,0),AR21-1955000)),\"\"))","v":""}]
[null,null,null,null,null,null,null,null,null,null,null,null,null,null,null,null,null,null,null,null,null,null,null,null,null,null,null,"６５歳未満",0,600000,"0円or〈～100,000円〉or《～200,000円》",null,null,null,{"$f":"IF(AI$21=\"\",\"\",IF(AND(SUM(AI$22)<65,AI$21>=$AC30,AI$21<=$AD30),IF($O$21>20000000,MAX(AI21-400000,0),IF($O$21>10000000,MAX(AI21-500000,0),0)),\"\"))","v":""},{"$f":"IF(AJ$21=\"\",\"\",IF(AND(SUM(AJ$22)<65,AJ$21>=$AC30,AJ$21<=$AD30),IF($O$23>20000000,MAX(AJ21-400000,0),IF($O$23>10000000,MAX(AJ21-500000,0),0)),\"\"))","v":""},{"$f":"IF(AK$21=\"\",\"\",IF(AND(SUM(AK$22)<65,AK$21>=$AC30,AK$21<=$AD30),IF($O$25>20000000,MAX(AK21-400000,0),IF($O$25>10000000,MAX(AK21-500000,0),0)),\"\"))","v":""},{"$f":"IF(AL$21=\"\",\"\",IF(AND(SUM(AL$22)<65,AL$21>=$AC30,AL$21<=$AD30),IF($O$27>20000000,MAX(AL21-400000,0),IF($O$27>10000000,MAX(AL21-500000,0),0)),\"\"))","v":""},{"$f":"IF(AM$21=\"\",\"\",IF(AND(SUM(AM$22)<65,AM$21>=$AC30,AM$21<=$AD30),IF($O$29>20000000,MAX(AM21-400000,0),IF($O$29>10000000,MAX(AM21-500000,0),0)),\"\"))","v":""},{"$f":"IF(AN$21=\"\",\"\",IF(AND(SUM(AN$22)<65,AN$21>=$AC30,AN$21<=$AD30),IF($O$31>20000000,MAX(AN21-400000,0),IF($O$31>10000000,MAX(AN21-500000,0),0)),\"\"))","v":""},{"$f":"IF(AO$21=\"\",\"\",IF(AND(SUM(AO$22)<65,AO$21>=$AC30,AO$21<=$AD30),IF($O$33>20000000,MAX(AO21-400000,0),IF($O$33>10000000,MAX(AO21-500000,0),0)),\"\"))","v":""},{"$f":"IF(AP$21=\"\",\"\",IF(AND(SUM(AP$22)<65,AP$21>=$AC30,AP$21<=$AD30),IF($O$35>20000000,MAX(AP21-400000,0),IF($O$35>10000000,MAX(AP21-500000,0),0)),\"\"))","v":""},{"$f":"IF(AQ$21=\"\",\"\",IF(AND(SUM(AQ$22)<65,AQ$21>=$AC30,AQ$21<=$AD30),IF($O$37>20000000,MAX(AQ21-400000,0),IF($O$37>10000000,MAX(AQ21-500000,0),0)),\"\"))","v":""},{"$f":"IF(AR$21=\"\",\"\",IF(AND(SUM(AR$22)<65,AR$21>=$AC30,AR$21<=$AD30),IF($O$39>20000000,MAX(AR21-400000,0),IF($O$39>10000000,MAX(AR21-500000,0),0)),\"\"))","v":""}]
[6,null,null,"年金所得に係る\n雑所得以外の\n合計所得金額",null,null,null,null,null,null,null,null,null,null,{"$f":"入力!DJ18","v":0},null,null,null,null,null,null,null,null,null,null,null,null,null,{"$f":"SUM(AD30,1)","v":600001},1299999,"(Ａ)－600,000円〈500,000〉《400,000》",null,null,null,{"$f":"IF(AI$21=\"\",\"\",IF(AND(SUM(AI$22)<65,AI$21>=$AC31,AI$21<=$AD31),IF($O$21>20000000,MAX(AI21-400000,0),IF($O$21>10000000,MAX(AI21-500000,0),AI21-600000)),\"\"))","v":""},{"$f":"IF(AJ$21=\"\",\"\",IF(AND(SUM(AJ$22)<65,AJ$21>=$AC31,AJ$21<=$AD31),IF($O$23>20000000,MAX(AJ21-400000,0),IF($O$23>10000000,MAX(AJ21-500000,0),AJ21-600000)),\"\"))","v":""},{"$f":"IF(AK$21=\"\",\"\",IF(AND(SUM(AK$22)<65,AK$21>=$AC31,AK$21<=$AD31),IF($O$25>20000000,MAX(AK21-400000,0),IF($O$25>10000000,MAX(AK21-500000,0),AK21-600000)),\"\"))","v":""},{"$f":"IF(AL$21=\"\",\"\",IF(AND(SUM(AL$22)<65,AL$21>=$AC31,AL$21<=$AD31),IF($O$27>20000000,MAX(AL21-400000,0),IF($O$27>10000000,MAX(AL21-500000,0),AL21-600000)),\"\"))","v":""},{"$f":"IF(AM$21=\"\",\"\",IF(AND(SUM(AM$22)<65,AM$21>=$AC31,AM$21<=$AD31),IF($O$29>20000000,MAX(AM21-400000,0),IF($O$29>10000000,MAX(AM21-500000,0),AM21-600000)),\"\"))","v":""},{"$f":"IF(AN$21=\"\",\"\",IF(AND(SUM(AN$22)<65,AN$21>=$AC31,AN$21<=$AD31),IF($O$31>20000000,MAX(AN21-400000,0),IF($O$31>10000000,MAX(AN21-500000,0),AN21-600000)),\"\"))","v":""},{"$f":"IF(AO$21=\"\",\"\",IF(AND(SUM(AO$22)<65,AO$21>=$AC31,AO$21<=$AD31),IF($O$33>20000000,MAX(AO21-400000,0),IF($O$33>10000000,MAX(AO21-500000,0),AO21-600000)),\"\"))","v":""},{"$f":"IF(AP$21=\"\",\"\",IF(AND(SUM(AP$22)<65,AP$21>=$AC31,AP$21<=$AD31),IF($O$35>20000000,MAX(AP21-400000,0),IF($O$35>10000000,MAX(AP21-500000,0),AP21-600000)),\"\"))","v":""},{"$f":"IF(AQ$21=\"\",\"\",IF(AND(SUM(AQ$22)<65,AQ$21>=$AC31,AQ$21<=$AD31),IF($O$37>20000000,MAX(AQ21-400000,0),IF($O$37>10000000,MAX(AQ21-500000,0),AQ21-600000)),\"\"))","v":""},{"$f":"IF(AR$21=\"\",\"\",IF(AND(SUM(AR$22)<65,AR$21>=$AC31,AR$21<=$AD31),IF($O$39>20000000,MAX(AR21-400000,0),IF($O$39>10000000,MAX(AR21-500000,0),AR21-600000)),\"\"))","v":""}]
[null,null,null,null,null,null,null,null,null,null,null,null,null,null,null,null,null,null,null,null,null,null,null,null,null,null,null,null,{"$f":"SUM(AD31,1)","v":1300000},4099999,"(Ａ)×75％－275,000円〈175,000〉《75,000》",null,null,null,{"$f":"IF(AI$21=\"\",\"\",IF(AND(SUM(AI$22)<65,AI$21>=$AC32,AI$21<=$AD32),IF($O$21>20000000,ROUNDDOWN(AI$21*75/100,0)-75000,IF($O$21>10000000,ROUNDDOWN(AI$21*75/100,0)-175000,ROUNDDOWN(AI$21*75/100,0)-275000)),\"\"))","v":""},{"$f":"IF(AJ$21=\"\",\"\",IF(AND(SUM(AJ$22)<65,AJ$21>=$AC32,AJ$21<=$AD32),IF($O$23>20000000,ROUNDDOWN(AJ$21*75/100,0)-75000,IF($O$23>10000000,ROUNDDOWN(AJ$21*75/100,0)-175000,ROUNDDOWN(AJ$21*75/100,0)-275000)),\"\"))","v":""},{"$f":"IF(AK$21=\"\",\"\",IF(AND(SUM(AK$22)<65,AK$21>=$AC32,AK$21<=$AD32),IF($O$25>20000000,ROUNDDOWN(AK$21*75/100,0)-75000,IF($O$25>10000000,ROUNDDOWN(AK$21*75/100,0)-175000,ROUNDDOWN(AK$21*75/100,0)-275000)),\"\"))","v":""},{"$f":"IF(AL$21=\"\",\"\",IF(AND(SUM(AL$22)<65,AL$21>=$AC32,AL$21<=$AD32),IF($O$27>20000000,ROUNDDOWN(AL$21*75/100,0)-75000,IF($O$27>10000000,ROUNDDOWN(AL$21*75/100,0)-175000,ROUNDDOWN(AL$21*75/100,0)-275000)),\"\"))","v":""},{"$f":"IF(AM$21=\"\",\"\",IF(AND(SUM(AM$22)<65,AM$21>=$AC32,AM$21<=$AD32),IF($O$29>20000000,ROUNDDOWN(AM$21*75/100,0)-75000,IF($O$29>10000000,ROUNDDOWN(AM$21*75/100,0)-175000,ROUNDDOWN(AM$21*75/100,0)-275000)),\"\"))","v":""},{"$f":"IF(AN$21=\"\",\"\",IF(AND(SUM(AN$22)<65,AN$21>=$AC32,AN$21<=$AD32),IF($O$31>20000000,ROUNDDOWN(AN$21*75/100,0)-75000,IF($O$31>10000000,ROUNDDOWN(AN$21*75/100,0)-175000,ROUNDDOWN(AN$21*75/100,0)-275000)),\"\"))","v":""},{"$f":"IF(AO$21=\"\",\"\",IF(AND(SUM(AO$22)<65,AO$21>=$AC32,AO$21<=$AD32),IF($O$33>20000000,ROUNDDOWN(AO$21*75/100,0)-75000,IF($O$33>10000000,ROUNDDOWN(AO$21*75/100,0)-175000,ROUNDDOWN(AO$21*75/100,0)-275000)),\"\"))","v":""},{"$f":"IF(AP$21=\"\",\"\",IF(AND(SUM(AP$22)<65,AP$21>=$AC32,AP$21<=$AD32),IF($O$35>20000000,ROUNDDOWN(AP$21*75/100,0)-75000,IF($O$35>10000000,ROUNDDOWN(AP$21*75/100,0)-175000,ROUNDDOWN(AP$21*75/100,0)-275000)),\"\"))","v":""},{"$f":"IF(AQ$21=\"\",\"\",IF(AND(SUM(AQ$22)<65,AQ$21>=$AC32,AQ$21<=$AD32),IF($O$37>20000000,ROUNDDOWN(AQ$21*75/100,0)-75000,IF($O$37>10000000,ROUNDDOWN(AQ$21*75/100,0)-175000,ROUNDDOWN(AQ$21*75/100,0)-275000)),\"\"))","v":""},{"$f":"IF(AR$21=\"\",\"\",IF(AND(SUM(AR$22)<65,AR$21>=$AC32,AR$21<=$AD32),IF($O$39>20000000,ROUNDDOWN(AR$21*75/100,0)-75000,IF($O$39>10000000,ROUNDDOWN(AR$21*75/100,0)-175000,ROUNDDOWN(AR$21*75/100,0)-275000)),\"\"))","v":""}]
[7,null,null,"年金所得に係る\n雑所得以外の\n合計所得金額",null,null,null,null,null,null,null,null,null,null,{"$f":"入力!DJ19","v":0},null,null,null,null,null,null,null,null,null,null,null,null,null,{"$f":"SUM(AD32,1)","v":4100000},7699999,"(Ａ)×85％－785,000円〈585,000〉《485,000》",null,null,null,{"$f":"IF(AI$21=\"\",\"\",IF(AND(SUM(AI$22)<65,AI$21>=$AC33,AI$21<=$AD33),IF($O$21>20000000,ROUNDDOWN(AI$21*85/100,0)-485000,IF($O$21>10000000,ROUNDDOWN(AI$21*85/100,0)-585000,ROUNDDOWN(AI$21*85/100,0)-685000)),\"\"))","v":""},{"$f":"IF(AJ$21=\"\",\"\",IF(AND(SUM(AJ$22)<65,AJ$21>=$AC33,AJ$21<=$AD33),IF($O$23>20000000,ROUNDDOWN(AJ$21*85/100,0)-485000,IF($O$23>10000000,ROUNDDOWN(AJ$21*85/100,0)-585000,ROUNDDOWN(AJ$21*85/100,0)-685000)),\"\"))","v":""},{"$f":"IF(AK$21=\"\",\"\",IF(AND(SUM(AK$22)<65,AK$21>=$AC33,AK$21<=$AD33),IF($O$25>20000000,ROUNDDOWN(AK$21*85/100,0)-485000,IF($O$25>10000000,ROUNDDOWN(AK$21*85/100,0)-585000,ROUNDDOWN(AK$21*85/100,0)-685000)),\"\"))","v":""},{"$f":"IF(AL$21=\"\",\"\",IF(AND(SUM(AL$22)<65,AL$21>=$AC33,AL$21<=$AD33),IF($O$27>20000000,ROUNDDOWN(AL$21*85/100,0)-485000,IF($O$27>10000000,ROUNDDOWN(AL$21*85/100,0)-585000,ROUNDDOWN(AL$21*85/100,0)-685000)),\"\"))","v":""},{"$f":"IF(AM$21=\"\",\"\",IF(AND(SUM(AM$22)<65,AM$21>=$AC33,AM$21<=$AD33),IF($O$29>20000000,ROUNDDOWN(AM$21*85/100,0)-485000,IF($O$29>10000000,ROUNDDOWN(AM$21*85/100,0)-585000,ROUNDDOWN(AM$21*85/100,0)-685000)),\"\"))","v":""},{"$f":"IF(AN$21=\"\",\"\",IF(AND(SUM(AN$22)<65,AN$21>=$AC33,AN$21<=$AD33),IF($O$31>20000000,ROUNDDOWN(AN$21*85/100,0)-485000,IF($O$31>10000000,ROUNDDOWN(AN$21*85/100,0)-585000,ROUNDDOWN(AN$21*85/100,0)-685000)),\"\"))","v":""},{"$f":"IF(AO$21=\"\",\"\",IF(AND(SUM(AO$22)<65,AO$21>=$AC33,AO$21<=$AD33),IF($O$33>20000000,ROUNDDOWN(AO$21*85/100,0)-485000,IF($O$33>10000000,ROUNDDOWN(AO$21*85/100,0)-585000,ROUNDDOWN(AO$21*85/100,0)-685000)),\"\"))","v":""},{"$f":"IF(AP$21=\"\",\"\",IF(AND(SUM(AP$22)<65,AP$21>=$AC33,AP$21<=$AD33),IF($O$35>20000000,ROUNDDOWN(AP$21*85/100,0)-485000,IF($O$35>10000000,ROUNDDOWN(AP$21*85/100,0)-585000,ROUNDDOWN(AP$21*85/100,0)-685000)),\"\"))","v":""},{"$f":"IF(AQ$21=\"\",\"\",IF(AND(SUM(AQ$22)<65,AQ$21>=$AC33,AQ$21<=$AD33),IF($O$37>20000000,ROUNDDOWN(AQ$21*85/100,0)-485000,IF($O$37>10000000,ROUNDDOWN(AQ$21*85/100,0)-585000,ROUNDDOWN(AQ$21*85/100,0)-685000)),\"\"))","v":""},{"$f":"IF(AR$21=\"\",\"\",IF(AND(SUM(AR$22)<65,AR$21>=$AC33,AR$21<=$AD33),IF($O$39>20000000,ROUNDDOWN(AR$21*85/100,0)-485000,IF($O$39>10000000,ROUNDDOWN(AR$21*85/100,0)-585000,ROUNDDOWN(AR$21*85/100,0)-685000)),\"\"))","v":""}]
[null,null,null,null,null,null,null,null,null,null,null,null,null,null,null,null,null,null,null,null,null,null,null,null,null,null,null,null,{"$f":"SUM(AD33,1)","v":7700000},9999999,"(Ａ)×95％－1,555,000円〈1,855,000〉《1,755,000》",null,null,null,{"$f":"IF(AI$21=\"\",\"\",IF(AND(SUM(AI$22)<65,AI$21>=$AC34,AI$21<=$AD34),IF($O$21>20000000,ROUNDDOWN(AI$21*95/100,0)-1255000,IF($O$21>10000000,ROUNDDOWN(AI$21*95/100,0)-1355000,ROUNDDOWN(AI$21*95/100,0)-1455000)),\"\"))","v":""},{"$f":"IF(AJ$21=\"\",\"\",IF(AND(SUM(AJ$22)<65,AJ$21>=$AC34,AJ$21<=$AD34),IF($O$23>20000000,ROUNDDOWN(AJ$21*95/100,0)-1255000,IF($O$23>10000000,ROUNDDOWN(AJ$21*95/100,0)-1355000,ROUNDDOWN(AJ$21*95/100,0)-1455000)),\"\"))","v":""},{"$f":"IF(AK$21=\"\",\"\",IF(AND(SUM(AK$22)<65,AK$21>=$AC34,AK$21<=$AD34),IF($O$25>20000000,ROUNDDOWN(AK$21*95/100,0)-1255000,IF($O$25>10000000,ROUNDDOWN(AK$21*95/100,0)-1355000,ROUNDDOWN(AK$21*95/100,0)-1455000)),\"\"))","v":""},{"$f":"IF(AL$21=\"\",\"\",IF(AND(SUM(AL$22)<65,AL$21>=$AC34,AL$21<=$AD34),IF($O$27>20000000,ROUNDDOWN(AL$21*95/100,0)-1255000,IF($O$27>10000000,ROUNDDOWN(AL$21*95/100,0)-1355000,ROUNDDOWN(AL$21*95/100,0)-1455000)),\"\"))","v":""},{"$f":"IF(AM$21=\"\",\"\",IF(AND(SUM(AM$22)<65,AM$21>=$AC34,AM$21<=$AD34),IF($O$29>20000000,ROUNDDOWN(AM$21*95/100,0)-1255000,IF($O$29>10000000,ROUNDDOWN(AM$21*95/100,0)-1355000,ROUNDDOWN(AM$21*95/100,0)-1455000)),\"\"))","v":""},{"$f":"IF(AN$21=\"\",\"\",IF(AND(SUM(AN$22)<65,AN$21>=$AC34,AN$21<=$AD34),IF($O$31>20000000,ROUNDDOWN(AN$21*95/100,0)-1255000,IF($O$31>10000000,ROUNDDOWN(AN$21*95/100,0)-1355000,ROUNDDOWN(AN$21*95/100,0)-1455000)),\"\"))","v":""},{"$f":"IF(AO$21=\"\",\"\",IF(AND(SUM(AO$22)<65,AO$21>=$AC34,AO$21<=$AD34),IF($O$33>20000000,ROUNDDOWN(AO$21*95/100,0)-1255000,IF($O$33>10000000,ROUNDDOWN(AO$21*95/100,0)-1355000,ROUNDDOWN(AO$21*95/100,0)-1455000)),\"\"))","v":""},{"$f":"IF(AP$21=\"\",\"\",IF(AND(SUM(AP$22)<65,AP$21>=$AC34,AP$21<=$AD34),IF($O$35>20000000,ROUNDDOWN(AP$21*95/100,0)-1255000,IF($O$35>10000000,ROUNDDOWN(AP$21*95/100,0)-1355000,ROUNDDOWN(AP$21*95/100,0)-1455000)),\"\"))","v":""},{"$f":"IF(AQ$21=\"\",\"\",IF(AND(SUM(AQ$22)<65,AQ$21>=$AC34,AQ$21<=$AD34),IF($O$37>20000000,ROUNDDOWN(AQ$21*95/100,0)-1255000,IF($O$37>10000000,ROUNDDOWN(AQ$21*95/100,0)-1355000,ROUNDDOWN(AQ$21*95/100,0)-1455000)),\"\"))","v":""},{"$f":"IF(AR$21=\"\",\"\",IF(AND(SUM(AR$22)<65,AR$21>=$AC34,AR$21<=$AD34),IF($O$39>20000000,ROUNDDOWN(AR$21*95/100,0)-1255000,IF($O$39>10000000,ROUNDDOWN(AR$21*95/100,0)-1355000,ROUNDDOWN(AR$21*95/100,0)-1455000)),\"\"))","v":""}]
[8,null,null,"年金所得に係る\n雑所得以外の\n合計所得金額",null,null,null,null,null,null,null,null,null,null,{"$f":"入力!DJ20","v":0},null,null,null,null,null,null,null,null,null,null,null,null,null,10000000,null,"(Ａ)－1,955,000円〈1,855,000〉《1,755,000》",null,null,null,{"$f":"IF(AI$21=\"\",\"\",IF(AND(SUM(AI$22)<65,AI$21>=$AC35),IF($O$21>20000000,MAX(AI21-1755000,0),IF($O$21>10000000,MAX(AI21-1855000,0),AI21-1955000)),\"\"))","v":""},{"$f":"IF(AJ$21=\"\",\"\",IF(AND(SUM(AJ$22)<65,AJ$21>=$AC35),IF($O$23>20000000,MAX(AJ21-1755000,0),IF($O$23>10000000,MAX(AJ21-1855000,0),AJ21-1955000)),\"\"))","v":""},{"$f":"IF(AK$21=\"\",\"\",IF(AND(SUM(AK$22)<65,AK$21>=$AC35),IF($O$25>20000000,MAX(AK21-1755000,0),IF($O$25>10000000,MAX(AK21-1855000,0),AK21-1955000)),\"\"))","v":""},{"$f":"IF(AL$21=\"\",\"\",IF(AND(SUM(AL$22)<65,AL$21>=$AC35),IF($O$27>20000000,MAX(AL21-1755000,0),IF($O$27>10000000,MAX(AL21-1855000,0),AL21-1955000)),\"\"))","v":""},{"$f":"IF(AM$21=\"\",\"\",IF(AND(SUM(AM$22)<65,AM$21>=$AC35),IF($O$29>20000000,MAX(AM21-1755000,0),IF($O$29>10000000,MAX(AM21-1855000,0),AM21-1955000)),\"\"))","v":""},{"$f":"IF(AN$21=\"\",\"\",IF(AND(SUM(AN$22)<65,AN$21>=$AC35),IF($O$31>20000000,MAX(AN21-1755000,0),IF($O$31>10000000,MAX(AN21-1855000,0),AN21-1955000)),\"\"))","v":""},{"$f":"IF(AO$21=\"\",\"\",IF(AND(SUM(AO$22)<65,AO$21>=$AC35),IF($O$33>20000000,MAX(AO21-1755000,0),IF($O$33>10000000,MAX(AO21-1855000,0),AO21-1955000)),\"\"))","v":""},{"$f":"IF(AP$21=\"\",\"\",IF(AND(SUM(AP$22)<65,AP$21>=$AC35),IF($O$35>20000000,MAX(AP21-1755000,0),IF($O$35>10000000,MAX(AP21-1855000,0),AP21-1955000)),\"\"))","v":""},{"$f":"IF(AQ$21=\"\",\"\",IF(AND(SUM(AQ$22)<65,AQ$21>=$AC35),IF($O$37>20000000,MAX(AQ21-1755000,0),IF($O$37>10000000,MAX(AQ21-1855000,0),AQ21-1955000)),\"\"))","v":""},{"$f":"IF(AR$21=\"\",\"\",IF(AND(SUM(AR$22)<65,AR$21>=$AC35),IF($O$39>20000000,MAX(AR21-1755000,0),IF($O$39>10000000,MAX(AR21-1855000,0),AR21-1955000)),\"\"))","v":""}]
[null,null,null,null,null,null,null,null,null,null,null,null,null,null,null,null,null,null,null,null,null,null,null,null,null,null,null,"軽減判定の際６５歳以上は，年金所得から１５万円引く　⇒　⇒　⇒　⇒　⇒",null,null,null,null,null,{"$f":"SUM(AI36:AR36)","v":0},{"$f":"IF(SUM(AI22)>=65,IF(SUM(AI23)>150000,150000,SUM(AI23)),\"\")","v":""},{"$f":"IF(SUM(AJ22)>=65,IF(SUM(AJ23)>150000,150000,SUM(AJ23)),\"\")","v":""},"","","","","","","",""]
[9,null,null,"年金所得に係る\n雑所得以外の\n合計所得金額",null,null,null,null,null,null,null,null,null,null,{"$f":"入力!DJ21","v":0}]
[]
[10,null,null,"年金所得に係る\n雑所得以外の\n合計所得金額",null,null,null,null,null,null,null,null,null,null,{"$f":"入力!DJ22","v":0}]

{"sheet":"軽減について","index":5,"n_rows":48,"n_cols":22,"rows_kept":48,"cut":false,"hidden":true,"merged":[[33,13,34,15],[31,4,32,8],[33,4,34,8],[12,3,13,11],[14,3,15,11],[30,2,30,8],[12,15,13,17],[16,9,17,11],[16,3,19,8],[18,9,19,11],[20,3,21,8],[20,9,20,11],[21,9,21,11],[5,3,7,11],[16,15,17,17],[41,13,42,15],[35,13,36,15],[37,11,38,15],[37,4,38,8],[35,4,36,8],[31,16,32,35],[33,16,36,35],[31,2,36,3],[33,11,36,12],[31,11,32,12],[31,13,32,15],[8,3,9,11],[10,3,11,11],[30,11,30,15],[47,4,48,8],[47,11,48,15],[45,11,46,12],[41,11,44,12],[40,2,40,8],[40,11,40,15],[41,2,46,3],[45,16,46,35],[41,16,44,35],[43,4,44,8],[43,13,44,15],[45,4,46,8],[45,13,46,15],[41,4,42,8],[10,21,11,35],[8,21,9,35],[12,21,13,35],[14,21,15,35],[5,21,7,35],[12,18,13,20],[14,12,15,14],[14,15,15,17],[14,18,15,20],[8,18,9,20],[10,18,11,20],[10,12,11,14],[10,15,11,17],[12,12,13,14],[7,18,7,20],[5,12,6,17],[5,18,6,20],[8,12,9,14],[8,15,9,17],[7,15,7,17],[7,12,7,14],[16,21,17,35],[20,12,21,14],[18,15,19,17],[18,18,19,20],[18,21,19,35],[20,15,20,17],[20,21,20,35],[21,21,21,35],[20,18,20,20],[21,15,21,17],[16,12,19,14],[21,18,21,20],[16,18,17,20]]}
[null,"軽減判定基準額（２・５・７割軽減）について"]
[null,"　１　判定となる世帯の所得金額とは，擬主を含む世帯主，被保険者及び特定同一世帯所属者数の"]
[null,"　　　所得の合計額"]
[null,"　２　国民健康保険に加入したまま，７５歳を迎えることにより後期高齢者医療制度へ移行した方"]
[null,"　　　を，特定同一世帯所属者と言います。"]
[null,null,null,null,null,null,null,null,null,null,null,null,"軽減判定対象",null,null,null,null,null,"所得割\n計算対象",null,null,"備考"]
[]
[null,null,null,null,null,null,null,null,null,null,null,null,"人数",null,null,"所得",null,null,"所得"]
[null,null,null,"世帯主（被保険者）",null,null,null,null,null,null,null,null,"○",null,null,"○",null,null,"○"]
[]
[null,null,null,"擬主",null,null,null,null,null,null,null,null,"×",null,null,"○",null,null,"×",null,null,"擬主は軽減判定の際，所得金額は関係するが，人数には入れない。"]
[]
[null,null,null,"その他被保険者",null,null,null,null,null,null,null,null,"○",null,null,"○",null,null,"○"]
[]
[null,null,null,"特定同一世帯所属者",null,null,null,null,null,null,null,null,"○",null,null,"○",null,null,"×"]
[]
[null,null,null,"専従者\n給与（控除）",null,null,null,null,null,"主",null,null,"－",null,null,"○\n収入",null,null,"×",null,null,"所得割：経費OR控除後\n軽減：専従者給与収入金額を判定所得に入れる"]
[]
[null,null,null,null,null,null,null,null,null,"専従者",null,null,null,null,null,"×",null,null,"○",null,null,"所得割：給与収入として給与所得が計算対象\n軽減：対象外（対象所得に入れない）"]
[]
[null,null,null,"損失の繰越控除",null,null,null,null,null,"純",null,null,"－",null,null,"○",null,null,"×",null,null,"所得割：繰越控除後，軽減：繰越控除後"]
[null,null,null,null,null,null,null,null,null,"雑",null,null,null,null,null,"○",null,null,"○",null,null,"所得割：繰越控除前，軽減：繰越控除後"]
[]
[null,"特定世帯及び特定継続世帯の平等割額の軽減について"]
[null,"　１　特定同一世帯所属者になられたことによって，国保加入者が一人になる世帯は，特定同一世"]
[null,"　　　帯所属者になられた月から５年間，国民健康保険税のうち平等割額の２分の１が軽減されま"]
[null,"　　　す（特定世帯）。"]
[null,"　　　また，５年を経過した後も３年間，平等割額の４分の１が軽減されます（特定継続世帯）。"]
[]
[null,"《２・５・７割軽減と特定世帯及び特定継続世帯の平等割額の軽減の例》"]
[null,null,"当年度",null,null,null,null,null,null,null,null,"８月"]
[null,null,"国保",null,"Ａ\n8月で75歳",null,null,null,null,null,null,"後期\n高齢",null,"Ａ",null,null,"特定同一世帯所属者\n　国民健康保険に加入したまま，７５歳を迎えることにより後期高齢者医療制度へ移行した方を，特定同一世帯所属者という。"]
[]
[null,null,null,null,"Ｂ\n10月で74歳",null,null,null,null,null,null,"国保",null,"Ｂ",null,null,"２・５・７割軽減の判定（4/1時点）～判定人数：Ａ・Ｂ・Ｃの３人\n※年度途中に特定同一世帯所属者が出ても再判定しない。\n\n※特定世帯及び特定継続世帯の平等割額の軽減にはならない。"]
[]
[null,null,null,null,"Ｃ\n6月で60歳",null,null,null,null,null,null,null,null,"Ｃ"]
[]
[null,null,null,null,"年度当初は，３人が国保",null,null,null,null,null,null,"８月から２人が国保"]
[]
[]
[null,null,"次年度",null,null,null,null,null,null,null,null,"10月"]
[null,null,"国保",null,"Ａ\n8月で76歳",null,null,null,null,null,null,"後期\n高齢",null,"Ａ",null,null,"特定同一世帯所属者\n　国民健康保険に加入したまま，７５歳を迎えることにより後期高齢者医療制度へ移行した方を，特定同一世帯所属者という。"]
[]
[null,null,null,null,"Ｂ\n10月で75歳",null,null,null,null,null,null,null,null,"Ｂ"]
[]
[null,null,null,null,"Ｃ\n6月で61歳",null,null,null,null,null,null,"国保",null,"Ｃ",null,null,"２・５・７割軽減の判定（4/1時点）～判定人数：Ａ・Ｂ・Ｃの３人\n※年度途中に特定同一世帯所属者が出ても再判定しない。\n　Ａは昨年度に特定同一世帯所属者となったが，判定に含める。\n※特定世帯及び特定継続世帯の平等割額の軽減を受けることになる。"]
[]
[null,null,null,null,"年度当初は，２人が国保，後期高齢は１人",null,null,null,null,null,null,"１０月から１人のみ国保"]

{"sheet":"基礎控除","index":6,"n_rows":12,"n_cols":8,"rows_kept":12,"cut":false,"hidden":true,"merged":[[1,1,1,2],[1,3,2,3]]}
[]
[null,"合計所得金額",null,"基礎控除額",null,"被保険者","合計所得金額","基礎控除額"]
[null,"から","まで",null,null,1,{"$f":"IF(入力!DC13=\"\",\"\",入力!DC13)","v":""},{"$f":"IF($G3=\"\",\"\",VLOOKUP($G3,$B$4:$D$7,3,TRUE))","v":""}]
[null,0,24000000,430000,null,2,{"$f":"IF(入力!DC14=\"\",\"\",入力!DC14)","v":""},{"$f":"IF($G4=\"\",\"\",VLOOKUP($G4,$B$4:$D$7,3,TRUE))","v":""}]
[null,{"$f":"C4+1","v":24000001},24500000,290000,null,3,{"$f":"IF(入力!DC15=\"\",\"\",入力!DC15)","v":""},""]
[null,{"$f":"C5+1","v":24500001},25000000,150000,null,4,{"$f":"IF(入力!DC16=\"\",\"\",入力!DC16)","v":""},""]
[null,{"$f":"C6+1","v":25000001},null,0,null,5,{"$f":"IF(入力!DC17=\"\",\"\",入力!DC17)","v":""},""]
[null,null,null,null,null,6,{"$f":"IF(入力!DC18=\"\",\"\",入力!DC18)","v":""},""]
[null,null,null,null,null,7,{"$f":"IF(入力!DC19=\"\",\"\",入力!DC19)","v":""},""]
[null,null,null,null,null,8,{"$f":"IF(入力!DC20=\"\",\"\",入力!DC20)","v":""},""]
[null,null,null,null,null,9,{"$f":"IF(入力!DC21=\"\",\"\",入力!DC21)","v":""},""]
[null,null,null,null,null,10,{"$f":"IF(入力!DC22=\"\",\"\",入力!DC22)","v":""},""]

{"sheet":"未就学児","index":7,"n_rows":15,"n_cols":6,"rows_kept":15,"cut":false,"hidden":true,"merged":[[3,1,4,1],[3,2,4,2],[3,3,4,3],[3,4,4,4],[3,5,4,5]]}
[]
[null,null,{"$f":"基本項目!E2","v":"未就学児\n基準日"},{"$f":"基本項目!E3","v":"2025-04-01"}]
[]
[null,"被保険者","生年月日","年齢直接入力","未就学児基準日の年齢","未就学児\n判定"]
[]
[null,1,{"$f":"IF(入力!K13=\"\",\"\",入力!K13)","v":""},{"$f":"IF(入力!U13=\"\",\"\",入力!U13)","v":""},{"$f":"IF(AND(C6=\"\",D6=\"\"),\"\",IF(C6<>\"\",DATEDIF(C6,$D$2,\"y\"),D6))","v":""},{"$f":"IF(E6=\"\",\"\",IF(E6<=6,1,\"\"))","v":""}]
[null,2,{"$f":"IF(入力!K14=\"\",\"\",入力!K14)","v":""},{"$f":"IF(入力!U14=\"\",\"\",入力!U14)","v":""},{"$f":"IF(AND(C7=\"\",D7=\"\"),\"\",IF(C7<>\"\",DATEDIF(C7,$D$2,\"y\"),D7))","v":""},{"$f":"IF(E7=\"\",\"\",IF(E7<=6,1,\"\"))","v":""}]
[null,3,{"$f":"IF(入力!K15=\"\",\"\",入力!K15)","v":""},{"$f":"IF(入力!U15=\"\",\"\",入力!U15)","v":""},"",{"$f":"IF(E8=\"\",\"\",IF(E8<=6,1,\"\"))","v":""}]
[null,4,{"$f":"IF(入力!K16=\"\",\"\",入力!K16)","v":""},{"$f":"IF(入力!U16=\"\",\"\",入力!U16)","v":""},"",""]
[null,5,{"$f":"IF(入力!K17=\"\",\"\",入力!K17)","v":""},{"$f":"IF(入力!U17=\"\",\"\",入力!U17)","v":""},"",""]
[null,6,{"$f":"IF(入力!K18=\"\",\"\",入力!K18)","v":""},{"$f":"IF(入力!U18=\"\",\"\",入力!U18)","v":""},"",""]
[null,7,{"$f":"IF(入力!K19=\"\",\"\",入力!K19)","v":""},{"$f":"IF(入力!U19=\"\",\"\",入力!U19)","v":""},"",""]
[null,8,{"$f":"IF(入力!K20=\"\",\"\",入力!K20)","v":""},{"$f":"IF(入力!U20=\"\",\"\",入力!U20)","v":""},"",""]
[null,9,{"$f":"IF(入力!K21=\"\",\"\",入力!K21)","v":""},{"$f":"IF(入力!U21=\"\",\"\",入力!U21)","v":""},"",""]
[null,10,{"$f":"IF(入力!K22=\"\",\"\",入力!K22)","v":""},{"$f":"IF(入力!U22=\"\",\"\",入力!U22)","v":""},"",""]